Back to the "Multiple platform build/check report"
| NOTES: (1) a maintainance reboot of lemming prevented these builds to complete on this machine (2) these are the last builds with R 2.6.0 (2007-06-03 r41797) on lamb1 and lemming, next builds will be with R 2.6.0 (2007-06-10 r41908) configured with --enable-strict-barrier |
| Package 67/238 | Hostname | OS | Arch | BUILD | CHECK | BUILD BIN |
externalVector1.5.2Biocore TeamLast Changed Date: 2007-06-03 08:44:51 -0700 Last Changed Rev: 25133 | lamb1 | Linux (SUSE 10.1) | x86_64 | OK | ERROR | |
| wellington | Linux (SUSE 9.2) | i686 | [ OK ] | ERROR | ||
| churchill | Solaris 2.9 | sparc | OK | ERROR | ||
| lemming | Windows Server 2003 (32-bit) | x64 | OK | ERROR | skipped |
| Package: externalVector |
| Version: 1.5.2 |
| Command: /loc/biocbuild/bbs-2.1-bioc/R/bin/R CMD build externalVector |
| RetCode: 0 |
| Time: 5.8 seconds |
| Status: OK |
| PackageFile: externalVector_1.5.2.tar.gz |
* checking for file 'externalVector/DESCRIPTION' ... OK * preparing 'externalVector': * checking DESCRIPTION meta-information ... OK * cleaning src * removing junk files * checking for LF line-endings in source files * checking for empty or unneeded directories * building 'externalVector_1.5.2.tar.gz'