Back to the "Multiple platform build/check report"
| NOTES: (1) a maintainance reboot of lemming prevented these builds to complete on this machine (2) these are the last builds with R 2.6.0 (2007-06-03 r41797) on lamb1 and lemming, next builds will be with R 2.6.0 (2007-06-10 r41908) configured with --enable-strict-barrier | 
| Package 172/238 | Hostname | OS | Arch | BUILD | CHECK | BUILD BIN | 
| prada1.13.1Florian HahneLast Changed Date: 2007-05-23 10:51:11 -0700 Last Changed Rev: 24935 | lamb1 | Linux (SUSE 10.1) | x86_64 | OK | OK | |
| wellington | Linux (SUSE 9.2) | i686 | [ OK ] | OK | ||
| churchill | Solaris 2.9 | sparc | OK | OK | ||
| lemming | Windows Server 2003 (32-bit) | x64 | OK | OK | skipped | 
| Package: prada | 
| Version: 1.13.1 | 
| Command: /loc/biocbuild/bbs-2.1-bioc/R/bin/R CMD build prada | 
| RetCode: 0 | 
| Time: 33.1 seconds | 
| Status: OK | 
| PackageFile: prada_1.13.1.tar.gz | 
* checking for file 'prada/DESCRIPTION' ... OK
* preparing 'prada':
* checking DESCRIPTION meta-information ... OK
* cleaning src
* installing the package to re-build vignettes
* Installing *source* package 'prada' ...
** libs
gcc -std=gnu99 -I/loc/biocbuild/bbs-2.1-bioc/R/include -I/loc/biocbuild/bbs-2.1-bioc/R/include  -I/usr/local/include    -fpic  -g -O2 -Wall -c inPolygon.c -o inPolygon.o
gcc -std=gnu99 -shared -L/usr/local/lib -o prada.so inPolygon.o   -L/loc/biocbuild/bbs-2.1-bioc/R/lib -lR
** R
** data
** inst
** preparing package for lazy loading
Loading required package: Biobase
Loading required package: tools
Welcome to Bioconductor
  Vignettes contain introductory material. To view, type
  'openVignette()'. To cite Bioconductor, see
  'citation("Biobase")' and for packages 'citation(pkgname)'.
Loading required package: RColorBrewer
Loading required package: grid
Scalable Robust Estimators with High Breakdown Point (version 0.3-05)
KernSmooth 2.22 installed
Copyright M. P. Wand 1997
** help
Note: unmatched right brace in 'fitNorm2' on or after line 24
Note: unmatched right brace in 'fitNorm2' on or after line 38
 >>> Building/Updating help pages for package 'prada'
     Formats: text html latex example 
  analysePlate                      text    html    latex   example
  as.all                            text    html    latex   example
  barploterrbar                     text    html    latex   example
  combineFrames                     text    html    latex   example
  csApply                           text    html    latex   example
  cytoFrame-class                   text    html    latex   example
  cytoSet-class                     text    html    latex   example
  data-cytoFrame                    text    html    latex   example
  data-cytoSet                      text    html    latex   example
  devDims                           text    html    latex   example
  devRes                            text    html    latex   example
  fitNorm2                          text    html    latex   example
  gate-class                        text    html    latex   example
  gateSet-class                     text    html    latex   example
  getPradaPar                       text    html    latex   example
  new-internal                      text    html    latex
  plotNorm2                         text    html    latex   example
  plotPlate                         text    html    latex   example
  readCytoSet                       text    html    latex   example
  readFCS                           text    html    latex   example
  readFCSaux                        text    html    latex   example
  removeCensored                    text    html    latex   example
  tcltkProgress                     text    html    latex   example
  threePanelPlot                    text    html    latex   example
  thresholds                        text    html    latex   example
  touchFCS                          text    html    latex
  vpLocation                        text    html    latex   example
** building package indices ...
Loading required package: methods
KernSmooth 2.22 installed
Copyright M. P. Wand 1997
* DONE (prada)
* creating vignettes ... OK
* cleaning src
* removing junk files
* checking for LF line-endings in source files
* checking for empty or unneeded directories
* building 'prada_1.13.1.tar.gz'