Back to the "Multiple platform build/check report"
| NOTES: (1) a maintainance reboot of lemming prevented these builds to complete on this machine (2) these are the last builds with R 2.6.0 (2007-06-03 r41797) on lamb1 and lemming, next builds will be with R 2.6.0 (2007-06-10 r41908) configured with --enable-strict-barrier |
| Package 141/238 | Hostname | OS | Arch | BUILD | CHECK | BUILD BIN |
MiPP1.9.0Sukwoo KimLast Changed Date: 2007-04-24 11:31:42 -0700 Last Changed Rev: 24217 | lamb1 | Linux (SUSE 10.1) | x86_64 | [ OK ] | OK | |
| wellington | Linux (SUSE 9.2) | i686 | OK | OK | ||
| churchill | Solaris 2.9 | sparc | OK | OK | ||
| lemming | Windows Server 2003 (32-bit) | x64 | OK | OK | skipped |
| Package: MiPP |
| Version: 1.9.0 |
| Command: /home/biocbuild/bbs-2.1-bioc/R/bin/R CMD build MiPP |
| RetCode: 0 |
| Time: 3.5 seconds |
| Status: OK |
| PackageFile: MiPP_1.9.0.tar.gz |
* checking for file 'MiPP/DESCRIPTION' ... OK
* preparing 'MiPP':
* checking DESCRIPTION meta-information ... OK
* checking whether 'INDEX' is up-to-date ... NO
* use '--force' to overwrite the existing 'INDEX'
* installing the package to re-build vignettes
* Installing *source* package 'MiPP' ...
** R
** data
** inst
** preparing package for lazy loading
Loading required package: Biobase
Loading required package: tools
Welcome to Bioconductor
Vignettes contain introductory material. To view, type
'openVignette()'. To cite Bioconductor, see
'citation("Biobase")' and for packages 'citation(pkgname)'.
Loading required package: e1071
Loading required package: class
Loading required package: MASS
** help
>>> Building/Updating help pages for package 'MiPP'
Formats: text html latex example
colon text html latex
cv.mipp.rule text html latex
get.mipp text html latex
get.mipp.lda text html latex
get.mipp.logistic text html latex
get.mipp.qda text html latex
get.mipp.svm.linear text html latex
get.mipp.svm.rbf text html latex
leuk1 text html latex
leuk2 text html latex
leukemia text html latex
linearkernel.decision.function text html latex
mipp text html latex example
mipp.preproc text html latex example
mipp.rule text html latex
mipp.seq text html latex example
pre.select text html latex
quant.normal text html latex
quant.normal2 text html latex
rbfkernel.decision.function text html latex
** building package indices ...
* DONE (MiPP)
* creating vignettes ... OK
* removing junk files
* checking for LF line-endings in source files
* checking for empty or unneeded directories
* building 'MiPP_1.9.0.tar.gz'