Back to the "Multiple platform build/check report"
NOTES: (1) a maintainance reboot of lemming prevented these builds to complete on this machine (2) these are the last builds with R 2.6.0 (2007-06-03 r41797) on lamb1 and lemming, next builds will be with R 2.6.0 (2007-06-10 r41908) configured with --enable-strict-barrier |
Package 220/238 | Hostname | OS | Arch | BUILD | CHECK | BUILD BIN |
splicegear1.9.0LaurentLast Changed Date: 2007-05-11 21:56:41 -0700 Last Changed Rev: 24616 | lamb1 | Linux (SUSE 10.1) | x86_64 | OK | WARNINGS | |
wellington | Linux (SUSE 9.2) | i686 | OK | WARNINGS | ||
churchill | Solaris 2.9 | sparc | [ ERROR ] | skipped | ||
lemming | Windows Server 2003 (32-bit) | x64 | OK | skipped | skipped |
Package: splicegear |
Version: 1.9.0 |
Command: /loc/biocbuild/bbs-2.1-bioc/R/bin/R CMD build splicegear |
RetCode: 1 |
Time: 6.0 seconds |
Status: ERROR |
PackageFile: None |
* checking for file 'splicegear/DESCRIPTION' ... OK * preparing 'splicegear': * checking DESCRIPTION meta-information ... OK * installing the package to re-build vignettes * Installing *source* package 'splicegear' ... ** R ** data ** inst ** preparing package for lazy loading Loading required package: grid Loading required package: Biobase Loading required package: tools Welcome to Bioconductor Vignettes contain introductory material. To view, type 'openVignette()'. To cite Bioconductor, see 'citation("Biobase")' and for packages 'citation(pkgname)'. Error: package 'XML' required by 'splicegear' could not be found Execution halted ERROR: lazy loading failed for package 'splicegear' ** Removing '/tmp/Rinst1345309653/splicegear' ERROR Installation failed. Removing '/tmp/Rinst1345309653'