Back to the "Multiple platform build/check report"
| NOTES: (1) a maintainance reboot of lemming prevented these builds to complete on this machine (2) these are the last builds with R 2.6.0 (2007-06-03 r41797) on lamb1 and lemming, next builds will be with R 2.6.0 (2007-06-10 r41908) configured with --enable-strict-barrier |
| Package 26/238 | Hostname | OS | Arch | BUILD | CHECK | BUILD BIN |
beadarray1.5.3Mark DunningLast Changed Date: 2007-05-31 05:36:45 -0700 Last Changed Rev: 25077 | lamb1 | Linux (SUSE 10.1) | x86_64 | OK | OK | |
| wellington | Linux (SUSE 9.2) | i686 | OK | OK | ||
| churchill | Solaris 2.9 | sparc | [ OK ] | OK | ||
| lemming | Windows Server 2003 (32-bit) | x64 | OK | OK | skipped |
| Package: beadarray |
| Version: 1.5.3 |
| Command: /loc/biocbuild/bbs-2.1-bioc/R/bin/R CMD build beadarray |
| RetCode: 0 |
| Time: 48.0 seconds |
| Status: OK |
| PackageFile: beadarray_1.5.3.tar.gz |
* checking for file 'beadarray/DESCRIPTION' ... OK
* preparing 'beadarray':
* checking DESCRIPTION meta-information ... OK
* cleaning src
* installing the package to re-build vignettes
* Installing *source* package 'beadarray' ...
** libs
gcc -std=gnu99 -I/loc/biocbuild/bbs-2.1-bioc/R/include -I/loc/biocbuild/bbs-2.1-bioc/R/include -I/usr/local/include -fPIC -g -O2 -Wall -c BLImagePlot.c -o BLImagePlot.o
gcc -std=gnu99 -I/loc/biocbuild/bbs-2.1-bioc/R/include -I/loc/biocbuild/bbs-2.1-bioc/R/include -I/usr/local/include -fPIC -g -O2 -Wall -c createBeadSummaryData.c -o createBeadSummaryData.o
createBeadSummaryData.c: In function 'findAllOutliers':
createBeadSummaryData.c:243: warning: 'status' may be used uninitialized in this function
gcc -std=gnu99 -I/loc/biocbuild/bbs-2.1-bioc/R/include -I/loc/biocbuild/bbs-2.1-bioc/R/include -I/usr/local/include -fPIC -g -O2 -Wall -c findProbeIndices.c -o findProbeIndices.o
gcc -std=gnu99 -I/loc/biocbuild/bbs-2.1-bioc/R/include -I/loc/biocbuild/bbs-2.1-bioc/R/include -I/usr/local/include -fPIC -g -O2 -Wall -c readBeadImages.c -o readBeadImages.o
readBeadImages.c: In function 'readBeadImage':
readBeadImages.c:555: warning: 'offset' may be used uninitialized in this function
readBeadImages.c:555: warning: 'records' may be used uninitialized in this function
readBeadImages.c:554: warning: 'StripOffset' may be used uninitialized in this function
readBeadImages.c:554: warning: 'ImageHeight' may be used uninitialized in this function
readBeadImages.c:554: warning: 'ImageWidth' may be used uninitialized in this function
readBeadImages.c:554: warning: 'BeginData' may be used uninitialized in this function
gcc -std=gnu99 -I/loc/biocbuild/bbs-2.1-bioc/R/include -I/loc/biocbuild/bbs-2.1-bioc/R/include -I/usr/local/include -fPIC -g -O2 -Wall -c returnTIFF.c -o returnTIFF.o
returnTIFF.c: In function 'readTIFF':
returnTIFF.c:18: warning: 'offset' may be used uninitialized in this function
returnTIFF.c:18: warning: 'records' may be used uninitialized in this function
returnTIFF.c:17: warning: 'StripOffset' may be used uninitialized in this function
returnTIFF.c:17: warning: 'ImageHeight' may be used uninitialized in this function
returnTIFF.c:17: warning: 'ImageWidth' may be used uninitialized in this function
returnTIFF.c:17: warning: 'BeginData' may be used uninitialized in this function
gcc -std=gnu99 -G -L/usr/local/lib -o beadarray.so BLImagePlot.o createBeadSummaryData.o findProbeIndices.o readBeadImages.o returnTIFF.o -L/loc/biocbuild/bbs-2.1-bioc/R/lib -lR
** R
** data
** inst
** preparing package for lazy loading
Loading required package: limma
Loading required package: Biobase
Loading required package: tools
Welcome to Bioconductor
Vignettes contain introductory material. To view, type
'openVignette()'. To cite Bioconductor, see
'citation("Biobase")' and for packages 'citation(pkgname)'.
Loading required package: geneplotter
Loading required package: annotate
Loading required package: AnnotationDbi
Loading required package: DBI
Loading required package: RSQLite
Loading required package: lattice
KernSmooth 2.22 installed
Copyright M. P. Wand 1997
Loading required package: affy
Loading required package: affyio
Loading required package: preprocessCore
Loading required package: beadarraySNP
Loading required package: quantsmooth
Loading required package: quantreg
Loading required package: SparseM
Package SparseM (0.72) loaded. To cite, see citation("SparseM")
Loading required package: lodplot
Loading required package: grid
** help
Note: unmatched right brace in 'boxplotBeads' on or after line 27
>>> Building/Updating help pages for package 'beadarray'
Formats: text html latex example
BLData text html latex
BSData text html latex
LargeDataObject text html latex example
QC text html latex example
arrayNames text html latex example
backgroundCorrect text html latex example
boxplotBeads text html latex example
class-BeadLevelList text html latex
class.ExpressionSetIllumina text html latex
combineBeadLevelLists text html latex
copyBeadLevelLists text html latex example
createBeadSummaryData text html latex example
displayTIFFImage text html latex example
findAllOutliers text html latex example
findBeadStatus text html latex example
getArrayData text html latex example
imageplot text html latex example
interactivePlots text html latex
medianNormalise text html latex example
numBeads text html latex example
plotBeadDensities text html latex example
plotBeadIntensities text html latex example
plotBeadLocations text html latex example
plotMA text html latex example
plotMAXY text html latex example
plotOnSAM text html latex
plotRG text html latex example
plotXY text html latex example
qcBeadLevel text html latex example
rankInvariantNormalise text html latex example
readBeadSummaryData text html latex example
readIllumina text html latex example
readQC text html latex example
** building package indices ...
* DONE (beadarray)
* creating vignettes ... OK
* cleaning src
* removing junk files
* checking for LF line-endings in source files
* checking for empty or unneeded directories
* building 'beadarray_1.5.3.tar.gz'