Back to the "Multiple platform build/check report"
| NOTES: (1) a maintainance reboot of lemming prevented these builds to complete on this machine (2) these are the last builds with R 2.6.0 (2007-06-03 r41797) on lamb1 and lemming, next builds will be with R 2.6.0 (2007-06-10 r41908) configured with --enable-strict-barrier |
| Package 91/238 | Hostname | OS | Arch | BUILD | CHECK | BUILD BIN |
gff3Plotter1.9.0Oleg SklyarLast Changed Date: 2007-05-11 21:56:41 -0700 Last Changed Rev: 24616 | lamb1 | Linux (SUSE 10.1) | x86_64 | OK | WARNINGS | |
| wellington | Linux (SUSE 9.2) | i686 | OK | WARNINGS | ||
| churchill | Solaris 2.9 | sparc | OK | WARNINGS | ||
| lemming | Windows Server 2003 (32-bit) | x64 | [ OK ] | WARNINGS | skipped |
| Package: gff3Plotter |
| Version: 1.9.0 |
| Command: D:\biocbld\bbs-2.1-bioc\R\bin\R.exe CMD build gff3Plotter |
| RetCode: 0 |
| Time: 12.5 seconds |
| Status: OK |
| PackageFile: gff3Plotter_1.9.0.tar.gz |
* checking for file 'gff3Plotter/DESCRIPTION' ... OK
* preparing 'gff3Plotter':
* checking DESCRIPTION meta-information ... OK
* installing the package to re-build vignettes
installing R.css in D:/biocbld/bbs-2.1-bioc/tmpdir/Rinst211277838
---------- Making package gff3Plotter ------------
adding build stamp to DESCRIPTION
installing R files
preparing package gff3Plotter for lazy loading
installing inst files
installing man source files
installing indices
installing help
Note: unmatched right brace in 'getTickCoords' on or after line 19
Note: unmatched right brace in 'getTickCoords.Rd' on or after line 19
Note: unmatched right brace in 'plot.gff' on or after line 34
Note: unmatched right brace in 'plot.gff.Rd' on or after line 34
Note: unmatched right brace in 'plot.gff.toFile' on or after line 25
Note: unmatched right brace in 'plot.gff.toFile.Rd' on or after line 25
>>> Building/Updating help pages for package 'gff3Plotter'
Formats: text html latex example chm
getAttr text html latex example chm
getTickCoords text html latex example chm
internals text html latex chm
plot.gff text html latex example chm
plot.gff.toFile text html latex example chm
read.gff text html latex example chm
Microsoft HTML Help Compiler 4.74.8702
Compiling d:\biocbld\bbs-2.1-bioc\meat\gff3Plotter\chm\gff3Plotter.chm
Compile time: 0 minutes, 0 seconds
7 Topics
27 Local links
1 Internet link
1 Graphic
Created d:\biocbld\bbs-2.1-bioc\meat\gff3Plotter\chm\gff3Plotter.chm, 24,588 bytes
Compression decreased file by 1,384 bytes.
adding MD5 sums
* DONE (gff3Plotter)
* creating vignettes ... OK
* removing junk files
* checking for LF line-endings in source files
* checking for empty or unneeded directories
* building 'gff3Plotter_1.9.0.tar.gz'