Back to the "Multiple platform build/check report"
| NOTES: (1) a maintainance reboot of lemming prevented these builds to complete on this machine (2) these are the last builds with R 2.6.0 (2007-06-03 r41797) on lamb1 and lemming, next builds will be with R 2.6.0 (2007-06-10 r41908) configured with --enable-strict-barrier |
| Package 210/238 | Hostname | OS | Arch | BUILD | CHECK | BUILD BIN |
seqLogo1.3.0Oliver BembomLast Changed Date: 2007-04-24 11:31:42 -0700 Last Changed Rev: 24217 | lamb1 | Linux (SUSE 10.1) | x86_64 | OK | OK | |
| wellington | Linux (SUSE 9.2) | i686 | OK | OK | ||
| churchill | Solaris 2.9 | sparc | OK | OK | ||
| lemming | Windows Server 2003 (32-bit) | x64 | [ OK ] | skipped | skipped |
| Package: seqLogo |
| Version: 1.3.0 |
| Command: D:\biocbld\bbs-2.1-bioc\R\bin\R.exe CMD build seqLogo |
| RetCode: 0 |
| Time: 16.3 seconds |
| Status: OK |
| PackageFile: seqLogo_1.3.0.tar.gz |
* checking for file 'seqLogo/DESCRIPTION' ... OK
* preparing 'seqLogo':
* checking DESCRIPTION meta-information ... OK
* installing the package to re-build vignettes
installing R.css in D:/biocbld/bbs-2.1-bioc/tmpdir/Rinst420826403
---------- Making package seqLogo ------------
adding build stamp to DESCRIPTION
installing NAMESPACE file and metadata
installing R files
preparing package seqLogo for lazy loading
Loading required package: grid
Creating a new generic function for "plot" in "seqLogo"
Creating a new generic function for "summary" in "seqLogo"
Creating a new generic function for "print" in "seqLogo"
installing inst files
installing man source files
installing indices
installing help
>>> Building/Updating help pages for package 'seqLogo'
Formats: text html latex example chm
makePWM text html latex example chm
pwm-class text html latex example chm
seqLogo text html latex example chm
Microsoft HTML Help Compiler 4.74.8702
Compiling d:\biocbld\bbs-2.1-bioc\meat\seqLogo\chm\seqLogo.chm
Compile time: 0 minutes, 0 seconds
4 Topics
10 Local links
0 Internet links
1 Graphic
Created d:\biocbld\bbs-2.1-bioc\meat\seqLogo\chm\seqLogo.chm, 18,154 bytes
Compression increased file by 5,135 bytes.
adding MD5 sums
* DONE (seqLogo)
* creating vignettes ... OK
* removing junk files
* checking for LF line-endings in source files
* checking for empty or unneeded directories
* building 'seqLogo_1.3.0.tar.gz'