Back to the "Multiple platform build/check report"
NOTES: (1) a maintainance reboot of lemming prevented these builds to complete on this machine (2) these are the last builds with R 2.6.0 (2007-06-03 r41797) on lamb1 and lemming, next builds will be with R 2.6.0 (2007-06-10 r41908) configured with --enable-strict-barrier |
Package 68/238 | Hostname | OS | Arch | BUILD | CHECK | BUILD BIN |
factDesign1.11.0Denise ScholtensLast Changed Date: 2007-04-24 11:31:42 -0700 Last Changed Rev: 24217 | lamb1 | Linux (SUSE 10.1) | x86_64 | OK | OK | |
wellington | Linux (SUSE 9.2) | i686 | OK | OK | ||
churchill | Solaris 2.9 | sparc | OK | OK | ||
lemming | Windows Server 2003 (32-bit) | x64 | [ OK ] | OK | skipped |
Package: factDesign |
Version: 1.11.0 |
Command: D:\biocbld\bbs-2.1-bioc\R\bin\R.exe CMD build factDesign |
RetCode: 0 |
Time: 27.5 seconds |
Status: OK |
PackageFile: factDesign_1.11.0.tar.gz |
* checking for file 'factDesign/DESCRIPTION' ... OK * preparing 'factDesign': * checking DESCRIPTION meta-information ... OK * checking whether 'INDEX' is up-to-date ... NO * use '--force' to overwrite the existing 'INDEX' * installing the package to re-build vignettes installing R.css in D:/biocbld/bbs-2.1-bioc/tmpdir/Rinst651285217 ---------- Making package factDesign ------------ adding build stamp to DESCRIPTION installing R files installing inst files installing data files installing man source files installing indices not zipping data installing help >>> Building/Updating help pages for package 'factDesign' Formats: text html latex example chm contrasts text html latex example chm estrogen text html latex example chm findFC text html latex example chm kRepsOverA text html latex example chm outliers text html latex example chm Microsoft HTML Help Compiler 4.74.8702 Compiling d:\biocbld\bbs-2.1-bioc\meat\factDesign\chm\factDesign.chm Compile time: 0 minutes, 0 seconds 6 Topics 14 Local links 0 Internet links 1 Graphic Created d:\biocbld\bbs-2.1-bioc\meat\factDesign\chm\factDesign.chm, 24,411 bytes Compression decreased file by 34 bytes. adding MD5 sums * DONE (factDesign) * creating vignettes ... OK * removing junk files * checking for LF line-endings in source files * checking for empty or unneeded directories * building 'factDesign_1.11.0.tar.gz'