Back to the "Multiple platform build/check report"
| NOTES: (1) a maintainance reboot of lemming prevented these builds to complete on this machine (2) these are the last builds with R 2.6.0 (2007-06-03 r41797) on lamb1 and lemming, next builds will be with R 2.6.0 (2007-06-10 r41908) configured with --enable-strict-barrier |
| Package 221/238 | Hostname | OS | Arch | BUILD | CHECK | BUILD BIN |
splots1.3.0Oleg SklyarLast Changed Date: 2007-05-11 21:56:41 -0700 Last Changed Rev: 24616 | lamb1 | Linux (SUSE 10.1) | x86_64 | OK | OK | |
| wellington | Linux (SUSE 9.2) | i686 | OK | OK | ||
| churchill | Solaris 2.9 | sparc | OK | OK | ||
| lemming | Windows Server 2003 (32-bit) | x64 | [ OK ] | skipped | skipped |
| Package: splots |
| Version: 1.3.0 |
| Command: D:\biocbld\bbs-2.1-bioc\R\bin\R.exe CMD build splots |
| RetCode: 0 |
| Time: 11.5 seconds |
| Status: OK |
| PackageFile: splots_1.3.0.tar.gz |
* checking for file 'splots/DESCRIPTION' ... OK
* preparing 'splots':
* checking DESCRIPTION meta-information ... OK
* installing the package to re-build vignettes
installing R.css in D:/biocbld/bbs-2.1-bioc/tmpdir/Rinst807623541
---------- Making package splots ------------
adding build stamp to DESCRIPTION
installing NAMESPACE file and metadata
installing R files
preparing package splots for lazy loading
Loading required package: grid
installing inst files
installing data files
installing man source files
installing indices
not zipping data
installing help
>>> Building/Updating help pages for package 'splots'
Formats: text html latex example chm
internals text html latex chm
plotScreen text html latex example chm
Microsoft HTML Help Compiler 4.74.8702
Compiling d:\biocbld\bbs-2.1-bioc\meat\splots\chm\splots.chm
Compile time: 0 minutes, 0 seconds
3 Topics
3 Local links
0 Internet links
1 Graphic
Created d:\biocbld\bbs-2.1-bioc\meat\splots\chm\splots.chm, 18,037 bytes
Compression increased file by 7,952 bytes.
adding MD5 sums
* DONE (splots)
* creating vignettes ... OK
* removing junk files
* checking for LF line-endings in source files
* checking for empty or unneeded directories
* building 'splots_1.3.0.tar.gz'