Back to the "Multiple platform build/check report"
| NOTES: (1) a maintainance reboot of lemming prevented these builds to complete on this machine (2) these are the last builds with R 2.6.0 (2007-06-03 r41797) on lamb1 and lemming, next builds will be with R 2.6.0 (2007-06-10 r41908) configured with --enable-strict-barrier |
| Package 118/238 | Hostname | OS | Arch | BUILD | CHECK | BUILD BIN |
limmaGUI1.13.0Keith SatterleyLast Changed Date: 2007-04-24 11:31:42 -0700 Last Changed Rev: 24217 | lamb1 | Linux (SUSE 10.1) | x86_64 | OK | OK | |
| wellington | Linux (SUSE 9.2) | i686 | OK | OK | ||
| churchill | Solaris 2.9 | sparc | [ OK ] | OK | ||
| lemming | Windows Server 2003 (32-bit) | x64 | OK | OK | skipped |
| Package: limmaGUI |
| Version: 1.13.0 |
| Command: /loc/biocbuild/bbs-2.1-bioc/R/bin/R CMD build limmaGUI |
| RetCode: 0 |
| Time: 19.5 seconds |
| Status: OK |
| PackageFile: limmaGUI_1.13.0.tar.gz |
* checking for file 'limmaGUI/DESCRIPTION' ... OK
* preparing 'limmaGUI':
* checking DESCRIPTION meta-information ... OK
* installing the package to re-build vignettes
* Installing *source* package 'limmaGUI' ...
** R
** inst
** preparing package for lazy loading
Loading required package: limma
Loading required package: tcltk
Loading Tcl/Tk interface ... done
** help
Note: unmatched right brace in 'limmaGUI' on or after line 139
>>> Building/Updating help pages for package 'limmaGUI'
Formats: text html latex example
LGchangelog text html latex
limmaGUI text html latex
** building package indices ...
* DONE (limmaGUI)
* creating vignettes ... OK
* removing junk files
* checking for LF line-endings in source files
* checking for empty or unneeded directories
* building 'limmaGUI_1.13.0.tar.gz'