Back to the "Multiple platform build/check report"
NOTES: (1) a maintainance reboot of lemming prevented these builds to complete on this machine (2) these are the last builds with R 2.6.0 (2007-06-03 r41797) on lamb1 and lemming, next builds will be with R 2.6.0 (2007-06-10 r41908) configured with --enable-strict-barrier |
Package 62/238 | Hostname | OS | Arch | BUILD | CHECK | BUILD BIN |
EBarrays1.9.2Deepayan SarkarLast Changed Date: 2007-05-23 10:51:11 -0700 Last Changed Rev: 24935 | lamb1 | Linux (SUSE 10.1) | x86_64 | OK | OK | |
wellington | Linux (SUSE 9.2) | i686 | [ OK ] | OK | ||
churchill | Solaris 2.9 | sparc | OK | OK | ||
lemming | Windows Server 2003 (32-bit) | x64 | OK | OK | skipped |
Package: EBarrays |
Version: 1.9.2 |
Command: /loc/biocbuild/bbs-2.1-bioc/R/bin/R CMD build EBarrays |
RetCode: 0 |
Time: 103.0 seconds |
Status: OK |
PackageFile: EBarrays_1.9.2.tar.gz |
* checking for file 'EBarrays/DESCRIPTION' ... OK * preparing 'EBarrays': * checking DESCRIPTION meta-information ... OK * cleaning src * checking whether 'INDEX' is up-to-date ... OK * installing the package to re-build vignettes * Installing *source* package 'EBarrays' ... ** libs gcc -std=gnu99 -I/loc/biocbuild/bbs-2.1-bioc/R/include -I/loc/biocbuild/bbs-2.1-bioc/R/include -I/usr/local/include -fpic -g -O2 -Wall -c ebarrays.c -o ebarrays.o gcc -std=gnu99 -shared -L/usr/local/lib -o EBarrays.so ebarrays.o -L/loc/biocbuild/bbs-2.1-bioc/R/lib -lR ** R ** data ** demo ** inst ** preparing package for lazy loading Loading required package: Biobase Loading required package: tools Welcome to Bioconductor Vignettes contain introductory material. To view, type 'openVignette()'. To cite Bioconductor, see 'citation("Biobase")' and for packages 'citation(pkgname)'. Loading required package: lattice ** help >>> Building/Updating help pages for package 'EBarrays' Formats: text html latex example ebarraysFamily-class text html latex example ebplots text html latex example emfit text html latex example gould text html latex example postprob text html latex utilities text html latex example ** building package indices ... * DONE (EBarrays) * creating vignettes ... OK * cleaning src * removing junk files * checking for LF line-endings in source files * checking for empty or unneeded directories * building 'EBarrays_1.9.2.tar.gz'