Back to the "Multiple platform build/check report"
| NOTES: (1) a maintainance reboot of lemming prevented these builds to complete on this machine (2) these are the last builds with R 2.6.0 (2007-06-03 r41797) on lamb1 and lemming, next builds will be with R 2.6.0 (2007-06-10 r41908) configured with --enable-strict-barrier |
| Package 64/238 | Hostname | OS | Arch | BUILD | CHECK | BUILD BIN |
ecolitk1.9.0LaurentLast Changed Date: 2007-04-24 11:31:42 -0700 Last Changed Rev: 24217 | lamb1 | Linux (SUSE 10.1) | x86_64 | [ OK ] | WARNINGS | |
| wellington | Linux (SUSE 9.2) | i686 | OK | WARNINGS | ||
| churchill | Solaris 2.9 | sparc | OK | WARNINGS | ||
| lemming | Windows Server 2003 (32-bit) | x64 | OK | WARNINGS | skipped |
| Package: ecolitk |
| Version: 1.9.0 |
| Command: /home/biocbuild/bbs-2.1-bioc/R/bin/R CMD build ecolitk |
| RetCode: 0 |
| Time: 22.0 seconds |
| Status: OK |
| PackageFile: ecolitk_1.9.0.tar.gz |
* checking for file 'ecolitk/DESCRIPTION' ... OK
* preparing 'ecolitk':
* checking DESCRIPTION meta-information ... OK
* checking whether 'INDEX' is up-to-date ... NO
* use '--force' to overwrite the existing 'INDEX'
* installing the package to re-build vignettes
* Installing *source* package 'ecolitk' ...
** R
** data
** inst
** help
Note: unmatched right brace in 'linkedmultiget' on or after line 6
Note: unmatched right brace in 'wstringapply' on or after line 6
>>> Building/Updating help pages for package 'ecolitk'
Formats: text html latex example
ecoli.data text html latex example
ecoligenome.operon text html latex example
ecoligenomeBNUM text html latex
ecoligenomeBNUM2MULTIFUN text html latex
gccontent text html latex
linkedmultiget text html latex example
multiFun text html latex example
pointsCircle text html latex example
polar2xy text html latex example
polygonChrom text html latex example
wstringapply text html latex example
** building package indices ...
* DONE (ecolitk)
* creating vignettes ... OK
* removing junk files
* checking for LF line-endings in source files
* checking for empty or unneeded directories
* building 'ecolitk_1.9.0.tar.gz'