Back to the "Multiple platform build/check report"
| NOTES: (1) a maintainance reboot of lemming prevented these builds to complete on this machine (2) these are the last builds with R 2.6.0 (2007-06-03 r41797) on lamb1 and lemming, next builds will be with R 2.6.0 (2007-06-10 r41908) configured with --enable-strict-barrier |
| Package 149/238 | Hostname | OS | Arch | BUILD | CHECK | BUILD BIN |
occugene0.1.0Oliver WillLast Changed Date: 2006-11-16 20:17:51 -0800 Last Changed Rev: 21166 | lamb1 | Linux (SUSE 10.1) | x86_64 | [ OK ] | OK | |
| wellington | Linux (SUSE 9.2) | i686 | OK | OK | ||
| churchill | Solaris 2.9 | sparc | OK | OK | ||
| lemming | Windows Server 2003 (32-bit) | x64 | OK | OK | skipped |
| Package: occugene |
| Version: 0.1.0 |
| Command: /home/biocbuild/bbs-2.1-bioc/R/bin/R CMD build occugene |
| RetCode: 0 |
| Time: 4.5 seconds |
| Status: OK |
| PackageFile: occugene_0.1.0.tar.gz |
* checking for file 'occugene/DESCRIPTION' ... OK
* preparing 'occugene':
* checking DESCRIPTION meta-information ... OK
* installing the package to re-build vignettes
* Installing *source* package 'occugene' ...
** R
** data
** inst
** preparing package for lazy loading
** help
Note: unmatched right brace in 'fCumul' on or after line 6
>>> Building/Updating help pages for package 'occugene'
Formats: text html latex example
binHist text html latex example
binInsert text html latex example
binInsertHist text html latex example
checkFormat text html latex example
delta0 text html latex example
eMult text html latex example
etDelta text html latex example
fCumul text html latex example
fFit text html latex example
loadAnnotation text html latex example
loadInsertions text html latex example
occup2Negenes text html latex example
sampleAnnotation text html latex
sampleInsertions text html latex
unbiasB0 text html latex example
unbiasDelta0 text html latex example
varMult text html latex example
** building package indices ...
* DONE (occugene)
* creating vignettes ... OK
* removing junk files
* checking for LF line-endings in source files
* checking for empty or unneeded directories
* building 'occugene_0.1.0.tar.gz'