Back to the "Multiple platform build/check report"
| NOTES: (1) a maintainance reboot of lemming prevented these builds to complete on this machine (2) these are the last builds with R 2.6.0 (2007-06-03 r41797) on lamb1 and lemming, next builds will be with R 2.6.0 (2007-06-10 r41908) configured with --enable-strict-barrier |
| Package 84/238 | Hostname | OS | Arch | BUILD | CHECK | BUILD BIN |
GeneSpring2.11.0Thon de BoerLast Changed Date: 2007-05-11 21:56:41 -0700 Last Changed Rev: 24616 | lamb1 | Linux (SUSE 10.1) | x86_64 | OK | OK | |
| wellington | Linux (SUSE 9.2) | i686 | OK | OK | ||
| churchill | Solaris 2.9 | sparc | OK | OK | ||
| lemming | Windows Server 2003 (32-bit) | x64 | [ OK ] | OK | skipped |
| Package: GeneSpring |
| Version: 2.11.0 |
| Command: D:\biocbld\bbs-2.1-bioc\R\bin\R.exe CMD build GeneSpring |
| RetCode: 0 |
| Time: 12.5 seconds |
| Status: OK |
| PackageFile: GeneSpring_2.11.0.tar.gz |
* checking for file 'GeneSpring/DESCRIPTION' ... OK
* preparing 'GeneSpring':
* checking DESCRIPTION meta-information ... OK
* checking whether 'INDEX' is up-to-date ... NO
* use '--force' to overwrite the existing 'INDEX'
* installing the package to re-build vignettes
installing R.css in D:/biocbld/bbs-2.1-bioc/tmpdir/Rinst80860330
---------- Making package GeneSpring ------------
adding build stamp to DESCRIPTION
installing R files
preparing package GeneSpring for lazy loading
Loading required package: Biobase
Loading required package: tools
Welcome to Bioconductor
Vignettes contain introductory material. To view, type
'openVignette()'. To cite Bioconductor, see
'citation("Biobase")' and for packages 'citation(pkgname)'.
installing inst files
installing man source files
installing indices
installing help
Note: unmatched right brace in 'GSload.exp' on or after line 76
Note: unmatched right brace in 'GSload.exp.Rd' on or after line 76
>>> Building/Updating help pages for package 'GeneSpring'
Formats: text html latex example chm
GSint text html latex example chm
GSint2BC text html latex example chm
GSload.exp text html latex example chm
GSload.genelist text html latex example chm
GSload.int text html latex example chm
GSsave.exp text html latex example chm
Microsoft HTML Help Compiler 4.74.8702
Compiling d:\biocbld\bbs-2.1-bioc\meat\GeneSpring\chm\GeneSpring.chm
Compile time: 0 minutes, 0 seconds
7 Topics
40 Local links
6 Internet links
1 Graphic
Created d:\biocbld\bbs-2.1-bioc\meat\GeneSpring\chm\GeneSpring.chm, 31,085 bytes
Compression decreased file by 10,946 bytes.
adding MD5 sums
* DONE (GeneSpring)
* creating vignettes ... OK
* removing junk files
* checking for LF line-endings in source files
* checking for empty or unneeded directories
* building 'GeneSpring_2.11.0.tar.gz'