Back to the "Multiple platform build/check report"
| NOTES: (1) a maintainance reboot of lemming prevented these builds to complete on this machine (2) these are the last builds with R 2.6.0 (2007-06-03 r41797) on lamb1 and lemming, next builds will be with R 2.6.0 (2007-06-10 r41908) configured with --enable-strict-barrier |
| Package 181/238 | Hostname | OS | Arch | BUILD | CHECK | BUILD BIN |
RbcBook11.5.0Vince CareyLast Changed Date: 2007-05-11 21:56:41 -0700 Last Changed Rev: 24616 | lamb1 | Linux (SUSE 10.1) | x86_64 | OK | OK | |
| wellington | Linux (SUSE 9.2) | i686 | OK | OK | ||
| churchill | Solaris 2.9 | sparc | [ OK ] | OK | ||
| lemming | Windows Server 2003 (32-bit) | x64 | OK | skipped | skipped |
| Package: RbcBook1 |
| Version: 1.5.0 |
| Command: /loc/biocbuild/bbs-2.1-bioc/R/bin/R CMD build RbcBook1 |
| RetCode: 0 |
| Time: 19.4 seconds |
| Status: OK |
| PackageFile: RbcBook1_1.5.0.tar.gz |
* checking for file 'RbcBook1/DESCRIPTION' ... OK
* preparing 'RbcBook1':
* checking DESCRIPTION meta-information ... OK
* installing the package to re-build vignettes
* Installing *source* package 'RbcBook1' ...
** R
** data
** inst
** help
>>> Building/Updating help pages for package 'RbcBook1'
Formats: text html latex example
bcStangle text html latex example
bcSweave text html latex example
bcr text html latex example
checkVerbatimLines text html latex example
imageSize text html latex example
perf text html latex example
requireAllBook1 text html latex example
rpart2gNEL text html latex example
** building package indices ...
* DONE (RbcBook1)
* creating vignettes ... OK
* removing junk files
* checking for LF line-endings in source files
* checking for empty or unneeded directories
* building 'RbcBook1_1.5.0.tar.gz'