Back to the "Multiple platform build/check report"
| NOTES: (1) a maintainance reboot of lemming prevented these builds to complete on this machine (2) these are the last builds with R 2.6.0 (2007-06-03 r41797) on lamb1 and lemming, next builds will be with R 2.6.0 (2007-06-10 r41908) configured with --enable-strict-barrier |
| Package 10/238 | Hostname | OS | Arch | BUILD | CHECK | BUILD BIN |
affylmGUI1.11.2Keith SatterleyLast Changed Date: 2007-06-01 02:14:14 -0700 Last Changed Rev: 25095 | lamb1 | Linux (SUSE 10.1) | x86_64 | OK | OK | |
| wellington | Linux (SUSE 9.2) | i686 | OK | OK | ||
| churchill | Solaris 2.9 | sparc | OK | OK | ||
| lemming | Windows Server 2003 (32-bit) | x64 | [ OK ] | OK | skipped |
| Package: affylmGUI |
| Version: 1.11.2 |
| Command: D:\biocbld\bbs-2.1-bioc\R\bin\R.exe CMD build affylmGUI |
| RetCode: 0 |
| Time: 17.0 seconds |
| Status: OK |
| PackageFile: affylmGUI_1.11.2.tar.gz |
* checking for file 'affylmGUI/DESCRIPTION' ... OK
* preparing 'affylmGUI':
* checking DESCRIPTION meta-information ... OK
* checking whether 'INDEX' is up-to-date ... NO
* use '--force' to overwrite the existing 'INDEX'
* installing the package to re-build vignettes
installing R.css in D:/biocbld/bbs-2.1-bioc/tmpdir/Rinst53276052
---------- Making package affylmGUI ------------
adding build stamp to DESCRIPTION
installing R files
installing inst files
installing man source files
installing indices
installing help
>>> Building/Updating help pages for package 'affylmGUI'
Formats: text html latex example chm
ALGchangeLog text html latex chm
affylmGUI text html latex chm
Microsoft HTML Help Compiler 4.74.8702
Compiling d:\biocbld\bbs-2.1-bioc\meat\affylmGUI\chm\affylmGUI.chm
Compile time: 0 minutes, 0 seconds
3 Topics
111 Local links
0 Internet links
1 Graphic
Created d:\biocbld\bbs-2.1-bioc\meat\affylmGUI\chm\affylmGUI.chm, 25,110 bytes
Compression decreased file by 28,958 bytes.
preparing package affylmGUI for lazy loading
Loading required package: limma
Loading required package: tcltk
Loading Tcl/Tk interface ... done
Loading required package: affy
Loading required package: Biobase
Loading required package: tools
Welcome to Bioconductor
Vignettes contain introductory material. To view, type
'openVignette()'. To cite Bioconductor, see
'citation("Biobase")' and for packages 'citation(pkgname)'.
Loading required package: affyio
Loading required package: preprocessCore
adding MD5 sums
* DONE (affylmGUI)
* creating vignettes ... OK
* removing junk files
* checking for LF line-endings in source files
* checking for empty or unneeded directories
* building 'affylmGUI_1.11.2.tar.gz'