Back to the "Multiple platform build/check report"
| NOTES: (1) a maintainance reboot of lemming prevented these builds to complete on this machine (2) these are the last builds with R 2.6.0 (2007-06-03 r41797) on lamb1 and lemming, next builds will be with R 2.6.0 (2007-06-10 r41908) configured with --enable-strict-barrier |
| Package 237/238 | Hostname | OS | Arch | BUILD | CHECK | BUILD BIN |
widgetTools1.13.1Jianhua ZhangLast Changed Date: 2007-05-15 20:37:53 -0700 Last Changed Rev: 24694 | lamb1 | Linux (SUSE 10.1) | x86_64 | OK | OK | |
| wellington | Linux (SUSE 9.2) | i686 | [ OK ] | OK | ||
| churchill | Solaris 2.9 | sparc | OK | OK | ||
| lemming | Windows Server 2003 (32-bit) | x64 | OK | skipped | skipped |
| Package: widgetTools |
| Version: 1.13.1 |
| Command: /loc/biocbuild/bbs-2.1-bioc/R/bin/R CMD build widgetTools |
| RetCode: 0 |
| Time: 16.5 seconds |
| Status: OK |
| PackageFile: widgetTools_1.13.1.tar.gz |
* checking for file 'widgetTools/DESCRIPTION' ... OK
* preparing 'widgetTools':
* checking DESCRIPTION meta-information ... OK
* installing the package to re-build vignettes
* Installing *source* package 'widgetTools' ...
** R
** inst
** preparing package for lazy loading
Loading required package: tcltk
Loading Tcl/Tk interface ... done
** help
>>> Building/Updating help pages for package 'widgetTools'
Formats: text html latex example
basicPW-class text html latex example
button text html latex example
dropdownList text html latex example
makeViewer text html latex example
oneVScrList text html latex example
safeFileOpen text html latex example
tooltip text html latex example
widget-class text html latex example
widgetView-class text html latex example
writeText text html latex example
** building package indices ...
* DONE (widgetTools)
* creating vignettes ... OK
* removing junk files
* checking for LF line-endings in source files
* checking for empty or unneeded directories
* building 'widgetTools_1.13.1.tar.gz'