Back to the "Multiple platform build/check report"
| NOTES: (1) a maintainance reboot of lemming prevented these builds to complete on this machine (2) these are the last builds with R 2.6.0 (2007-06-03 r41797) on lamb1 and lemming, next builds will be with R 2.6.0 (2007-06-10 r41908) configured with --enable-strict-barrier |
| Package 224/238 | Hostname | OS | Arch | BUILD | CHECK | BUILD BIN |
ssize1.9.0Gregory R. WarnesLast Changed Date: 2007-04-24 11:31:42 -0700 Last Changed Rev: 24217 | lamb1 | Linux (SUSE 10.1) | x86_64 | OK | OK | |
| wellington | Linux (SUSE 9.2) | i686 | OK | OK | ||
| churchill | Solaris 2.9 | sparc | [ OK ] | OK | ||
| lemming | Windows Server 2003 (32-bit) | x64 | OK | skipped | skipped |
| Package: ssize |
| Version: 1.9.0 |
| Command: /loc/biocbuild/bbs-2.1-bioc/R/bin/R CMD build ssize |
| RetCode: 0 |
| Time: 63.2 seconds |
| Status: OK |
| PackageFile: ssize_1.9.0.tar.gz |
* checking for file 'ssize/DESCRIPTION' ... OK
* preparing 'ssize':
* checking DESCRIPTION meta-information ... OK
* installing the package to re-build vignettes
* Installing *source* package 'ssize' ...
** R
** data
** inst
** help
>>> Building/Updating help pages for package 'ssize'
Formats: text html latex example
exp.sd text html latex example
pow text html latex example
** building package indices ...
* DONE (ssize)
* creating vignettes ... OK
* removing junk files
* checking for LF line-endings in source files
* checking for empty or unneeded directories
* building 'ssize_1.9.0.tar.gz'