Back to the "Multiple platform build/check report"
| NOTES: (1) a maintainance reboot of lemming prevented these builds to complete on this machine (2) these are the last builds with R 2.6.0 (2007-06-03 r41797) on lamb1 and lemming, next builds will be with R 2.6.0 (2007-06-10 r41908) configured with --enable-strict-barrier |
| Package 70/238 | Hostname | OS | Arch | BUILD | CHECK | BUILD BIN |
fdrame1.9.0Effi KenigsbergLast Changed Date: 2007-04-24 11:31:42 -0700 Last Changed Rev: 24217 | lamb1 | Linux (SUSE 10.1) | x86_64 | OK | OK | |
| wellington | Linux (SUSE 9.2) | i686 | OK | OK | ||
| churchill | Solaris 2.9 | sparc | OK | OK | ||
| lemming | Windows Server 2003 (32-bit) | x64 | [ OK ] | OK | skipped |
| Package: fdrame |
| Version: 1.9.0 |
| Command: D:\biocbld\bbs-2.1-bioc\R\bin\R.exe CMD build fdrame |
| RetCode: 0 |
| Time: 19.2 seconds |
| Status: OK |
| PackageFile: fdrame_1.9.0.tar.gz |
* checking for file 'fdrame/DESCRIPTION' ... OK
* preparing 'fdrame':
* checking DESCRIPTION meta-information ... OK
* cleaning src
* installing the package to re-build vignettes
installing R.css in D:/biocbld/bbs-2.1-bioc/tmpdir/Rinst300827874
---------- Making package fdrame ------------
adding build stamp to DESCRIPTION
making DLL ...
gcc -Id:/biocbld/bbs-2.1-bioc/R/include -Wall -O3 -std=gnu99 -c fdr.c -o fdr.o
windres -I d:/biocbld/bbs-2.1-bioc/R/include -i fdrame_res.rc -o fdrame_res.o
gcc -shared -s -o fdrame.dll fdrame.def fdr.o fdrame_res.o -Ld:/biocbld/bbs-2.1-bioc/R/bin -lR
... DLL made
installing DLL
installing R files
installing inst files
installing data files
installing man source files
installing indices
not zipping data
installing help
>>> Building/Updating help pages for package 'fdrame'
Formats: text html latex example chm
design text html latex example chm
exp.arr text html latex example chm
fdr-internal text html latex chm
fdrgui text html latex example chm
fdrma text html latex example chm
Microsoft HTML Help Compiler 4.74.8702
Compiling d:\biocbld\bbs-2.1-bioc\meat\fdrame\chm\fdrame.chm
Compile time: 0 minutes, 0 seconds
6 Topics
9 Local links
0 Internet links
1 Graphic
Created d:\biocbld\bbs-2.1-bioc\meat\fdrame\chm\fdrame.chm, 27,127 bytes
Compression decreased file by 567 bytes.
preparing package fdrame for lazy loading
adding MD5 sums
* DONE (fdrame)
* creating vignettes ... OK
* cleaning src
* removing junk files
* checking for LF line-endings in source files
* checking for empty or unneeded directories
WARNING: Removing directory 'fdrame/html' which should only occur in an
installed package
* building 'fdrame_1.9.0.tar.gz'