Back to the "Multiple platform build/check report"
| NOTES: (1) a maintainance reboot of lemming prevented these builds to complete on this machine (2) these are the last builds with R 2.6.0 (2007-06-03 r41797) on lamb1 and lemming, next builds will be with R 2.6.0 (2007-06-10 r41908) configured with --enable-strict-barrier |
| Package 21/238 | Hostname | OS | Arch | BUILD | CHECK | BUILD BIN |
arji0.3.16Vince CareyLast Changed Date: 2007-06-10 10:22:32 -0700 Last Changed Rev: 25301 | lamb1 | Linux (SUSE 10.1) | x86_64 | OK | WARNINGS | |
| wellington | Linux (SUSE 9.2) | i686 | OK | WARNINGS | ||
| churchill | Solaris 2.9 | sparc | ERROR | skipped | ||
| lemming | Windows Server 2003 (32-bit) | x64 | [ ERROR ] | skipped | skipped |
| Package: arji |
| Version: 0.3.16 |
| Command: D:\biocbld\bbs-2.1-bioc\R\bin\R.exe CMD build arji |
| RetCode: 1 |
| Time: 2.2 seconds |
| Status: ERROR |
| PackageFile: None |
* checking for file 'arji/DESCRIPTION' ... OK
* preparing 'arji':
* checking DESCRIPTION meta-information ... OK
* cleaning src
* installing the package to re-build vignettes
installing R.css in D:/biocbld/bbs-2.1-bioc/tmpdir/Rinst652462747
---------- Making package arji ------------
**********************************************
WARNING: this package has a configure script
It probably needs manual configuration
**********************************************
adding build stamp to DESCRIPTION
installing NAMESPACE file and metadata
making DLL ...
Makefile:1: Makevars: No such file or directory
make[3]: *** No rule to make target `Makevars'. Stop.
make[2]: *** [srcDynlib] Error 2
make[1]: *** [all] Error 2
make: *** [pkg-arji] Error 2
*** Installation of arji failed ***
Removing 'D:/biocbld/bbs-2.1-bioc/tmpdir/Rinst652462747/arji'
ERROR
Installation failed.
Removing 'D:/biocbld/bbs-2.1-bioc/tmpdir/Rinst652462747'