Back to the "Multiple platform build/check report"
| NOTES: (1) a maintainance reboot of lemming prevented these builds to complete on this machine (2) these are the last builds with R 2.6.0 (2007-06-03 r41797) on lamb1 and lemming, next builds will be with R 2.6.0 (2007-06-10 r41908) configured with --enable-strict-barrier | 
| Package 52/238 | Hostname | OS | Arch | BUILD | CHECK | BUILD BIN | 
copa1.5.0James W. MacDonaldLast Changed Date: 2007-05-16 13:31:25 -0700 Last Changed Rev: 24724  | lamb1 | Linux (SUSE 10.1) | x86_64 | OK | OK | |
| wellington | Linux (SUSE 9.2) | i686 | OK | OK | ||
| churchill | Solaris 2.9 | sparc | OK | OK | ||
| lemming | Windows Server 2003 (32-bit) | x64 | OK | [ OK ] | skipped | 
| Package: copa | 
| Version: 1.5.0 | 
| Command: D:\biocbld\bbs-2.1-bioc\R\bin\R.exe CMD check copa_1.5.0.tar.gz | 
| RetCode: 0 | 
| Time: 49.5 seconds | 
| Status: OK | 
| CheckDir: copa.Rcheck | 
| Warnings: 0 | 
* checking for working latex ... OK * using log directory 'D:/biocbld/bbs-2.1-bioc/meat/copa.Rcheck' * using R version 2.6.0 Under development (unstable) (2007-06-03 r41797) * checking for file 'copa/DESCRIPTION' ... OK * this is package 'copa' version '1.5.0' * checking package name space information ... OK * checking package dependencies ... OK * checking if this is a source package ... OK * checking whether package 'copa' can be installed ... OK * checking package directory ... OK * checking for portable file names ... OK * checking DESCRIPTION meta-information ... OK * checking top-level files ... OK * checking index information ... OK * checking package subdirectories ... OK * checking R files for non-ASCII characters ... OK * checking R files for syntax errors ... OK * checking whether the package can be loaded ... OK * checking whether the package can be loaded with stated dependencies ... OK * checking whether the name space can be loaded with stated dependencies ... OK * checking for unstated dependencies in R code ... OK * checking S3 generic/method consistency ... OK * checking replacement functions ... OK * checking foreign function calls ... OK * checking R code for possible problems ... NOTE pSum: no visible binding for global variable 'mat' * checking Rd files ... OK * checking Rd cross-references ... OK * checking for missing documentation entries ... OK * checking for code/documentation mismatches ... OK * checking Rd \usage sections ... OK * checking for CRLF line endings in C/C++/Fortran sources/headers ... OK * checking for portable use of $BLAS_LIBS ... OK * creating copa-Ex.R ... OK * checking examples ... OK * checking package vignettes in 'inst/doc' ... OK * creating copa-manual.tex ... OK * checking copa-manual.tex ... OK
copa.Rcheck/00install.out:
installing R.css in D:/biocbld/bbs-2.1-bioc/meat/copa.Rcheck
---------- Making package copa ------------
  adding build stamp to DESCRIPTION
  installing NAMESPACE file and metadata
  making DLL ...
making copa.d from copa.c
gcc   -Id:/biocbld/bbs-2.1-bioc/R/include  -Wall -O3 -std=gnu99   -c copa.c -o copa.o
windres -I d:/biocbld/bbs-2.1-bioc/R/include  -i copa_res.rc -o copa_res.o
gcc  -shared -s  -o copa.dll copa.def copa.o copa_res.o  -Ld:/biocbld/bbs-2.1-bioc/R/bin    -lR
  ... DLL made
  installing DLL
  installing R files
  preparing package copa for lazy loading
Loading required package: Biobase
Loading required package: tools
Welcome to Bioconductor
  Vignettes contain introductory material. To view, type
  'openVignette()'. To cite Bioconductor, see
  'citation("Biobase")' and for packages 'citation(pkgname)'.
  installing inst files
  installing man source files
  installing indices
  installing help
 >>> Building/Updating help pages for package 'copa'
     Formats: text html latex example chm 
  copa                              text    html    latex   example chm
  copa.package                      text    html    latex           chm
  copaFilter                        text    html    latex           chm
  copaPerm                          text    html    latex           chm
  copaTable                         text    html    latex   example chm
  getans                            text    html    latex           chm
  pSum                              text    html    latex           chm
  perm.mat                          text    html    latex           chm
  plotCopa                          text    html    latex   example chm
  scatterPlotCopa                   text    html    latex   example chm
  summaryCopa                       text    html    latex   example chm
Microsoft HTML Help Compiler 4.74.8702
Compiling d:\biocbld\bbs-2.1-bioc\meat\copa.Rcheck\00_pkg_src\copa\chm\copa.chm
Compile time: 0 minutes, 0 seconds
12	Topics
18	Local links
0	Internet links
1	Graphic
Created d:\biocbld\bbs-2.1-bioc\meat\copa.Rcheck\00_pkg_src\copa\chm\copa.chm, 29,537 bytes
Compression decreased file by 8,162 bytes.
  adding MD5 sums
* DONE (copa)