Back to the "Multiple platform build/check report"
| NOTES: (1) a maintainance reboot of lemming prevented these builds to complete on this machine (2) these are the last builds with R 2.6.0 (2007-06-03 r41797) on lamb1 and lemming, next builds will be with R 2.6.0 (2007-06-10 r41908) configured with --enable-strict-barrier |
| Package 47/238 | Hostname | OS | Arch | BUILD | CHECK | BUILD BIN |
ChromoViz1.9.0Jihoon KimLast Changed Date: 2007-04-24 11:31:42 -0700 Last Changed Rev: 24217 | lamb1 | Linux (SUSE 10.1) | x86_64 | OK | WARNINGS | |
| wellington | Linux (SUSE 9.2) | i686 | OK | WARNINGS | ||
| churchill | Solaris 2.9 | sparc | OK | ERROR | ||
| lemming | Windows Server 2003 (32-bit) | x64 | [ OK ] | WARNINGS | skipped |
| Package: ChromoViz |
| Version: 1.9.0 |
| Command: D:\biocbld\bbs-2.1-bioc\R\bin\R.exe CMD build ChromoViz |
| RetCode: 0 |
| Time: 1.5 seconds |
| Status: OK |
| PackageFile: ChromoViz_1.9.0.tar.gz |
* checking for file 'ChromoViz/DESCRIPTION' ... OK * preparing 'ChromoViz': * checking DESCRIPTION meta-information ... OK * removing junk files * checking for LF line-endings in source files * checking for empty or unneeded directories * building 'ChromoViz_1.9.0.tar.gz'