Back to the "Multiple platform build/check report"
| NOTES: (1) a maintainance reboot of lemming prevented these builds to complete on this machine (2) these are the last builds with R 2.6.0 (2007-06-03 r41797) on lamb1 and lemming, next builds will be with R 2.6.0 (2007-06-10 r41908) configured with --enable-strict-barrier | 
| Package 101/238 | Hostname | OS | Arch | BUILD | CHECK | BUILD BIN | 
GSEABase0.1.9Biocore TeamLast Changed Date: 2007-06-07 12:42:25 -0700 Last Changed Rev: 25261  | lamb1 | Linux (SUSE 10.1) | x86_64 | OK | ERROR | |
| wellington | Linux (SUSE 9.2) | i686 | [ OK ] | ERROR | ||
| churchill | Solaris 2.9 | sparc | OK | ERROR | ||
| lemming | Windows Server 2003 (32-bit) | x64 | OK | ERROR | skipped | 
| Package: GSEABase | 
| Version: 0.1.9 | 
| Command: /loc/biocbuild/bbs-2.1-bioc/R/bin/R CMD build GSEABase | 
| RetCode: 0 | 
| Time: 1.8 seconds | 
| Status: OK | 
| PackageFile: GSEABase_0.1.9.tar.gz | 
* checking for file 'GSEABase/DESCRIPTION' ... OK * preparing 'GSEABase': * checking DESCRIPTION meta-information ... OK * removing junk files * checking for LF line-endings in source files * checking for empty or unneeded directories WARNING: directory 'GSEABase/inst/doc' is empty * building 'GSEABase_0.1.9.tar.gz'