Back to the "Multiple platform build/check report"
| NOTES: (1) a maintainance reboot of lemming prevented these builds to complete on this machine (2) these are the last builds with R 2.6.0 (2007-06-03 r41797) on lamb1 and lemming, next builds will be with R 2.6.0 (2007-06-10 r41908) configured with --enable-strict-barrier |
| Package 56/238 | Hostname | OS | Arch | BUILD | CHECK | BUILD BIN |
ctc1.11.0Antoine LucasLast Changed Date: 2007-04-24 11:31:42 -0700 Last Changed Rev: 24217 | lamb1 | Linux (SUSE 10.1) | x86_64 | OK | OK | |
| wellington | Linux (SUSE 9.2) | i686 | OK | OK | ||
| churchill | Solaris 2.9 | sparc | OK | OK | ||
| lemming | Windows Server 2003 (32-bit) | x64 | [ OK ] | OK | skipped |
| Package: ctc |
| Version: 1.11.0 |
| Command: D:\biocbld\bbs-2.1-bioc\R\bin\R.exe CMD build ctc |
| RetCode: 0 |
| Time: 22.8 seconds |
| Status: OK |
| PackageFile: ctc_1.11.0.tar.gz |
* checking for file 'ctc/DESCRIPTION' ... OK
* preparing 'ctc':
* checking DESCRIPTION meta-information ... OK
* checking whether 'INDEX' is up-to-date ... NO
* use '--force' to overwrite the existing 'INDEX'
* installing the package to re-build vignettes
installing R.css in D:/biocbld/bbs-2.1-bioc/tmpdir/Rinst555655041
---------- Making package ctc ------------
adding build stamp to DESCRIPTION
installing NAMESPACE file and metadata
installing R files
installing demos
installing exec files
installing inst files
installing man source files
installing indices
installing help
>>> Building/Updating help pages for package 'ctc'
Formats: text html latex example chm
hc2Newick text html latex example chm
hclust2treeview text html latex example chm
r2cluster text html latex example chm
r2gtr text html latex example chm
r2xcluster text html latex example chm
read.eisen text html latex chm
xcluster text html latex example chm
xcluster2r text html latex example chm
Microsoft HTML Help Compiler 4.74.8702
Compiling d:\biocbld\bbs-2.1-bioc\meat\ctc\chm\ctc.chm
Compile time: 0 minutes, 0 seconds
9 Topics
29 Local links
15 Internet links
1 Graphic
Created d:\biocbld\bbs-2.1-bioc\meat\ctc\chm\ctc.chm, 30,914 bytes
Compression decreased file by 10,353 bytes.
adding MD5 sums
* DONE (ctc)
* creating vignettes ... OK
* removing junk files
* checking for LF line-endings in source files
* checking for empty or unneeded directories
* building 'ctc_1.11.0.tar.gz'