Back to the "Multiple platform build/check report"
| NOTES: (1) a maintainance reboot of lemming prevented these builds to complete on this machine (2) these are the last builds with R 2.6.0 (2007-06-03 r41797) on lamb1 and lemming, next builds will be with R 2.6.0 (2007-06-10 r41908) configured with --enable-strict-barrier |
| Package 229/238 | Hostname | OS | Arch | BUILD | CHECK | BUILD BIN |
tkWidgets1.15.0J. ZhangLast Changed Date: 2007-04-24 11:31:42 -0700 Last Changed Rev: 24217 | lamb1 | Linux (SUSE 10.1) | x86_64 | OK | OK | |
| wellington | Linux (SUSE 9.2) | i686 | [ OK ] | OK | ||
| churchill | Solaris 2.9 | sparc | OK | OK | ||
| lemming | Windows Server 2003 (32-bit) | x64 | OK | skipped | skipped |
| Package: tkWidgets |
| Version: 1.15.0 |
| Command: /loc/biocbuild/bbs-2.1-bioc/R/bin/R CMD build tkWidgets |
| RetCode: 0 |
| Time: 26.5 seconds |
| Status: OK |
| PackageFile: tkWidgets_1.15.0.tar.gz |
* checking for file 'tkWidgets/DESCRIPTION' ... OK
* preparing 'tkWidgets':
* checking DESCRIPTION meta-information ... OK
* checking whether 'INDEX' is up-to-date ... NO
* use '--force' to overwrite the existing 'INDEX'
* installing the package to re-build vignettes
* Installing *source* package 'tkWidgets' ...
** R
** inst
** preparing package for lazy loading
Loading required package: widgetTools
Loading required package: tcltk
Loading Tcl/Tk interface ... done
Loading required package: DynDoc
** help
Note: unmatched right brace in 'listSelect' on or after line 60
Note: unmatched right brace in 'pickFiles' on or after line 32
Note: unmatched right brace in 'pickObjs' on or after line 28
Note: unmatched right brace in 'tkSampleNames' on or after line 9
Note: unmatched right brace in 'widgetRender' on or after line 46
>>> Building/Updating help pages for package 'tkWidgets'
Formats: text html latex example
DPExplorer text html latex example
WName text html latex example
appendSepDir text html latex example
args2XML text html latex example
argsWidget text html latex example
colInfo-class text html latex example
dataViewer text html latex example
dbArgsWidget text html latex example
eExplorer text html latex example
fileBrowser text html latex example
fileWizard text html latex example
getLightTW text html latex example
getWvalues text html latex example
guess.sep text html latex example
hasChar text html latex example
importPhenoData text html latex example
importWizard text html latex example
listSelect text html latex example
objNameToList text html latex example
objViewer text html latex example
objectBrowser text html latex example
pExplorer text html latex example
pickFiles text html latex example
pickItems text html latex example
pickObjs text html latex example
setArgsList text html latex example
stdType text html latex example
tkMIAME text html latex
tkSampleNames text html latex
tkphenoData text html latex
vExplorer text html latex example
values.Widget text html latex example
widgetRender text html latex example
** building package indices ...
* DONE (tkWidgets)
* creating vignettes ... OK
* removing junk files
* checking for LF line-endings in source files
* checking for empty or unneeded directories
* building 'tkWidgets_1.15.0.tar.gz'