Back to the "Multiple platform build/check report"
| NOTES: (1) a maintainance reboot of lemming prevented these builds to complete on this machine (2) these are the last builds with R 2.6.0 (2007-06-03 r41797) on lamb1 and lemming, next builds will be with R 2.6.0 (2007-06-10 r41908) configured with --enable-strict-barrier |
| Package 215/238 | Hostname | OS | Arch | BUILD | CHECK | BUILD BIN |
sizepower1.7.0Weiliang QiuLast Changed Date: 2007-04-24 11:31:42 -0700 Last Changed Rev: 24217 | lamb1 | Linux (SUSE 10.1) | x86_64 | [ OK ] | OK | |
| wellington | Linux (SUSE 9.2) | i686 | OK | OK | ||
| churchill | Solaris 2.9 | sparc | OK | OK | ||
| lemming | Windows Server 2003 (32-bit) | x64 | OK | skipped | skipped |
| Package: sizepower |
| Version: 1.7.0 |
| Command: /home/biocbuild/bbs-2.1-bioc/R/bin/R CMD build sizepower |
| RetCode: 0 |
| Time: 2.5 seconds |
| Status: OK |
| PackageFile: sizepower_1.7.0.tar.gz |
* checking for file 'sizepower/DESCRIPTION' ... OK
* preparing 'sizepower':
* checking DESCRIPTION meta-information ... OK
* checking whether 'INDEX' is up-to-date ... NO
* use '--force' to overwrite the existing 'INDEX'
* installing the package to re-build vignettes
* Installing *source* package 'sizepower' ...
** R
** inst
** help
>>> Building/Updating help pages for package 'sizepower'
Formats: text html latex example
powerMatched text html latex example
powerMulti text html latex example
powerRandomized text html latex example
sampleSizeMatched text html latex example
sampleSizeRandomized text html latex example
** building package indices ...
* DONE (sizepower)
* creating vignettes ... OK
* removing junk files
* checking for LF line-endings in source files
* checking for empty or unneeded directories
* building 'sizepower_1.7.0.tar.gz'