Back to the "Multiple platform build/check report"
| NOTES: (1) a maintainance reboot of lemming prevented these builds to complete on this machine (2) these are the last builds with R 2.6.0 (2007-06-03 r41797) on lamb1 and lemming, next builds will be with R 2.6.0 (2007-06-10 r41908) configured with --enable-strict-barrier |
| Package 164/238 | Hostname | OS | Arch | BUILD | CHECK | BUILD BIN |
pdmclass1.9.0James W. MacDonaldLast Changed Date: 2007-04-24 11:31:42 -0700 Last Changed Rev: 24217 | lamb1 | Linux (SUSE 10.1) | x86_64 | OK | OK | |
| wellington | Linux (SUSE 9.2) | i686 | OK | OK | ||
| churchill | Solaris 2.9 | sparc | OK | OK | ||
| lemming | Windows Server 2003 (32-bit) | x64 | OK | [ OK ] | skipped |
| Package: pdmclass |
| Version: 1.9.0 |
| Command: D:\biocbld\bbs-2.1-bioc\R\bin\R.exe CMD check pdmclass_1.9.0.tar.gz |
| RetCode: 0 |
| Time: 343.3 seconds |
| Status: OK |
| CheckDir: pdmclass.Rcheck |
| Warnings: 0 |
* checking for working latex ... OK * using log directory 'D:/biocbld/bbs-2.1-bioc/meat/pdmclass.Rcheck' * using R version 2.6.0 Under development (unstable) (2007-06-03 r41797) * checking for file 'pdmclass/DESCRIPTION' ... OK * checking extension type ... Package * this is package 'pdmclass' version '1.9.0' * checking package name space information ... OK * checking package dependencies ... OK * checking if this is a source package ... OK * checking whether package 'pdmclass' can be installed ... OK * checking package directory ... OK * checking for portable file names ... OK * checking DESCRIPTION meta-information ... OK * checking top-level files ... OK * checking index information ... OK * checking package subdirectories ... OK * checking R files for non-ASCII characters ... OK * checking R files for syntax errors ... OK * checking whether the package can be loaded ... OK * checking whether the package can be loaded with stated dependencies ... OK * checking whether the name space can be loaded with stated dependencies ... OK * checking for unstated dependencies in R code ... OK * checking S3 generic/method consistency ... OK * checking replacement functions ... OK * checking foreign function calls ... OK * checking R code for possible problems ... NOTE pdmGenes: no visible binding for global variable 'response' * checking Rd files ... OK * checking Rd cross-references ... OK * checking for missing documentation entries ... OK * checking for code/documentation mismatches ... OK * checking Rd \usage sections ... OK * creating pdmclass-Ex.R ... OK * checking examples ... OK * checking package vignettes in 'inst/doc' ... OK * creating pdmclass-manual.tex ... OK * checking pdmclass-manual.tex ... OK
pdmclass.Rcheck/00install.out:
installing R.css in D:/biocbld/bbs-2.1-bioc/meat/pdmclass.Rcheck
---------- Making package pdmclass ------------
adding build stamp to DESCRIPTION
installing NAMESPACE file and metadata
installing R files
installing inst files
installing man source files
installing indices
installing help
>>> Building/Updating help pages for package 'pdmclass'
Formats: text html latex example chm
my.svd text html latex chm
pdmClass text html latex example chm
pdmClass.cv text html latex example chm
pdmGenes text html latex example chm
pls1c text html latex chm
predict.pls text html latex example chm
svdpls1c text html latex chm
svdr text html latex chm
Microsoft HTML Help Compiler 4.74.8702
Compiling d:\biocbld\bbs-2.1-bioc\meat\pdmclass.Rcheck\00_pkg_src\pdmclass\chm\pdmclass.chm
Compile time: 0 minutes, 0 seconds
9 Topics
13 Local links
0 Internet links
1 Graphic
Created d:\biocbld\bbs-2.1-bioc\meat\pdmclass.Rcheck\00_pkg_src\pdmclass\chm\pdmclass.chm, 27,515 bytes
Compression decreased file by 5,221 bytes.
adding MD5 sums
* DONE (pdmclass)