Back to the "Multiple platform build/check report"
NOTES: (1) a maintainance reboot of lemming prevented these builds to complete on this machine (2) these are the last builds with R 2.6.0 (2007-06-03 r41797) on lamb1 and lemming, next builds will be with R 2.6.0 (2007-06-10 r41908) configured with --enable-strict-barrier |
Package 209/238 | Hostname | OS | Arch | BUILD | CHECK | BUILD BIN |
SemSim1.3.0Xiang GuoLast Changed Date: 2007-04-24 11:31:42 -0700 Last Changed Rev: 24217 | lamb1 | Linux (SUSE 10.1) | x86_64 | OK | OK | |
wellington | Linux (SUSE 9.2) | i686 | OK | OK | ||
churchill | Solaris 2.9 | sparc | OK | OK | ||
lemming | Windows Server 2003 (32-bit) | x64 | [ OK ] | skipped | skipped |
Package: SemSim |
Version: 1.3.0 |
Command: D:\biocbld\bbs-2.1-bioc\R\bin\R.exe CMD build SemSim |
RetCode: 0 |
Time: 92.5 seconds |
Status: OK |
PackageFile: SemSim_1.3.0.tar.gz |
* checking for file 'SemSim/DESCRIPTION' ... OK * preparing 'SemSim': * checking DESCRIPTION meta-information ... OK * installing the package to re-build vignettes installing R.css in D:/biocbld/bbs-2.1-bioc/tmpdir/Rinst662897503 ---------- Making package SemSim ------------ adding build stamp to DESCRIPTION installing R files installing inst files installing data files installing man source files installing indices not zipping data installing help >>> Building/Updating help pages for package 'SemSim' Formats: text html latex example chm GOCount text html latex chm Schreiber text html latex example chm SemSim-internal text html latex chm SemSim-package text html latex chm geneSim text html latex example chm mgeneSim text html latex example chm mtermSim text html latex example chm termSim text html latex example chm Microsoft HTML Help Compiler 4.74.8702 Compiling d:\biocbld\bbs-2.1-bioc\meat\SemSim\chm\SemSim.chm Compile time: 0 minutes, 0 seconds 9 Topics 25 Local links 0 Internet links 1 Graphic Created d:\biocbld\bbs-2.1-bioc\meat\SemSim\chm\SemSim.chm, 23,409 bytes Compression decreased file by 1,167 bytes. adding MD5 sums * DONE (SemSim) * creating vignettes ... OK * removing junk files * checking for LF line-endings in source files * checking for empty or unneeded directories * building 'SemSim_1.3.0.tar.gz'