Back to the "Multiple platform build/check report"
| NOTES: (1) a maintainance reboot of lemming prevented these builds to complete on this machine (2) these are the last builds with R 2.6.0 (2007-06-03 r41797) on lamb1 and lemming, next builds will be with R 2.6.0 (2007-06-10 r41908) configured with --enable-strict-barrier |
| Package 73/238 | Hostname | OS | Arch | BUILD | CHECK | BUILD BIN |
flowUtils0.2.3Florian HahneLast Changed Date: 2007-05-26 11:41:03 -0700 Last Changed Rev: 25004 | lamb1 | Linux (SUSE 10.1) | x86_64 | OK | ERROR | |
| wellington | Linux (SUSE 9.2) | i686 | OK | ERROR | ||
| churchill | Solaris 2.9 | sparc | [ OK ] | ERROR | ||
| lemming | Windows Server 2003 (32-bit) | x64 | OK | ERROR | skipped |
| Package: flowUtils |
| Version: 0.2.3 |
| Command: /loc/biocbuild/bbs-2.1-bioc/R/bin/R CMD build flowUtils |
| RetCode: 0 |
| Time: 1.8 seconds |
| Status: OK |
| PackageFile: flowUtils_0.2.3.tar.gz |
* checking for file 'flowUtils/DESCRIPTION' ... OK * preparing 'flowUtils': * checking DESCRIPTION meta-information ... OK * removing junk files * checking for LF line-endings in source files * checking for empty or unneeded directories * building 'flowUtils_0.2.3.tar.gz'