Back to the "Multiple platform build/check report"
| NOTES: (1) a maintainance reboot of lemming prevented these builds to complete on this machine (2) these are the last builds with R 2.6.0 (2007-06-03 r41797) on lamb1 and lemming, next builds will be with R 2.6.0 (2007-06-10 r41908) configured with --enable-strict-barrier |
| Package 131/238 | Hostname | OS | Arch | BUILD | CHECK | BUILD BIN |
MantelCorr1.7.0Brian SteinmeyerLast Changed Date: 2007-04-24 11:31:42 -0700 Last Changed Rev: 24217 | lamb1 | Linux (SUSE 10.1) | x86_64 | [ OK ] | OK | |
| wellington | Linux (SUSE 9.2) | i686 | OK | OK | ||
| churchill | Solaris 2.9 | sparc | OK | OK | ||
| lemming | Windows Server 2003 (32-bit) | x64 | OK | OK | skipped |
| Package: MantelCorr |
| Version: 1.7.0 |
| Command: /home/biocbuild/bbs-2.1-bioc/R/bin/R CMD build MantelCorr |
| RetCode: 0 |
| Time: 15.6 seconds |
| Status: OK |
| PackageFile: MantelCorr_1.7.0.tar.gz |
* checking for file 'MantelCorr/DESCRIPTION' ... OK
* preparing 'MantelCorr':
* checking DESCRIPTION meta-information ... OK
* installing the package to re-build vignettes
* Installing *source* package 'MantelCorr' ...
** R
** data
** inst
** help
>>> Building/Updating help pages for package 'MantelCorr'
Formats: text html latex example
ClusterGeneList text html latex example
ClusterList text html latex example
DistMatrices text html latex example
GetClusters text html latex example
GolubTrain text html latex example
MantelCorrs text html latex example
PermutationTest text html latex example
** building package indices ...
* DONE (MantelCorr)
* creating vignettes ... OK
* removing junk files
* checking for LF line-endings in source files
* checking for empty or unneeded directories
* building 'MantelCorr_1.7.0.tar.gz'