Back to the "Multiple platform build/check report"
| NOTES: (1) a maintainance reboot of lemming prevented these builds to complete on this machine (2) these are the last builds with R 2.6.0 (2007-06-03 r41797) on lamb1 and lemming, next builds will be with R 2.6.0 (2007-06-10 r41908) configured with --enable-strict-barrier |
| Package 84/238 | Hostname | OS | Arch | BUILD | CHECK | BUILD BIN |
GeneSpring2.11.0Thon de BoerLast Changed Date: 2007-05-11 21:56:41 -0700 Last Changed Rev: 24616 | lamb1 | Linux (SUSE 10.1) | x86_64 | OK | OK | |
| wellington | Linux (SUSE 9.2) | i686 | OK | OK | ||
| churchill | Solaris 2.9 | sparc | [ OK ] | OK | ||
| lemming | Windows Server 2003 (32-bit) | x64 | OK | OK | skipped |
| Package: GeneSpring |
| Version: 2.11.0 |
| Command: /loc/biocbuild/bbs-2.1-bioc/R/bin/R CMD build GeneSpring |
| RetCode: 0 |
| Time: 15.3 seconds |
| Status: OK |
| PackageFile: GeneSpring_2.11.0.tar.gz |
* checking for file 'GeneSpring/DESCRIPTION' ... OK
* preparing 'GeneSpring':
* checking DESCRIPTION meta-information ... OK
* checking whether 'INDEX' is up-to-date ... NO
* use '--force' to overwrite the existing 'INDEX'
* installing the package to re-build vignettes
* Installing *source* package 'GeneSpring' ...
** R
** inst
** preparing package for lazy loading
Loading required package: Biobase
Loading required package: tools
Welcome to Bioconductor
Vignettes contain introductory material. To view, type
'openVignette()'. To cite Bioconductor, see
'citation("Biobase")' and for packages 'citation(pkgname)'.
** help
Note: unmatched right brace in 'GSload.exp' on or after line 76
>>> Building/Updating help pages for package 'GeneSpring'
Formats: text html latex example
GSint text html latex example
GSint2BC text html latex example
GSload.exp text html latex example
GSload.genelist text html latex example
GSload.int text html latex example
GSsave.exp text html latex example
** building package indices ...
* DONE (GeneSpring)
* creating vignettes ... OK
* removing junk files
* checking for LF line-endings in source files
* checking for empty or unneeded directories
* building 'GeneSpring_2.11.0.tar.gz'