Back to the "Multiple platform build/check report"
| NOTES: (1) a maintainance reboot of lemming prevented these builds to complete on this machine (2) these are the last builds with R 2.6.0 (2007-06-03 r41797) on lamb1 and lemming, next builds will be with R 2.6.0 (2007-06-10 r41908) configured with --enable-strict-barrier | 
| Package 158/238 | Hostname | OS | Arch | BUILD | CHECK | BUILD BIN | 
pamr1.35.0Rob TibshiraniLast Changed Date: 2007-04-24 11:31:42 -0700 Last Changed Rev: 24217  | lamb1 | Linux (SUSE 10.1) | x86_64 | OK | OK | |
| wellington | Linux (SUSE 9.2) | i686 | OK | OK | ||
| churchill | Solaris 2.9 | sparc | [ OK ] | OK | ||
| lemming | Windows Server 2003 (32-bit) | x64 | OK | OK | skipped | 
| Package: pamr | 
| Version: 1.35.0 | 
| Command: /loc/biocbuild/bbs-2.1-bioc/R/bin/R CMD build pamr | 
| RetCode: 0 | 
| Time: 1.8 seconds | 
| Status: OK | 
| PackageFile: pamr_1.35.0.tar.gz | 
* checking for file 'pamr/DESCRIPTION' ... OK * preparing 'pamr': * checking DESCRIPTION meta-information ... OK * cleaning src * removing junk files * excluding invalid files from 'pamr' Subdirectory 'man' contains invalid file names: internal.names * checking for LF line-endings in source files * checking for empty or unneeded directories * building 'pamr_1.35.0.tar.gz'