Back to the "Multiple platform build/check report"
NOTES: (1) a maintainance reboot of lemming prevented these builds to complete on this machine (2) these are the last builds with R 2.6.0 (2007-06-03 r41797) on lamb1 and lemming, next builds will be with R 2.6.0 (2007-06-10 r41908) configured with --enable-strict-barrier |
Package 208/238 | Hostname | OS | Arch | BUILD | CHECK | BUILD BIN |
ScISI1.9.6Tony ChiangLast Changed Date: 2007-05-25 00:51:26 -0700 Last Changed Rev: 24981 | lamb1 | Linux (SUSE 10.1) | x86_64 | ERROR | skipped | |
wellington | Linux (SUSE 9.2) | i686 | ERROR | skipped | ||
churchill | Solaris 2.9 | sparc | [ ERROR ] | skipped | ||
lemming | Windows Server 2003 (32-bit) | x64 | ERROR | skipped | skipped |
Package: ScISI |
Version: 1.9.6 |
Command: /loc/biocbuild/bbs-2.1-bioc/R/bin/R CMD build ScISI |
RetCode: 1 |
Time: 16.4 seconds |
Status: ERROR |
PackageFile: None |
* checking for file 'ScISI/DESCRIPTION' ... OK * preparing 'ScISI': * checking DESCRIPTION meta-information ... OK * installing the package to re-build vignettes * Installing *source* package 'ScISI' ... ** R ** data ** inst ** preparing package for lazy loading Loading required package: apComplex Loading required package: graph Loading required package: RBGL Loading required package: GO Loading required package: GOstats Loading required package: annotate Loading required package: Biobase Loading required package: tools Welcome to Bioconductor Vignettes contain introductory material. To view, type 'openVignette()'. To cite Bioconductor, see 'citation("Biobase")' and for packages 'citation(pkgname)'. Loading required package: AnnotationDbi Loading required package: DBI Loading required package: RSQLite Loading required package: Category Loading required package: KEGG Loading required package: genefilter Loading required package: survival Loading required package: splines Loading required package: Rgraphviz Attaching package: 'Rgraphviz' The following object(s) are masked from package:annotate : toFile Loading required package: YEAST Loading required package: xtable Loading required package: Rintact Warning in library(pkg, character.only = TRUE, logical.return = TRUE, lib.loc = lib.loc) : there is no package called 'Rintact' Error: package 'Rintact' could not be loaded Execution halted ERROR: lazy loading failed for package 'ScISI' ** Removing '/tmp/Rinst2370781710/ScISI' ERROR Installation failed. Removing '/tmp/Rinst2370781710'