Back to the "Multiple platform build/check report"
| NOTES: (1) a maintainance reboot of lemming prevented these builds to complete on this machine (2) these are the last builds with R 2.6.0 (2007-06-03 r41797) on lamb1 and lemming, next builds will be with R 2.6.0 (2007-06-10 r41908) configured with --enable-strict-barrier |
| Package 96/238 | Hostname | OS | Arch | BUILD | CHECK | BUILD BIN |
GOstats2.3.6S. FalconLast Changed Date: 2007-06-07 16:25:13 -0700 Last Changed Rev: 25264 | lamb1 | Linux (SUSE 10.1) | x86_64 | OK | OK | |
| wellington | Linux (SUSE 9.2) | i686 | OK | OK | ||
| churchill | Solaris 2.9 | sparc | OK | OK | ||
| lemming | Windows Server 2003 (32-bit) | x64 | OK | [ OK ] | skipped |
| Package: GOstats |
| Version: 2.3.6 |
| Command: D:\biocbld\bbs-2.1-bioc\R\bin\R.exe CMD check GOstats_2.3.6.tar.gz |
| RetCode: 0 |
| Time: 457.4 seconds |
| Status: OK |
| CheckDir: GOstats.Rcheck |
| Warnings: 0 |
* checking for working latex ... OK * using log directory 'D:/biocbld/bbs-2.1-bioc/meat/GOstats.Rcheck' * using R version 2.6.0 Under development (unstable) (2007-06-03 r41797) * checking for file 'GOstats/DESCRIPTION' ... OK * this is package 'GOstats' version '2.3.6' * checking package name space information ... OK * checking package dependencies ... OK * checking if this is a source package ... OK * checking whether package 'GOstats' can be installed ... OK * checking package directory ... OK * checking for portable file names ... OK * checking DESCRIPTION meta-information ... OK * checking top-level files ... OK * checking index information ... OK * checking package subdirectories ... OK * checking R files for non-ASCII characters ... OK * checking R files for syntax errors ... OK * checking whether the package can be loaded ... OK * checking whether the package can be loaded with stated dependencies ... OK * checking whether the name space can be loaded with stated dependencies ... OK * checking for unstated dependencies in R code ... OK * checking S3 generic/method consistency ... OK * checking replacement functions ... OK * checking foreign function calls ... OK * checking R code for possible problems ... NOTE compCorrGraph: no visible global function definition for 'as.matrix.csr' plotGOTermGraph: no visible global function definition for 'makeNodeAttrs' * checking Rd files ... OK * checking Rd cross-references ... OK * checking for missing documentation entries ... OK * checking for code/documentation mismatches ... OK * checking Rd \usage sections ... OK * checking data for non-ASCII characters ... OK * creating GOstats-Ex.R ... OK * checking examples ... OK * checking package vignettes in 'inst/doc' ... OK * creating GOstats-manual.tex ... OK * checking GOstats-manual.tex ... OK
GOstats.Rcheck/00install.out:
installing R.css in D:/biocbld/bbs-2.1-bioc/meat/GOstats.Rcheck
---------- Making package GOstats ------------
adding build stamp to DESCRIPTION
installing NAMESPACE file and metadata
installing R files
installing inst files
installing data files
installing man source files
installing indices
not zipping data
installing help
>>> Building/Updating help pages for package 'GOstats'
Formats: text html latex example chm
GOHyperG text html latex example chm
GOHyperGResult-class text html latex chm
GOLeaves text html latex example chm
GOstats-defunct text html latex chm
GOstats-package text html latex chm
Ndists text html latex example chm
compCorrGraph text html latex example chm
compGdist text html latex example chm
hyperG2Affy text html latex example chm
hyperGTest text html latex chm
hyperGtable text html latex example chm
idx2dimnames text html latex example chm
makeGOGraph text html latex example chm
notConn text html latex example chm
oneGOGraph text html latex example chm
probeSetSummary text html latex chm
shortestPath text html latex example chm
simLL text html latex example chm
termGraphs text html latex chm
triadCensus text html latex example chm
Microsoft HTML Help Compiler 4.74.8702
Compiling d:\biocbld\bbs-2.1-bioc\meat\GOstats.Rcheck\00_pkg_src\GOstats\chm\GOstats.chm
Compile time: 0 minutes, 0 seconds
21 Topics
77 Local links
0 Internet links
1 Graphic
Created d:\biocbld\bbs-2.1-bioc\meat\GOstats.Rcheck\00_pkg_src\GOstats\chm\GOstats.chm, 50,482 bytes
Compression decreased file by 37,922 bytes.
preparing package GOstats for lazy loading
Loading required package: graph
Loading required package: GO
Loading required package: annotate
Loading required package: Biobase
Loading required package: tools
Welcome to Bioconductor
Vignettes contain introductory material. To view, type
'openVignette()'. To cite Bioconductor, see
'citation("Biobase")' and for packages 'citation(pkgname)'.
Loading required package: AnnotationDbi
Loading required package: DBI
Loading required package: RSQLite
Loading required package: RBGL
Loading required package: Category
Loading required package: KEGG
Loading required package: genefilter
Loading required package: survival
Loading required package: splines
adding MD5 sums
* DONE (GOstats)