Back to the "Multiple platform build/check report"
| NOTES: (1) a maintainance reboot of lemming prevented these builds to complete on this machine (2) these are the last builds with R 2.6.0 (2007-06-03 r41797) on lamb1 and lemming, next builds will be with R 2.6.0 (2007-06-10 r41908) configured with --enable-strict-barrier |
| Package 108/238 | Hostname | OS | Arch | BUILD | CHECK | BUILD BIN |
hypergraph1.9.0Seth FalconLast Changed Date: 2007-05-11 21:56:41 -0700 Last Changed Rev: 24616 | lamb1 | Linux (SUSE 10.1) | x86_64 | OK | OK | |
| wellington | Linux (SUSE 9.2) | i686 | OK | [ OK ] | ||
| churchill | Solaris 2.9 | sparc | OK | OK | ||
| lemming | Windows Server 2003 (32-bit) | x64 | OK | OK | skipped |
| Package: hypergraph |
| Version: 1.9.0 |
| Command: /loc/biocbuild/bbs-2.1-bioc/R/bin/R CMD check hypergraph_1.9.0.tar.gz |
| RetCode: 0 |
| Time: 65.8 seconds |
| Status: OK |
| CheckDir: hypergraph.Rcheck |
| Warnings: 0 |
* checking for working latex ... OK * using log directory '/extra/loc/biocbuild/bbs-2.1-bioc/meat/hypergraph.Rcheck' * using R version 2.6.0 Under development (unstable) (2007-06-03 r41797) * checking for file 'hypergraph/DESCRIPTION' ... OK * this is package 'hypergraph' version '1.9.0' * checking package name space information ... OK * checking package dependencies ... OK * checking if this is a source package ... OK * checking whether package 'hypergraph' can be installed ... OK * checking package directory ... OK * checking for portable file names ... OK * checking for sufficient/correct file permissions ... OK * checking DESCRIPTION meta-information ... OK * checking top-level files ... OK * checking index information ... OK * checking package subdirectories ... OK * checking R files for non-ASCII characters ... OK * checking R files for syntax errors ... OK * checking whether the package can be loaded ... OK * checking whether the package can be loaded with stated dependencies ... OK * checking whether the name space can be loaded with stated dependencies ... OK * checking for unstated dependencies in R code ... OK * checking S3 generic/method consistency ... OK * checking replacement functions ... OK * checking foreign function calls ... OK * checking R code for possible problems ... OK * checking Rd files ... OK * checking Rd cross-references ... OK * checking for missing documentation entries ... OK * checking for code/documentation mismatches ... OK * checking Rd \usage sections ... OK * creating hypergraph-Ex.R ... OK * checking examples ... OK * creating hypergraph-manual.tex ... OK * checking hypergraph-manual.tex ... OK
hypergraph.Rcheck/00install.out:
* Installing *source* package 'hypergraph' ...
** R
** inst
** preparing package for lazy loading
Loading required package: graph
** help
Note: unmatched right brace in 'kCores' on or after line 5
Note: unmatched right brace in 'vCover' on or after line 5
>>> Building/Updating help pages for package 'hypergraph'
Formats: text html latex example
DirectedHyperedge-class text html latex example
DirectedHyperedge text html latex
Hyperedge-class text html latex example
Hyperedge text html latex
Hypergraph-class text html latex example
Hypergraph text html latex
kCores text html latex example
l2hel text html latex example
vCover text html latex example
** building package indices ...
* DONE (hypergraph)