Back to the "Multiple platform build/check report"
| NOTES: (1) a maintainance reboot of lemming prevented these builds to complete on this machine (2) these are the last builds with R 2.6.0 (2007-06-03 r41797) on lamb1 and lemming, next builds will be with R 2.6.0 (2007-06-10 r41908) configured with --enable-strict-barrier | 
| Package 209/238 | Hostname | OS | Arch | BUILD | CHECK | BUILD BIN | 
SemSim1.3.0Xiang GuoLast Changed Date: 2007-04-24 11:31:42 -0700 Last Changed Rev: 24217  | lamb1 | Linux (SUSE 10.1) | x86_64 | OK | OK | |
| wellington | Linux (SUSE 9.2) | i686 | OK | OK | ||
| churchill | Solaris 2.9 | sparc | [ OK ] | OK | ||
| lemming | Windows Server 2003 (32-bit) | x64 | OK | skipped | skipped | 
| Package: SemSim | 
| Version: 1.3.0 | 
| Command: /loc/biocbuild/bbs-2.1-bioc/R/bin/R CMD build SemSim | 
| RetCode: 0 | 
| Time: 247.8 seconds | 
| Status: OK | 
| PackageFile: SemSim_1.3.0.tar.gz | 
* checking for file 'SemSim/DESCRIPTION' ... OK
* preparing 'SemSim':
* checking DESCRIPTION meta-information ... OK
* installing the package to re-build vignettes
* Installing *source* package 'SemSim' ...
** R
** data
** inst
** help
 >>> Building/Updating help pages for package 'SemSim'
     Formats: text html latex example 
  GOCount                           text    html    latex
  Schreiber                         text    html    latex   example
  SemSim-internal                   text    html    latex
  SemSim-package                    text    html    latex
  geneSim                           text    html    latex   example
  mgeneSim                          text    html    latex   example
  mtermSim                          text    html    latex   example
  termSim                           text    html    latex   example
** building package indices ...
* DONE (SemSim)
* creating vignettes ... OK
* removing junk files
* checking for LF line-endings in source files
* checking for empty or unneeded directories
* building 'SemSim_1.3.0.tar.gz'