Back to the "Multiple platform build/check report"
| NOTES: (1) a maintainance reboot of lemming prevented these builds to complete on this machine (2) these are the last builds with R 2.6.0 (2007-06-03 r41797) on lamb1 and lemming, next builds will be with R 2.6.0 (2007-06-10 r41908) configured with --enable-strict-barrier |
| Package 116/238 | Hostname | OS | Arch | BUILD | CHECK | BUILD BIN |
LBE1.5.0Cyril DalmassoLast Changed Date: 2007-04-24 11:31:42 -0700 Last Changed Rev: 24217 | lamb1 | Linux (SUSE 10.1) | x86_64 | OK | OK | |
| wellington | Linux (SUSE 9.2) | i686 | OK | OK | ||
| churchill | Solaris 2.9 | sparc | OK | OK | ||
| lemming | Windows Server 2003 (32-bit) | x64 | [ OK ] | OK | skipped |
| Package: LBE |
| Version: 1.5.0 |
| Command: D:\biocbld\bbs-2.1-bioc\R\bin\R.exe CMD build LBE |
| RetCode: 0 |
| Time: 18.5 seconds |
| Status: OK |
| PackageFile: LBE_1.5.0.tar.gz |
* checking for file 'LBE/DESCRIPTION' ... OK
* preparing 'LBE':
* checking DESCRIPTION meta-information ... OK
* installing the package to re-build vignettes
installing R.css in D:/biocbld/bbs-2.1-bioc/tmpdir/Rinst668824179
---------- Making package LBE ------------
adding build stamp to DESCRIPTION
installing R files
installing inst files
installing data files
installing man source files
installing indices
not zipping data
installing help
Note: unmatched right brace in 'LBE-package' on or after line 10
Note: unmatched right brace in 'LBE-package' on or after line 11
Note: unmatched right brace in 'LBE-package.Rd' on or after line 10
Note: unmatched right brace in 'LBE-package.Rd' on or after line 11
>>> Building/Updating help pages for package 'LBE'
Formats: text html latex example chm
LBE-package text html latex chm
LBE text html latex example chm
LBEa text html latex example chm
LBEplot text html latex example chm
LBEsummary text html latex example chm
LBEwrite text html latex example chm
golub.pval text html latex chm
hedenfalk.pval text html latex chm
Microsoft HTML Help Compiler 4.74.8702
Compiling d:\biocbld\bbs-2.1-bioc\meat\LBE\chm\LBE.chm
Compile time: 0 minutes, 0 seconds
9 Topics
36 Local links
0 Internet links
1 Graphic
Created d:\biocbld\bbs-2.1-bioc\meat\LBE\chm\LBE.chm, 26,684 bytes
Compression decreased file by 3,767 bytes.
adding MD5 sums
* DONE (LBE)
* creating vignettes ... OK
* removing junk files
* checking for LF line-endings in source files
* checking for empty or unneeded directories
* building 'LBE_1.5.0.tar.gz'