Back to the "Multiple platform build/check report"
| NOTES: (1) a maintainance reboot of lemming prevented these builds to complete on this machine (2) these are the last builds with R 2.6.0 (2007-06-03 r41797) on lamb1 and lemming, next builds will be with R 2.6.0 (2007-06-10 r41908) configured with --enable-strict-barrier |
| Package 221/238 | Hostname | OS | Arch | BUILD | CHECK | BUILD BIN |
splots1.3.0Oleg SklyarLast Changed Date: 2007-05-11 21:56:41 -0700 Last Changed Rev: 24616 | lamb1 | Linux (SUSE 10.1) | x86_64 | [ OK ] | OK | |
| wellington | Linux (SUSE 9.2) | i686 | OK | OK | ||
| churchill | Solaris 2.9 | sparc | OK | OK | ||
| lemming | Windows Server 2003 (32-bit) | x64 | OK | skipped | skipped |
| Package: splots |
| Version: 1.3.0 |
| Command: /home/biocbuild/bbs-2.1-bioc/R/bin/R CMD build splots |
| RetCode: 0 |
| Time: 3.5 seconds |
| Status: OK |
| PackageFile: splots_1.3.0.tar.gz |
* checking for file 'splots/DESCRIPTION' ... OK
* preparing 'splots':
* checking DESCRIPTION meta-information ... OK
* installing the package to re-build vignettes
* Installing *source* package 'splots' ...
** R
** data
** inst
** preparing package for lazy loading
Loading required package: grid
** help
>>> Building/Updating help pages for package 'splots'
Formats: text html latex example
internals text html latex
plotScreen text html latex example
** building package indices ...
* DONE (splots)
* creating vignettes ... OK
* removing junk files
* checking for LF line-endings in source files
* checking for empty or unneeded directories
* building 'splots_1.3.0.tar.gz'