Back to the "Multiple platform build/check report"
| NOTES: (1) a maintainance reboot of lemming prevented these builds to complete on this machine (2) these are the last builds with R 2.6.0 (2007-06-03 r41797) on lamb1 and lemming, next builds will be with R 2.6.0 (2007-06-10 r41908) configured with --enable-strict-barrier |
| Package 147/238 | Hostname | OS | Arch | BUILD | CHECK | BUILD BIN |
nnNorm2.1.0Adi Laurentiu TarcaLast Changed Date: 2007-04-24 11:31:42 -0700 Last Changed Rev: 24217 | lamb1 | Linux (SUSE 10.1) | x86_64 | OK | OK | |
| wellington | Linux (SUSE 9.2) | i686 | OK | OK | ||
| churchill | Solaris 2.9 | sparc | OK | OK | ||
| lemming | Windows Server 2003 (32-bit) | x64 | OK | [ OK ] | skipped |
| Package: nnNorm |
| Version: 2.1.0 |
| Command: D:\biocbld\bbs-2.1-bioc\R\bin\R.exe CMD check nnNorm_2.1.0.tar.gz |
| RetCode: 0 |
| Time: 1027.7 seconds |
| Status: OK |
| CheckDir: nnNorm.Rcheck |
| Warnings: 0 |
* checking for working latex ... OK * using log directory 'D:/biocbld/bbs-2.1-bioc/meat/nnNorm.Rcheck' * using R version 2.6.0 Under development (unstable) (2007-06-03 r41797) * checking for file 'nnNorm/DESCRIPTION' ... OK * this is package 'nnNorm' version '2.1.0' * checking package dependencies ... OK * checking if this is a source package ... OK * checking whether package 'nnNorm' can be installed ... OK * checking package directory ... OK * checking for portable file names ... OK * checking DESCRIPTION meta-information ... OK * checking top-level files ... OK * checking index information ... OK * checking package subdirectories ... OK * checking R files for non-ASCII characters ... OK * checking R files for syntax errors ... OK * checking whether the package can be loaded ... OK * checking whether the package can be loaded with stated dependencies ... OK * checking for unstated dependencies in R code ... OK * checking S3 generic/method consistency ... OK * checking replacement functions ... OK * checking foreign function calls ... OK * checking R code for possible problems ... NOTE maNormNN: no visible binding for global variable 'decay' * checking Rd files ... OK * checking Rd cross-references ... OK * checking for missing documentation entries ... OK * checking for code/documentation mismatches ... OK * checking Rd \usage sections ... OK * creating nnNorm-Ex.R ... OK * checking examples ... OK * checking package vignettes in 'inst/doc' ... OK * creating nnNorm-manual.tex ... OK * checking nnNorm-manual.tex ... OK
nnNorm.Rcheck/00install.out:
installing R.css in D:/biocbld/bbs-2.1-bioc/meat/nnNorm.Rcheck
---------- Making package nnNorm ------------
adding build stamp to DESCRIPTION
installing R files
installing inst files
installing man source files
installing indices
installing help
Note: unmatched right brace in 'detectSpatialBias' on or after line 32
Note: unmatched right brace in 'detectSpatialBias.Rd' on or after line 32
Note: unmatched right brace in 'maNormNN' on or after line 52
Note: unmatched right brace in 'maNormNN.Rd' on or after line 52
>>> Building/Updating help pages for package 'nnNorm'
Formats: text html latex example chm
compNorm text html latex example chm
detectSpatialBias text html latex example chm
maNormNN text html latex example chm
Microsoft HTML Help Compiler 4.74.8702
Compiling d:\biocbld\bbs-2.1-bioc\meat\nnNorm.Rcheck\00_pkg_src\nnNorm\chm\nnNorm.chm
Compile time: 0 minutes, 0 seconds
4 Topics
9 Local links
0 Internet links
1 Graphic
Created d:\biocbld\bbs-2.1-bioc\meat\nnNorm.Rcheck\00_pkg_src\nnNorm\chm\nnNorm.chm, 22,283 bytes
Compression increased file by 5,033 bytes.
adding MD5 sums
* DONE (nnNorm)