Back to the "Multiple platform build/check report"
| NOTES: (1) a maintainance reboot of lemming prevented these builds to complete on this machine (2) these are the last builds with R 2.6.0 (2007-06-03 r41797) on lamb1 and lemming, next builds will be with R 2.6.0 (2007-06-10 r41908) configured with --enable-strict-barrier |
| Package 83/238 | Hostname | OS | Arch | BUILD | CHECK | BUILD BIN |
GeneRfold0.1.3Antoine LucasLast Changed Date: 2007-06-10 10:22:32 -0700 Last Changed Rev: 25301 | lamb1 | Linux (SUSE 10.1) | x86_64 | OK | OK | |
| wellington | Linux (SUSE 9.2) | i686 | ERROR | skipped | ||
| churchill | Solaris 2.9 | sparc | ERROR | skipped | ||
| lemming | Windows Server 2003 (32-bit) | x64 | [ ERROR ] | skipped | skipped |
| Package: GeneRfold |
| Version: 0.1.3 |
| Command: D:\biocbld\bbs-2.1-bioc\R\bin\R.exe CMD build GeneRfold |
| RetCode: 1 |
| Time: 2.5 seconds |
| Status: ERROR |
| PackageFile: None |
* checking for file 'GeneRfold/DESCRIPTION' ... OK
* preparing 'GeneRfold':
* checking DESCRIPTION meta-information ... OK
* cleaning src
* checking whether 'INDEX' is up-to-date ... NO
* use '--force' to overwrite the existing 'INDEX'
* installing the package to re-build vignettes
installing R.css in D:/biocbld/bbs-2.1-bioc/tmpdir/Rinst650498995
---------- Making package GeneRfold ------------
**********************************************
WARNING: this package has a configure script
It probably needs manual configuration
**********************************************
adding build stamp to DESCRIPTION
installing NAMESPACE file and metadata
making DLL ...
making viennaR.d from viennaR.c
viennaR.c:11:28: ViennaRNA/fold.h: No such file or directory
viennaR.c:12:33: ViennaRNA/fold_vars.h: No such file or directory
viennaR.c:13:30: ViennaRNA/PS_dot.h: No such file or directory
make[3]: *** [viennaR.d] Error 1
make[2]: *** [srcDynlib] Error 2
make[1]: *** [all] Error 2
make: *** [pkg-GeneRfold] Error 2
*** Installation of GeneRfold failed ***
Removing 'D:/biocbld/bbs-2.1-bioc/tmpdir/Rinst650498995/GeneRfold'
ERROR
Installation failed.
Removing 'D:/biocbld/bbs-2.1-bioc/tmpdir/Rinst650498995'