Back to the "Multiple platform build/check report"
| NOTES: (1) a maintainance reboot of lemming prevented these builds to complete on this machine (2) these are the last builds with R 2.6.0 (2007-06-03 r41797) on lamb1 and lemming, next builds will be with R 2.6.0 (2007-06-10 r41908) configured with --enable-strict-barrier |
| Package 187/238 | Hostname | OS | Arch | BUILD | CHECK | BUILD BIN |
RefPlus1.5.0Kai-Ming ChangLast Changed Date: 2007-04-24 11:31:42 -0700 Last Changed Rev: 24217 | lamb1 | Linux (SUSE 10.1) | x86_64 | OK | OK | |
| wellington | Linux (SUSE 9.2) | i686 | OK | OK | ||
| churchill | Solaris 2.9 | sparc | [ OK ] | OK | ||
| lemming | Windows Server 2003 (32-bit) | x64 | ERROR | skipped | skipped |
| Package: RefPlus |
| Version: 1.5.0 |
| Command: /loc/biocbuild/bbs-2.1-bioc/R/bin/R CMD build RefPlus |
| RetCode: 0 |
| Time: 307.4 seconds |
| Status: OK |
| PackageFile: RefPlus_1.5.0.tar.gz |
* checking for file 'RefPlus/DESCRIPTION' ... OK
* preparing 'RefPlus':
* checking DESCRIPTION meta-information ... OK
* checking whether 'INDEX' is up-to-date ... NO
* use '--force' to overwrite the existing 'INDEX'
* installing the package to re-build vignettes
* Installing *source* package 'RefPlus' ...
** R
** inst
** help
>>> Building/Updating help pages for package 'RefPlus'
Formats: text html latex example
RefPlus-package text html latex example
colMedians text html latex example
normalize.quantiles2 text html latex example
rma.para text html latex example
rmaplus text html latex example
rmaref.predict text html latex example
** building package indices ...
* DONE (RefPlus)
* creating vignettes ... OK
* removing junk files
* checking for LF line-endings in source files
* checking for empty or unneeded directories
* building 'RefPlus_1.5.0.tar.gz'