This page was generated on 2019-04-09 13:39:49 -0400 (Tue, 09 Apr 2019).
| [malbec2] | Linux (Ubuntu 18.04.2 LTS) / x86_64 |  |  |  |  |  | 
| tokay2 | Windows Server 2012 R2 Standard / x64 |  |  |  |  |  | 
| celaya2 | OS X 10.11.6 El Capitan / x86_64 |  |  |  |  |  | 
| merida2 | OS X 10.11.6 El Capitan / x86_64 |  |  |  |  |  | 
|  | 
|  | 
|  |  | 
| a4 1.31.0 | Tobias Verbeke | OK | OK | OK |  |  | 
| a4Base 1.31.0 | Tobias Verbeke | OK | OK | OK |  |  | 
| a4Classif 1.31.0 | Tobias Verbeke | OK | OK | OK |  |  | 
| a4Core 1.31.0 | Tobias Verbeke | OK | OK | OK |  |  | 
| a4Preproc 1.31.0 | Tobias Verbeke | OK | OK | OK |  |  | 
| a4Reporting 1.31.0 | Tobias Verbeke , Willem Ligtenberg | OK | OK | OK |  |  | 
| ABAEnrichment 1.13.1 | Steffi Grote | OK | OK | OK |  |  | 
| ABarray 1.51.0 | Yongming Andrew Sun | OK | OK | OK |  |  | 
| abseqR 1.1.0 | JiaHong Fong | OK | OK | OK |  |  | 
| ABSSeq 1.37.0 | Wentao Yang | OK | OK | OK |  |  | 
| acde 1.13.0 | Juan Pablo Acosta | OK | OK | OK |  |  | 
| ACE 1.1.1 | Jos B Poell | OK | OK | OK |  |  | 
| aCGH 1.61.0 | Peter Dimitrov | OK | OK | OK |  |  | 
| ACME 2.39.0 | Sean Davis | OK | OK | WARNINGS |  |  | 
| ADaCGH2 2.23.0 | Ramon Diaz-Uriarte | OK | OK | OK |  |  | 
| ADAM 0.99.66 | Jose Luiz Rybarczyk Filho | OK | OK | OK |  |  | 
| adaptest 1.3.0 | Weixin Cai | OK | OK | OK |  |  | 
| adductomicsR 0.99.79 | Josie Hayes | OK | ERROR | skipped |  |  | 
| adSplit 1.53.0 | Claudio Lottaz | OK | OK | WARNINGS |  |  | 
| AffiXcan 1.1.3 | Alessandro Lussana | OK | OK | OK |  |  | 
| affxparser 1.55.0 | Kasper Daniel Hansen | OK | OK | WARNINGS |  |  | 
| affy 1.61.0 | Rafael A. Irizarry | OK | OK | WARNINGS |  |  | 
| affycomp 1.59.0 | Rafael A. Irizarry | OK | OK | OK |  |  | 
| AffyCompatible 1.43.0 | Martin Morgan | OK | OK | OK |  |  | 
| affyContam 1.41.0 | V. Carey | OK | OK | OK |  |  | 
| affycoretools 1.55.0 | James W. MacDonald | OK | OK | OK |  |  | 
| AffyExpress 1.49.0 | Xuejun Arthur Li | OK | OK | OK |  |  | 
| affyILM 1.35.0 | Myriam Kroll and Fabrice Berger | OK | OK | OK |  |  | 
| affyio 1.53.0 | Ben Bolstad | OK | OK | OK |  |  | 
| affylmGUI 1.57.0 | Gordon Smyth | OK | OK | OK |  |  | 
| affyPara 1.43.0 | Markus Schmidberger | OK | OK | OK |  |  | 
| affypdnn 1.57.0 | Laurent Gautier | OK | OK | OK |  |  | 
| affyPLM 1.59.0 | Ben Bolstad | OK | OK | OK |  |  | 
| affyQCReport 1.61.0 | Craig Parman | OK | OK | OK |  |  | 
| AffyRNADegradation 1.29.0 | Mario Fasold | OK | OK | OK |  |  | 
| AGDEX 1.31.0 | Cuilan lani Gao | OK | OK | OK |  |  | 
| agilp 3.15.0 | Benny Chain | OK | OK | OK |  |  | 
| AgiMicroRna 2.33.0 | Pedro Lopez-Romero | OK | OK | OK |  |  | 
| AIMS 1.15.1 | Eric R Paquet | OK | OK | OK |  |  | 
| ALDEx2 1.15.4 | Greg Gloor | OK | OK | OK |  |  | 
| alevinQC 0.99.4 | Charlotte Soneson | OK | OK | OK |  |  | 
| AllelicImbalance 1.21.2 | Jesper R Gadin | OK | OK | OK |  |  | 
| alpine 1.9.0 | Michael Love | OK | OK | OK |  |  | 
| alsace 1.19.0 | Ron Wehrens | OK | OK | OK |  |  | 
| altcdfenvs 2.45.1 | Laurent Gautier | OK | OK | OK |  |  | 
| AMARETTO 0.99.20 | Olivier Gevaert | OK | OK | OK |  |  | 
| AMOUNTAIN 1.9.0 | Dong Li | OK | OK | OK |  |  | 
| amplican 1.5.6 | Eivind Valen | OK | OK | OK |  |  | 
| AnalysisPageServer 1.17.0 | Brad Friedman | OK | OK | OK |  |  | 
| anamiR 1.11.0 | Ti-Tai Wang | OK | OK | OK |  |  | 
| Anaquin 2.7.1 | Ted Wong | OK | OK | OK |  |  | 
| AneuFinder 1.11.2 | Aaron Taudt | OK | OK | OK |  |  | 
| ANF 1.5.0 | Tianle Ma | OK | OK | OK |  |  | 
| annaffy 1.55.0 | Colin A. Smith | OK | OK | OK |  |  | 
| annmap 1.25.0 | Chris Wirth | OK | OK | WARNINGS |  |  | 
| annotate 1.61.1 | Bioconductor Package Maintainer | OK | OK | OK |  |  | 
| AnnotationDbi 1.45.1 | Bioconductor Package Maintainer | OK | OK | OK |  |  | 
| AnnotationFilter 1.7.0 | Bioconductor Package Maintainer | OK | OK | OK |  |  | 
| AnnotationForge 1.25.0 | Bioconductor Package Maintainer | OK | OK | OK |  |  | 
| AnnotationFuncs 1.33.0 | Stefan McKinnon Edwards | OK | OK | OK |  |  | 
| AnnotationHub 2.15.12 | Bioconductor Package Maintainer | OK | OK | WARNINGS |  |  | 
| AnnotationHubData 1.13.10 | Bioconductor Package Maintainer | OK | OK | OK |  |  | 
| annotationTools 1.57.0 | Alexandre Kuhn | OK | OK | OK |  |  | 
| annotatr 1.9.0 | Raymond G. Cavalcante | OK | OK | OK |  |  | 
| anota 1.31.0 | Ola Larsson | OK | OK | OK |  |  | 
| anota2seq 1.5.3 | Christian Oertlin , Julie Lorent | OK | OK | OK |  |  | 
| antiProfiles 1.23.0 | Hector Corrada Bravo | OK | OK | OK |  |  | 
| apComplex 2.49.1 | Denise Scholtens | OK | OK | OK |  |  | 
| apeglm 1.5.4 | Anqi Zhu | OK | OK | OK |  |  | 
| appreci8R 1.1.0 | Sarah Sandmann | OK | ERROR | skipped |  |  | 
| aroma.light 3.13.0 | Henrik Bengtsson | OK | OK | OK |  |  | 
| ArrayExpress 1.43.0 | Suhaib Mohammed | OK | OK | OK |  |  | 
| ArrayExpressHTS 1.33.1 | Angela Goncalves , Andrew Tikhonov | ERROR | ERROR | skipped |  |  | 
| arrayMvout 1.41.0 | V. Carey | OK | OK | OK |  |  | 
| arrayQuality 1.61.0 | Agnes Paquet | OK | OK | WARNINGS |  |  | 
| arrayQualityMetrics 3.39.1 | Mike Smith | OK | OK | OK |  |  | 
| ArrayTools 1.43.0 | Arthur Li | OK | OK | OK |  |  | 
| ArrayTV 1.21.0 | Eitan Halper-Stromberg | OK | OK | OK |  |  | 
| ARRmNormalization 1.23.0 | Jean-Philippe Fortin | OK | OK | OK |  |  | 
| artMS 1.1.12 | David Jimenez-Morales | OK | OK | OK |  |  | 
| ASAFE 1.9.0 | Qian Zhang | OK | OK | OK |  |  | 
| ASEB 1.27.0 | Likun Wang | OK | OK | OK |  |  | 
| ASGSCA 1.17.0 | Hela Romdhani | OK | OK | OK |  |  | 
| ASICS 1.3.0 | Gaëlle Lefort | OK | OK | OK |  |  | 
| ASpli 1.9.1 | Estefania Mancini | OK | OK | OK |  |  | 
| AssessORF 1.1.6 | Deepank Korandla | OK | OK | OK |  |  | 
| ASSET 2.1.0 | Samsiddhi Bhattacharjee | OK | OK | WARNINGS |  |  | 
| ASSIGN 1.19.1 | Ying Shen , W. Evan Johnson | OK | OK | OK |  |  | 
| ATACseqQC 1.7.8 | Jianhong Ou | OK | OK | OK |  |  | 
| atSNP 0.99.21 | Sunyoung Shin | OK | ERROR | skipped |  |  | 
| attract 1.35.1 | Samuel Zimmerman | OK | OK | OK |  |  | 
| AUCell 1.5.5 | Sara Aibar | OK | OK | OK |  |  | 
|  | 
|  |  | 
| BaalChIP 1.9.1 | Ines de Santiago | OK | OK | WARNINGS |  |  | 
| BAC 1.43.0 | Raphael Gottardo | OK | OK | OK |  |  | 
| bacon 1.11.1 | Maarten van Iterson | OK | OK | OK |  |  | 
| BADER 1.21.1 | Andreas Neudecker | OK | OK | OK |  |  | 
| BadRegionFinder 1.11.0 | Sarah Sandmann | OK | OK | OK |  |  | 
| BAGS 2.23.0 | Alejandro Quiroz-Zarate | OK | OK | OK |  |  | 
| ballgown 2.15.1 | Jack Fu | OK | OK | OK |  |  | 
| bamsignals 1.15.0 | Alessandro Mammana | OK | OK | OK |  |  | 
| banocc 1.7.1 | George Weingart | OK | OK | OK |  |  | 
| basecallQC 1.7.0 | Thomas Carroll | OK | OK | OK |  |  | 
| BaseSpaceR 1.27.0 | Jared O'Connell | OK | OK | OK |  |  | 
| Basic4Cseq 1.19.1 | Carolin Walter | OK | OK | OK |  |  | 
| BASiCS 1.5.26 | Catalina Vallejos | OK | OK | OK |  |  | 
| BasicSTARRseq 1.11.0 | Annika Buerger | OK | OK | OK |  |  | 
| batchelor 0.99.7 | Aaron Lun | OK | OK | OK |  |  | 
| BatchQC 1.11.3 | Solaiappan Manimaran | OK | OK | OK |  |  | 
| BayesKnockdown 1.9.0 | William Chad Young | OK | OK | OK |  |  | 
| BayesPeak 1.35.0 | Jonathan Cairns | OK | OK | OK |  |  | 
| bayNorm 1.1.7 | Wenhao Tang | OK | OK | OK |  |  | 
| baySeq 2.17.0 | Thomas J. Hardcastle | OK | OK | OK |  |  | 
| BBCAnalyzer 1.13.0 | Sarah Sandmann | OK | OK | OK |  |  | 
| BCRANK 1.45.0 | Adam Ameur | OK | OK | OK |  |  | 
| bcSeq 1.5.1 | Jiaxing Lin | OK | ERROR | skipped |  |  | 
| BDMMAcorrect 1.1.1 | ZHENWEI DAI | OK | OK | OK |  |  | 
| beachmat 1.99.8 | Aaron Lun | OK | OK | OK |  |  | 
| beadarray 2.33.2 | Mark Dunning | OK | OK | OK |  |  | 
| beadarraySNP 1.49.0 | Jan Oosting | OK | OK | OK |  |  | 
| BeadDataPackR 1.35.0 | Mike Smith | OK | OK | OK |  |  | 
| BEARscc 1.3.1 | Benjamin Schuster-Boeckler | OK | OK | WARNINGS |  |  | 
| BEAT 1.21.1 | Kemal Akman | OK | OK | OK |  |  | 
| BEclear 1.99.2 | David Rasp | ERROR | ERROR | skipped |  |  | 
| bgafun 1.45.0 | Iain Wallace | OK | OK | OK |  |  | 
| BgeeDB 2.9.0 | Julien Wollbrett , Julien Roux , Andrea Komljenovic  , Frederic Bastian | OK | OK | OK |  |  | 
| BGmix 1.43.0 | Alex Lewin | OK | OK | WARNINGS |  |  | 
| bgx 1.49.4 | Ernest Turro | ERROR | ERROR | skipped |  |  | 
| BHC 1.35.0 | Rich Savage | OK | OK | OK |  |  | 
| BicARE 1.41.0 | Pierre Gestraud | OK | OK | OK |  |  | 
| BiFET 1.3.1 | Ahrim Youn | OK | OK | OK |  |  | 
| BiGGR 1.19.0 | Anand K. Gavai | ERROR | ERROR | skipped |  |  | 
| bigmelon 1.9.0 | Tyler J. Gorrie-Stone | OK | OK | OK |  |  | 
| bigmemoryExtras 1.31.0 | Peter M. Haverty | OK | OK | WARNINGS |  |  | 
| bigPint 0.99.8 | Lindsay Rutter | OK | OK | OK |  |  | 
| bioassayR 1.21.1 | Tyler Backman | OK | OK | OK |  |  | 
| Biobase 2.43.1 | Bioconductor Package Maintainer | OK | OK | WARNINGS |  |  | 
| biobroom 1.15.0 | John D. Storey  and Andrew J. Bass | OK | OK | OK |  |  | 
| bioCancer 1.11.0 | Karim Mezhoud | OK | OK | OK |  |  | 
| BiocCaseStudies 1.45.0 | Bioconductor Package Maintainer | OK | OK | OK |  |  | 
| BiocCheck 1.19.33 | Bioconductor Package Maintainer | OK | OK | OK |  |  | 
| BiocFileCache 1.7.7 | Lori Shepherd | OK | OK | ERROR |  |  | 
| BiocGenerics 0.29.2 | Bioconductor Package Maintainer | OK | OK | WARNINGS |  |  | 
| biocGraph 1.45.0 | Florian Hahne | OK | OK | OK |  |  | 
| BiocNeighbors 1.1.12 | Aaron Lun | OK | OK | OK |  |  | 
| BiocOncoTK 1.3.6 | VJ Carey | OK | OK | OK |  |  | 
| BioCor 1.7.0 | Lluís Revilla Sancho | OK | OK | OK |  |  | 
| BiocParallel 1.17.18 | Bioconductor Package Maintainer | OK | OK | OK |  |  | 
| BiocPkgTools 1.1.8 | Sean Davis | OK | OK | OK |  |  | 
| BiocSingular 0.99.14 | Aaron Lun | OK | OK | OK |  |  | 
| BiocSklearn 1.5.2 | VJ Carey | OK | OK | OK |  |  | 
| BiocStyle 2.11.0 | Bioconductor Package Maintainer | OK | OK | OK |  |  | 
| BiocVersion 3.9.0 | Bioconductor Package Maintainer | OK | OK | WARNINGS |  |  | 
| biocViews 1.51.15 | Bioconductor Package Maintainer | OK | OK | WARNINGS |  |  | 
| BiocWorkflowTools 1.9.3 | Mike Smith | OK | OK | WARNINGS |  |  | 
| bioDist 1.55.0 | Bioconductor Package Maintainer | OK | OK | OK |  |  | 
| biomaRt 2.39.2 | Mike Smith | OK | OK | ERROR |  |  | 
| biomformat 1.11.1 | Paul J. McMurdie | OK | OK | OK |  |  | 
| BioMM 0.99.11 | Junfang Chen | OK | OK | OK |  |  | 
| BioMVCClass 1.51.0 | Elizabeth Whalen | OK | OK | OK |  |  | 
| biomvRCNS 1.23.0 | Yang Du | OK | OK | OK |  |  | 
| BioNet 1.43.0 | Marcus Dittrich | OK | OK | OK |  |  | 
| BioNetStat 1.3.2 | Vinicius Jardim | OK | OK | OK |  |  | 
| BioQC 1.11.1 | Jitao David Zhang | OK | OK | WARNINGS |  |  | 
| BioSeqClass 1.41.0 | Li Hong | OK | OK | OK |  |  | 
| biosigner 1.11.26 | Philippe Rinaudo , Etienne Thevenot | OK | OK | OK |  |  | 
| Biostrings 2.51.5 | H. Pagès | OK | OK | WARNINGS |  |  | 
| biosvd 2.19.0 | Anneleen Daemen , Matthew Brauer | OK | OK | OK |  |  | 
| biotmle 1.7.2 | Nima Hejazi | OK | OK | OK |  |  | 
| biovizBase 1.31.1 | Michael Lawrence | OK | OK | WARNINGS |  |  | 
| BiRewire 3.15.0 | Andrea Gobbi | OK | OK | WARNINGS |  |  | 
| birta 1.27.0 | Benedikt Zacher | OK | OK | OK |  |  | 
| birte 1.19.0 | Holger Froehlich | OK | ERROR | skipped |  |  | 
| BiSeq 1.23.0 | Katja Hebestreit | OK | OK | OK |  |  | 
| BitSeq 1.27.2 | Antti Honkela , Panagiotis Papastamoulis | OK | OK | WARNINGS |  |  | 
| blima 1.17.0 | Vojtěch Kulvait | OK | OK | WARNINGS |  |  | 
| BLMA 1.7.0 | Tin Nguyen | OK | OK | OK |  |  | 
| bnbc 1.5.0 | Kipper Fletez-Brant | OK | OK | OK |  |  | 
| BPRMeth 1.9.4 | Chantriolnt-Andreas Kapourani | OK | OK | OK |  |  | 
| BRAIN 1.29.1 | Piotr Dittwald | OK | OK | WARNINGS |  |  | 
| brainImageR 1.1.1 | Sara B Linker | OK | ERROR | skipped |  |  | 
| BrainStars 1.27.0 | Itoshi NIKAIDO | OK | OK | OK |  |  | 
| branchpointer 1.9.0 | Beth Signal | OK | OK | OK |  |  | 
| breakpointR 1.1.2 | David Porubsky | OK | OK | OK |  |  | 
| bridge 1.47.0 | Raphael Gottardo | OK | OK | WARNINGS |  |  | 
| BridgeDbR 1.17.5 | Egon Willighagen | OK | OK | OK |  |  | 
| BrowserViz 2.5.13 | Paul Shannon | OK | OK | OK |  |  | 
| BSgenome 1.51.0 | H. Pagès | OK | OK | WARNINGS |  |  | 
| bsseq 1.19.3 | Kasper Daniel Hansen | OK | OK | ERROR |  |  | 
| BubbleTree 2.13.3 | Todd Creasy , Wei Zhu | OK | OK | OK |  |  | 
| BufferedMatrix 1.47.0 | Ben Bolstad | OK | OK | OK |  |  | 
| BufferedMatrixMethods 1.47.0 | Ben Bolstad | OK | OK | OK |  |  | 
| BUMHMM 1.7.1 | Alina Selega | OK | OK | OK |  |  | 
| bumphunter 1.25.4 | Rafael A. Irizarry | OK | OK | OK |  |  | 
| BUS 1.39.0 | Yuanhua Liu | OK | OK | OK |  |  | 
| BUScorrect 1.1.0 | Xiangyu Luo | OK | OK | OK |  |  | 
|  | 
|  |  | 
| CAFE 1.19.0 | Sander Bollen | OK | OK | WARNINGS |  |  | 
| CAGEfightR 1.3.0 | Malte Thodberg | OK | OK | OK |  |  | 
| CAGEr 1.25.1 | Vanja Haberle , Charles Plessy | OK | OK | OK |  |  | 
| CALIB 1.49.0 | Hui Zhao | OK | OK | WARNINGS |  |  | 
| CAMERA 1.39.2 | Steffen Neumann | OK | OK | OK |  |  | 
| CAMTHC 1.1.3 | Lulu Chen | OK | OK | OK |  |  | 
| canceR 1.17.1 | Karim Mezhoud | OK | OK | WARNINGS |  |  | 
| cancerclass 1.27.0 | Daniel Kosztyla | OK | OK | OK |  |  | 
| CancerInSilico 2.3.1 | Thomas D. Sherman | OK | OK | WARNINGS |  |  | 
| CancerMutationAnalysis 1.25.0 | Simina M. Boca | OK | OK | OK |  |  | 
| CancerSubtypes 1.9.0 | Taosheng Xu | OK | OK | OK |  |  | 
| CAnD 1.15.0 | Caitlin McHugh | OK | OK | OK |  |  | 
| caOmicsV 1.13.1 | Henry Zhang | OK | OK | OK |  |  | 
| Cardinal 2.1.6 | Kylie A. Bemis | OK | ERROR | skipped |  |  | 
| casper 2.17.1 | David Rossell | OK | OK | WARNINGS |  |  | 
| CATALYST 1.7.7 | Helena L. Crowell | OK | OK | ERROR |  |  | 
| Category 2.49.1 | Bioconductor Package Maintainer | OK | OK | OK |  |  | 
| categoryCompare 1.27.0 | Robert M. Flight | OK | OK | OK |  |  | 
| CausalR 1.15.1 | Glyn Bradley , Steven Barrett | OK | OK | OK |  |  | 
| cbaf 1.5.3 | Arman Shahrisa | OK | OK | OK |  |  | 
| ccfindR 1.3.0 | Jun Woo | OK | OK | OK |  |  | 
| ccmap 1.9.0 | Alex Pickering | OK | OK | OK |  |  | 
| CCPROMISE 1.9.0 | Xueyuan Cao | OK | OK | WARNINGS |  |  | 
| ccrepe 1.19.1 | Emma Schwager ,Craig Bielski, George Weingart | OK | OK | OK |  |  | 
| celaref 1.1.5 | Sarah Williams | OK | OK | OK |  |  | 
| cellbaseR 1.7.2 | Mohammed OE Abdallah | OK | OK | OK |  |  | 
| CellBench 0.99.10 | Shian Su | OK | OK | OK |  |  | 
| cellGrowth 1.27.1 | Julien Gagneur | OK | OK | OK |  |  | 
| cellHTS2 2.47.1 | Joseph Barry | OK | OK | WARNINGS |  |  | 
| cellity 1.11.1 | Tomislav Ilicic | OK | OK | OK |  |  | 
| CellMapper 1.9.0 | Brad Nelms | OK | OK | WARNINGS |  |  | 
| CellNOptR 1.29.0 | A.Gabor | OK | OK | WARNINGS |  |  | 
| cellscape 1.7.0 | Maia Smith | OK | OK | WARNINGS |  |  | 
| CellScore 1.3.0 | Nancy Mah | OK | OK | OK |  |  | 
| CellTrails 1.1.1 | Daniel Ellwanger | OK | OK | OK |  |  | 
| cellTree 1.13.1 | David duVerle | OK | OK | OK |  |  | 
| CEMiTool 1.7.7 | Helder Nakaya | OK | OK | OK |  |  | 
| CexoR 1.21.0 | Pedro Madrigal | OK | OK | OK |  |  | 
| CFAssay 1.17.1 | Herbert Braselmann | OK | OK | OK |  |  | 
| CGEN 3.19.1 | William Wheeler | OK | OK | OK |  |  | 
| CGHbase 1.43.0 | Mark van de Wiel | OK | OK | OK |  |  | 
| CGHcall 2.45.0 | Mark van de Wiel | OK | OK | OK |  |  | 
| cghMCR 1.41.0 | J. Zhang | OK | OK | WARNINGS |  |  | 
| CGHnormaliter 1.37.0 | Bart P.P. van Houte | OK | OK | OK |  |  | 
| CGHregions 1.41.0 | Sjoerd Vosse | OK | OK | OK |  |  | 
| ChAMP 2.13.5 | Yuan Tian | OK | OK | WARNINGS |  |  | 
| CHARGE 1.3.0 | Benjamin Mayne | OK | OK | OK |  |  | 
| charm 2.29.0 | Peter Murakami | ERROR | ERROR | skipped |  |  | 
| ChemmineOB 1.21.0 | Thomas Girke | OK | OK | OK |  |  | 
| ChemmineR 3.35.6 | Thomas Girke | OK | OK | OK |  |  | 
| CHETAH 0.99.4 | Jurrian de Kanter | OK | OK | OK |  |  | 
| ChIC 1.3.33 | Carmen Maria Livi | OK | OK | OK |  |  | 
| Chicago 1.11.1 | Mikhail Spivakov | OK | OK | OK |  |  | 
| chimera 1.25.0 | Raffaele A Calogero | OK | OK | OK |  |  | 
| chimeraviz 1.9.5 | Stian Lågstad | OK | OK | OK |  |  | 
| ChIPanalyser 1.4.1 | Patrick C.N. Martin | OK | OK | OK |  |  | 
| ChIPComp 1.13.0 | Li Chen | OK | OK | OK |  |  | 
| chipenrich 2.7.1 | Raymond G. Cavalcante | OK | OK | OK |  |  | 
| ChIPexoQual 1.7.0 | Rene Welch | OK | OK | OK |  |  | 
| ChIPpeakAnno 3.17.2 | Lihua Julie Zhu | OK | OK | OK |  |  | 
| ChIPQC 1.19.2 | Tom Carroll , Rory Stark | OK | OK | WARNINGS |  |  | 
| ChIPseeker 1.19.1 | Guangchuang Yu | OK | OK | OK |  |  | 
| chipseq 1.33.3 | Bioconductor Package Maintainer | OK | OK | WARNINGS |  |  | 
| ChIPseqR 1.37.0 | Peter Humburg | OK | OK | WARNINGS |  |  | 
| ChIPSeqSpike 1.3.1 | Nicolas Descostes | OK | OK | OK |  |  | 
| ChIPsim 1.37.0 | Peter Humburg | OK | OK | OK |  |  | 
| ChIPXpress 1.27.0 | George Wu | OK | OK | OK |  |  | 
| chopsticks 1.49.0 | Hin-Tak Leung | OK | OK | WARNINGS |  |  | 
| chroGPS 2.1.1 | Oscar Reina | OK | OK | OK |  |  | 
| chromDraw 2.13.0 | Jan Janecka | OK | OK | WARNINGS |  |  | 
| ChromHeatMap 1.37.0 | Tim F. Rayner | OK | OK | OK |  |  | 
| chromPlot 1.11.0 | Karen Y. Orostica | OK | OK | OK |  |  | 
| chromstaR 1.9.2 | Aaron Taudt | OK | OK | OK |  |  | 
| chromswitch 1.5.1 | Selin Jessa | OK | OK | OK |  |  | 
| chromVAR 1.5.0 | Alicia Schep | OK | OK | OK |  |  | 
| CHRONOS 1.11.1 | Panos Balomenos | OK | OK | OK |  |  | 
| cicero 1.1.4 | Hannah Pliner | OK | OK | ERROR |  |  | 
| CINdex 1.11.0 | Yuriy Gusev | OK | OK | OK |  |  | 
| cisPath 1.23.0 | Likun Wang | OK | OK | OK |  |  | 
| ClassifyR 2.3.6 | Dario Strbenac | OK | OK | OK |  |  | 
| cleanUpdTSeq 1.21.0 | Sarah Sheppard ; Jianhong Ou | OK | ERROR | skipped |  |  | 
| cleaver 1.21.4 | Sebastian Gibb | OK | OK | OK |  |  | 
| clippda 1.33.0 | Stephen Nyangoma | OK | OK | WARNINGS |  |  | 
| clipper 1.23.0 | Paolo Martini | OK | OK | ERROR |  |  | 
| Clomial 1.19.2 | Habil Zare | OK | OK | OK |  |  | 
| Clonality 1.31.0 | Irina Ostrovnaya | OK | OK | OK |  |  | 
| clonotypeR 1.21.0 | Charles Plessy | OK | OK | OK |  |  | 
| clst 1.31.0 | Noah Hoffman | OK | OK | WARNINGS |  |  | 
| clstutils 1.31.0 | Noah Hoffman | OK | OK | WARNINGS |  |  | 
| CluMSID 0.99.13 | Tobias Depke | OK | OK | OK |  |  | 
| clustComp 1.11.0 | Aurora Torrente | OK | OK | OK |  |  | 
| clusterExperiment 2.3.1 | Elizabeth Purdom | OK | OK | ERROR |  |  | 
| ClusterJudge 1.5.0 | Adrian Pasculescu | OK | OK | OK |  |  | 
| clusterProfiler 3.11.1 | Guangchuang Yu | OK | OK | OK |  |  | 
| clusterSeq 1.7.0 | Thomas J. Hardcastle | OK | OK | OK |  |  | 
| ClusterSignificance 1.11.0 | Jason T Serviss | OK | OK | OK |  |  | 
| clusterStab 1.55.0 | James W. MacDonald | OK | OK | OK |  |  | 
| CMA 1.41.0 | Christoph Bernau | OK | OK | ERROR |  |  | 
| cn.farms 1.31.0 | Andreas Mitterecker | OK | OK | OK |  |  | 
| cn.mops 1.29.0 | Guenter Klambauer | OK | OK | OK |  |  | 
| CNAnorm 1.29.0 | Stefano Berri | OK | OK | OK |  |  | 
| CNEr 1.19.1 | Ge Tan | OK | OK | OK |  |  | 
| CNORdt 1.25.1 | A. MacNamara | OK | OK | OK |  |  | 
| CNORfeeder 1.23.1 | F.Eduati | OK | OK | OK |  |  | 
| CNORfuzzy 1.25.0 | T. Cokelaer | OK | OK | OK |  |  | 
| CNORode 1.25.1 | David Henriques | OK | OK | OK |  |  | 
| CNPBayes 1.13.5 | Jacob Carey | OK | ERROR | skipped |  |  | 
| CNTools 1.39.0 | J. Zhang | OK | OK | OK |  |  | 
| cnvGSA 1.27.0 | Joseph Lugo | OK | OK | OK |  |  | 
| CNVPanelizer 1.15.0 | Thomas Wolf | OK | OK | ERROR |  |  | 
| CNVRanger 0.99.26 | Ludwig Geistlinger | OK | OK | OK |  |  | 
| CNVrd2 1.21.0 | Hoang Tan Nguyen | OK | OK | OK |  |  | 
| CNVtools 1.77.0 | Chris Barnes | OK | OK | OK |  |  | 
| cobindR 1.21.0 | Manuela Benary | OK | OK | WARNINGS |  |  | 
| CoCiteStats 1.55.0 | Bioconductor Package Maintainer | OK | OK | OK |  |  | 
| COCOA 1.1.2 | John Lawson | OK | OK | OK |  |  | 
| codelink 1.51.0 | Diego Diez | OK | OK | OK |  |  | 
| CODEX 1.15.1 | Yuchao Jiang | OK | OK | OK |  |  | 
| coexnet 1.5.1 | Juan David Henao | OK | OK | OK |  |  | 
| CoGAPS 3.3.40 | Elana J. Fertig | OK | OK | OK |  |  | 
| cogena 1.17.0 | Zhilong Jia | OK | OK | WARNINGS |  |  | 
| coGPS 1.27.0 | Yingying Wei | OK | OK | OK |  |  | 
| COHCAP 1.29.3 | Charles Warden | OK | OK | OK |  |  | 
| cola 0.99.14 | Zuguang Gu | OK | OK | WARNINGS |  |  | 
| coMET 1.15.2 | Tiphaine Martin | OK | OK | OK |  |  | 
| compartmap 1.1.1 | Benjamin Johnson | OK | OK | WARNINGS |  |  | 
| COMPASS 1.21.7 | Greg Finak | OK | OK | OK |  |  | 
| compcodeR 1.19.3 | Charlotte Soneson | OK | OK | OK |  |  | 
| compEpiTools 1.17.0 | Kamal Kishore | OK | OK | OK |  |  | 
| CompGO 1.19.0 | Ashley J. Waardenberg | OK | OK | OK |  |  | 
| ComplexHeatmap 1.99.7 | Zuguang Gu | OK | OK | OK |  |  | 
| condcomp 1.1.1 | Diogo P. P. Branco | OK | OK | OK |  |  | 
| CONFESS 1.11.2 | Diana LOW | OK | OK | WARNINGS |  |  | 
| consensus 1.1.2 | Tim Peters | OK | OK | OK |  |  | 
| ConsensusClusterPlus 1.47.0 | Matt Wilkerson | OK | OK | OK |  |  | 
| consensusDE 1.1.4 | Ashley J. Waardenberg | OK | OK | OK |  |  | 
| consensusOV 1.5.1 | Benjamin Haibe-Kains | OK | OK | OK |  |  | 
| consensusSeekeR 1.11.0 | Astrid Deschenes | OK | OK | OK |  |  | 
| contiBAIT 1.11.1 | Kieran O'Neill | OK | OK | OK |  |  | 
| conumee 1.17.0 | Volker Hovestadt | OK | OK | OK |  |  | 
| convert 1.59.0 | Yee Hwa (Jean) Yang | OK | OK | OK |  |  | 
| copa 1.51.0 | James W. MacDonald | OK | OK | OK |  |  | 
| copynumber 1.23.0 | Gro Nilsen | OK | OK | OK |  |  | 
| CopywriteR 2.15.2 | Oscar Krijgsman | OK | OK | OK |  |  | 
| coRdon 1.1.3 | Anamaria Elek | OK | OK | OK |  |  | 
| CoRegFlux 0.99.22 | Pauline Trébulle and Mohamed Elati | OK | OK | OK |  |  | 
| CoRegNet 1.21.0 | Remy Nicolle | OK | OK | WARNINGS |  |  | 
| Cormotif 1.29.0 | Yingying Wei | OK | OK | OK |  |  | 
| CorMut 1.25.0 | Zhenpeng Li | OK | OK | OK |  |  | 
| CORREP 1.49.0 | Dongxiao Zhu | OK | OK | OK |  |  | 
| coseq 1.7.2 | Andrea Rau | OK | ERROR | skipped |  |  | 
| cosmiq 1.17.1 | David Fischer , Christian Panse | OK | OK | OK |  |  | 
| COSNet 1.17.0 | Marco Frasca | OK | OK | OK |  |  | 
| CountClust 1.11.1 | Kushal Dey | OK | OK | OK |  |  | 
| countsimQC 1.1.2 | Charlotte Soneson | OK | OK | OK |  |  | 
| covEB 1.9.1 | C. Pacini | OK | OK | OK |  |  | 
| CoverageView 1.21.1 | Ernesto Lowy | OK | OK | OK |  |  | 
| covRNA 1.9.0 | Lara Urban | OK | OK | OK |  |  | 
| cpvSNP 1.15.0 | Caitlin McHugh | OK | OK | OK |  |  | 
| cqn 1.29.1 | Kasper Daniel Hansen | OK | OK | OK |  |  | 
| CRImage 1.31.0 | Henrik Failmezger , Yinyin Yuan | OK | OK | OK |  |  | 
| CRISPRseek 1.23.4 | Lihua Julie Zhu | OK | OK | OK |  |  | 
| crisprseekplus 1.9.0 | Alper Kucukural | OK | OK | OK |  |  | 
| CrispRVariants 1.11.1 | Helen Lindsay | OK | OK | WARNINGS |  |  | 
| crlmm 1.41.0 | Benilton S Carvalho | OK | OK | OK |  |  | 
| crossmeta 1.9.0 | Alex Pickering | OK | OK | WARNINGS |  |  | 
| CSAR 1.35.0 | Jose M Muino | OK | OK | OK |  |  | 
| csaw 1.17.8 | Aaron Lun | OK | OK | OK |  |  | 
| CSSP 1.21.0 | Chandler Zuo | OK | OK | OK |  |  | 
| ctc 1.57.0 | Antoine Lucas | OK | OK | OK |  |  | 
| CTDquerier 1.3.0 | Carles Hernandez-Ferrer | OK | OK | TIMEOUT |  |  | 
| cTRAP 1.1.3 | Nuno Saraiva-Agostinho | OK | ERROR | skipped |  |  | 
| ctsGE 1.9.1 | Michal Sharabi-Schwager | OK | OK | OK |  |  | 
| cummeRbund 2.25.0 | Loyal A. Goff | OK | OK | OK |  |  | 
| customProDB 1.23.1 | Xiaojing Wang | OK | OK | OK |  |  | 
| CVE 1.9.0 | Andreas Mock | OK | OK | WARNINGS |  |  | 
| cycle 1.37.0 | Matthias Futschik | OK | OK | OK |  |  | 
| cydar 1.7.3 | Aaron Lun | OK | OK | OK |  |  | 
| CytoDx 1.3.1 | Zicheng Hu | OK | OK | OK |  |  | 
| cytofast 0.99.14 | K.A. Stam | OK | OK | OK |  |  | 
| cytolib 1.5.2 | Mike Jiang | OK | OK | OK |  |  | 
| CytoML 1.9.6 | Mike Jiang | OK | OK | OK |  |  | 
|  | 
|  |  | 
| dada2 1.11.3 | Benjamin Callahan | OK | OK | OK |  |  | 
| dagLogo 1.21.1 | Jianhong Ou | OK | ERROR | skipped |  |  | 
| daMA 1.55.0 | Jobst Landgrebe | OK | OK | OK |  |  | 
| DaMiRseq 1.7.3 | Mattia Chiesa | OK | OK | OK |  |  | 
| DAPAR 1.15.12 | Samuel Wieczorek | OK | OK | OK |  |  | 
| DART 1.31.0 | Charles Shijie Zheng | OK | OK | OK |  |  | 
| DBChIP 1.27.0 | Kun Liang | OK | OK | OK |  |  | 
| dcGSA 1.11.1 | Jiehuan sun | OK | OK | WARNINGS |  |  | 
| DChIPRep 1.13.0 | Bernd Klaus | OK | OK | OK |  |  | 
| ddCt 1.39.0 | Jitao David Zhang | OK | OK | OK |  |  | 
| ddPCRclust 1.3.0 | Benedikt G. Brink | OK | OK | OK |  |  | 
| debrowser 1.11.9 | Alper Kucukural | OK | OK | OK |  |  | 
| DECIPHER 2.11.2 | Erik Wright | OK | OK | OK |  |  | 
| deco 0.99.56 | Francisco Jose Campos Laborie | OK | OK | OK |  |  | 
| DEComplexDisease 1.3.0 | Guofeng Meng | OK | OK | OK |  |  | 
| decompTumor2Sig 1.99.1 | Rosario M. Piro | OK | OK | OK |  |  | 
| DeconRNASeq 1.25.0 | Ting Gong | OK | OK | OK |  |  | 
| decontam 1.3.1 | Benjamin Callahan | OK | OK | OK |  |  | 
| DEDS 1.57.0 | Yuanyuan Xiao | OK | OK | OK |  |  | 
| DeepBlueR 1.9.0 | Felipe Albrecht , Markus List | OK | ERROR | skipped |  |  | 
| deepSNV 1.29.1 | Moritz Gerstung | OK | OK | OK |  |  | 
| DEFormats 1.11.1 | Andrzej Oleś | OK | OK | OK |  |  | 
| DEGraph 1.35.0 | Laurent Jacob | OK | OK | OK |  |  | 
| DEGreport 1.19.1 | Lorena Pantano | OK | OK | OK |  |  | 
| DEGseq 1.37.1 | Likun Wang | OK | OK | OK |  |  | 
| DelayedArray 0.9.9 | Hervé Pagès | OK | OK | WARNINGS |  |  | 
| DelayedDataFrame 0.99.9 | Qian Liu | OK | OK | ERROR |  |  | 
| DelayedMatrixStats 1.5.2 | Peter Hickey | OK | OK | OK |  |  | 
| deltaGseg 1.23.0 | Diana Low | OK | OK | OK |  |  | 
| DeMAND 1.13.0 | Jung Hoon Woo , Mariano Alvarez | OK | OK | OK |  |  | 
| DeMixT 0.99.9 | Zeya Wang , Fan Gao | OK | OK | OK |  |  | 
| DEP 1.5.3 | Arne Smits | OK | OK | OK |  |  | 
| DepecheR 0.99.31 | Jakob Theorell | OK | OK | OK |  |  | 
| DEqMS 1.1.7 | Yafeng Zhu | OK | OK | OK |  |  | 
| derfinder 1.17.1 | Leonardo Collado-Torres | OK | OK | ERROR |  |  | 
| derfinderHelper 1.17.1 | Leonardo Collado-Torres | OK | OK | ERROR |  |  | 
| derfinderPlot 1.17.1 | Leonardo Collado-Torres | OK | OK | OK |  |  | 
| DEScan2 1.3.2 | Dario Righelli | OK | OK | OK |  |  | 
| DESeq 1.35.1 | Simon Anders | OK | OK | OK |  |  | 
| DESeq2 1.23.9 | Michael Love | OK | OK | OK |  |  | 
| DEsingle 1.3.1 | Zhun Miao | OK | OK | OK |  |  | 
| destiny 2.13.0 | Philipp Angerer | OK | OK | ERROR |  |  | 
| DEsubs 1.9.1 | Aristidis G. Vrahatis , Panos Balomenos | OK | OK | OK |  |  | 
| DEXSeq 1.29.10 | Alejandro Reyes | OK | OK | OK |  |  | 
| dexus 1.23.1 | Guenter Klambauer | OK | OK | OK |  |  | 
| DFP 1.41.0 | Rodrigo Alvarez-Glez | OK | OK | OK |  |  | 
| DiffBind 2.11.1 | Rory Stark | OK | OK | OK |  |  | 
| diffcoexp 1.3.1 | Wenbin Wei | OK | OK | OK |  |  | 
| diffcyt 1.3.24 | Lukas M. Weber | OK | OK | OK |  |  | 
| diffGeneAnalysis 1.65.0 | Choudary Jagarlamudi | OK | OK | OK |  |  | 
| diffHic 1.15.2 | Aaron Lun | OK | OK | OK |  |  | 
| DiffLogo 2.7.0 | Hendrik Treutler | OK | OK | OK |  |  | 
| diffloop 1.11.0 | Caleb Lareau | OK | OK | OK |  |  | 
| diffuStats 1.3.1 | Sergio Picart-Armada | OK | OK | OK |  |  | 
| diggit 1.15.0 | Mariano J Alvarez | OK | ERROR | skipped |  |  | 
| Director 1.9.0 | Katherine Icay | OK | OK | OK |  |  | 
| DirichletMultinomial 1.25.1 | Martin Morgan | OK | OK | OK |  |  | 
| discordant 1.7.1 | Charlotte Siska | OK | OK | WARNINGS |  |  | 
| divergence 0.99.07 | Wikum Dinalankara , Luigi Marchionni | OK | OK | OK |  |  | 
| dks 1.29.0 | Jeffrey T. Leek | OK | OK | OK |  |  | 
| DMCHMM 1.5.0 | Farhad Shokoohi | OK | OK | WARNINGS |  |  | 
| DMRcaller 1.15.2 | Nicolae Radu Zabet | OK | OK | OK |  |  | 
| DMRcate 1.19.0 | Tim Peters | OK | OK | OK |  |  | 
| DMRforPairs 1.19.0 | Martin Rijlaarsdam | OK | OK | OK |  |  | 
| DMRScan 1.9.0 | Christian M Page | OK | OK | OK |  |  | 
| dmrseq 1.3.11 | Keegan Korthauer | OK | OK | OK |  |  | 
| DNABarcodeCompatibility 0.99.9 | Céline Trébeau | OK | OK | OK |  |  | 
| DNABarcodes 1.13.0 | Tilo Buschmann | OK | OK | OK |  |  | 
| DNAcopy 1.57.0 | Venkatraman E. Seshan | OK | OK | OK |  |  | 
| DNAshapeR 1.11.0 | Tsu-Pei Chiu | OK | OK | OK |  |  | 
| DominoEffect 1.3.1 | Marija Buljan | OK | OK | OK |  |  | 
| doppelgangR 1.11.1 | Levi Waldron | OK | OK | OK |  |  | 
| DOQTL 1.19.0 | Daniel Gatti | OK | OK | ERROR |  |  | 
| Doscheda 1.5.1 | Bruno Contrino | OK | OK | OK |  |  | 
| DOSE 3.9.4 | Guangchuang Yu | OK | OK | OK |  |  | 
| doseR 0.99.15 | ake.vastermark | OK | OK | OK |  |  | 
| drawProteins 1.3.0 | Paul Brennan | OK | OK | OK |  |  | 
| DRIMSeq 1.11.2 | Malgorzata Nowicka | OK | OK | OK |  |  | 
| DriverNet 1.23.0 | Jiarui Ding | OK | OK | OK |  |  | 
| DropletUtils 1.3.13 | Aaron Lun | OK | OK | OK |  |  | 
| DrugVsDisease 2.25.2 | j. Saez-Rodriguez | OK | OK | OK |  |  | 
| dSimer 1.9.0 | Peng Ni | ERROR | ERROR | skipped |  |  | 
| DSS 2.31.2 | Hao Wu | OK | OK | OK |  |  | 
| DTA 2.29.0 | Bjoern Schwalb | OK | OK | OK |  |  | 
| dualKS 1.43.0 | Eric J. Kort | OK | OK | OK |  |  | 
| DupChecker 1.21.0 | "Quanhu SHENG" | OK | OK | OK |  |  | 
| dupRadar 1.13.1 | Sergi Sayols , Holger Klein | OK | OK | OK |  |  | 
| dyebias 1.43.0 | Philip Lijnzaad | OK | OK | OK |  |  | 
| DynDoc 1.61.0 | Bioconductor Package Maintainer | OK | OK | OK |  |  | 
|  | 
|  |  | 
| EasyqpcR 1.25.0 | Le Pape Sylvain | OK | OK | OK |  |  | 
| easyRNASeq 2.19.2 | Nicolas Delhomme | OK | ERROR | skipped |  |  | 
| EBarrays 2.47.0 | Ming Yuan | OK | OK | OK |  |  | 
| EBcoexpress 1.27.0 | John A. Dawson | OK | OK | WARNINGS |  |  | 
| EBImage 4.25.0 | Andrzej Oleś | OK | OK | OK |  |  | 
| EBSEA 1.11.0 | Arfa Mehmood | OK | OK | OK |  |  | 
| EBSeq 1.23.1 | Ning Leng | OK | OK | OK |  |  | 
| EBSeqHMM 1.17.1 | Ning Leng | OK | OK | OK |  |  | 
| ecolitk 1.55.0 | Laurent Gautier | OK | OK | WARNINGS |  |  | 
| EDASeq 2.17.4 | Davide Risso | OK | OK | OK |  |  | 
| EDDA 1.21.1 | Chia Kuan Hui Burton , Niranjan Nagarajan | OK | OK | WARNINGS |  |  | 
| edge 2.15.0 | John D. Storey , Andrew J. Bass | OK | OK | OK |  |  | 
| edgeR 3.25.3 | Yunshun Chen , Aaron Lun , Mark Robinson , Davis McCarthy , Gordon Smyth | OK | OK | OK |  |  | 
| eegc 1.9.0 | Xiaoyuan Zhou | OK | OK | WARNINGS |  |  | 
| EGAD 1.11.0 | Sara Ballouz | OK | OK | OK |  |  | 
| EGSEA 1.11.1 | Monther Alhamdoosh | OK | OK | OK |  |  | 
| eiR 1.23.0 | Thomas Girke | OK | OK | OK |  |  | 
| eisa 1.35.0 | Gabor Csardi | OK | OK | OK |  |  | 
| ELBOW 1.19.1 | Graham Alvare , Xiangli Zhang | OK | OK | OK |  |  | 
| ELMER 2.7.5 | Tiago Chedraoui Silva | OK | OK | ERROR |  |  | 
| EMDomics 2.13.0 | Sadhika Malladi  and Daniel Schmolze | OK | OK | OK |  |  | 
| EmpiricalBrownsMethod 1.11.0 | David Gibbs | OK | OK | OK |  |  | 
| ENCODExplorer 2.9.0 | Charles Joly Beauparlant | OK | OK | OK |  |  | 
| EnhancedVolcano 1.1.3 | Kevin Blighe | OK | OK | OK |  |  | 
| ENmix 1.19.2 | Zongli Xu | OK | OK | OK |  |  | 
| EnrichedHeatmap 1.13.2 | Zuguang Gu | OK | OK | OK |  |  | 
| EnrichmentBrowser 2.13.2 | Ludwig Geistlinger | OK | OK | OK |  |  | 
| enrichplot 1.3.2 | Guangchuang Yu | OK | OK | OK |  |  | 
| ensembldb 2.7.12 | Johannes Rainer | OK | OK | OK |  |  | 
| ensemblVEP 1.25.0 | Bioconductor Package Maintainer | OK | ERROR | skipped |  |  | 
| ENVISIONQuery 1.31.0 | Alex Lisovich , Roger Day | OK | OK | OK |  |  | 
| EpiDISH 1.99.6 | Shijie Charles Zheng | OK | OK | OK |  |  | 
| epigenomix 1.23.0 | Hans-Ulrich Klein | OK | OK | OK |  |  | 
| epihet 0.99.8 | Xiaowen Chen | OK | OK | OK |  |  | 
| epiNEM 1.7.0 | Martin Pirkl | OK | OK | OK |  |  | 
| epivizr 2.13.0 | Hector Corrada Bravo | OK | OK | OK |  |  | 
| epivizrChart 1.5.0 | Hector Corrada Bravo | OK | OK | OK |  |  | 
| epivizrData 1.11.0 | Hector Corrada Bravo | OK | OK | OK |  |  | 
| epivizrServer 1.11.0 | Hector Corrada Bravo | OK | OK | OK |  |  | 
| epivizrStandalone 1.11.0 | Hector Corrada Bravo | OK | OK | OK |  |  | 
| erccdashboard 1.17.1 | Sarah Munro | OK | OK | OK |  |  | 
| erma 0.99.0 | VJ Carey | OK | OK | OK |  |  | 
| ERSSA 1.1.1 | Zixuan Shao | OK | OK | OK |  |  | 
| esATAC 1.5.4 | Zheng Wei | OK | OK | OK |  |  | 
| esetVis 1.9.0 | Laure Cougnaud | OK | OK | OK |  |  | 
| eudysbiome 1.13.1 | Xiaoyuan Zhou | OK | OK | OK |  |  | 
| evaluomeR 0.99.84 | José Antonio Bernabé-Díaz | OK | OK | OK |  |  | 
| EventPointer 2.1.4 | Juan Pablo Romero | OK | ERROR | skipped |  |  | 
| ExCluster 1.1.1 | R. Matthew Tanner | OK | OK | OK |  |  | 
| ExiMiR 2.25.0 | Sylvain Gubian | OK | OK | OK |  |  | 
| exomeCopy 1.29.0 | Michael Love | OK | OK | OK |  |  | 
| exomePeak 2.17.0 | Lin Zhang , Lian Liu , Jia Meng | OK | OK | ERROR |  |  | 
| ExperimentHub 1.9.3 | Bioconductor Package Maintainer | OK | OK | OK |  |  | 
| ExperimentHubData 1.9.1 | Bioconductor Package Maintainer | OK | OK | OK |  |  | 
| explorase 1.47.0 | Michael Lawrence | OK | OK | OK |  |  | 
| ExpressionAtlas 1.11.0 | Suhaib Mohammed | OK | OK | ERROR |  |  | 
| ExpressionView 1.35.0 | Gabor Csardi | OK | OK | OK |  |  | 
|  | 
|  |  | 
| fabia 2.29.1 | Andreas Mitterecker | OK | OK | OK |  |  | 
| factDesign 1.59.0 | Denise Scholtens | OK | OK | OK |  |  | 
| FamAgg 1.11.5 | Johannes Rainer | OK | OK | OK |  |  | 
| farms 1.35.0 | Djork-Arne Clevert | OK | OK | OK |  |  | 
| fastLiquidAssociation 1.19.0 | Tina Gunderson | OK | OK | WARNINGS |  |  | 
| FastqCleaner 1.1.0 | Leandro Roser | OK | OK | OK |  |  | 
| fastseg 1.29.0 | Guenter Klambauer | OK | OK | OK |  |  | 
| FCBF 1.1.1 | Tiago Lubiana | OK | OK | OK |  |  | 
| fCCAC 1.9.0 | Pedro Madrigal | OK | OK | OK |  |  | 
| fCI 1.13.0 | Shaojun Tang | OK | OK | OK |  |  | 
| fdrame 1.55.0 | Effi Kenigsberg | OK | OK | OK |  |  | 
| FELLA 1.3.1 | Sergio Picart-Armada | OK | ERROR | skipped |  |  | 
| FEM 3.11.0 | Zhen Yang | OK | OK | WARNINGS |  |  | 
| ffpe 1.27.0 | Levi Waldron | OK | OK | OK |  |  | 
| FGNet 3.17.0 | Sara Aibar | OK | OK | OK |  |  | 
| fgsea 1.9.5 | Alexey Sergushichev | OK | OK | OK |  |  | 
| FindMyFriends 1.13.0 | Thomas Lin Pedersen | OK | OK | ERROR |  |  | 
| FISHalyseR 1.17.0 | Karesh Arunakirinathan | OK | OK | WARNINGS |  |  | 
| fishpond 0.99.31 | Michael Love | OK | OK | OK |  |  | 
| FitHiC 1.9.0 | Ruyu Tan | OK | OK | OK |  |  | 
| flagme 1.39.1 | Mark Robinson , Riccardo Romoli | OK | OK | WARNINGS |  |  | 
| flipflop 1.21.0 | Elsa Bernard | ERROR | ERROR | skipped |  |  | 
| flowAI 1.13.7 | Gianni Monaco | OK | OK | OK |  |  | 
| flowBeads 1.21.1 | Nikolas Pontikos | OK | OK | OK |  |  | 
| flowBin 1.19.1 | Kieran O'Neill | OK | OK | OK |  |  | 
| flowcatchR 1.17.0 | Federico Marini | OK | OK | OK |  |  | 
| flowCHIC 1.17.1 | Author: Joachim Schumann | OK | OK | OK |  |  | 
| flowCL 1.21.1 | Justin Meskas | OK | OK | OK |  |  | 
| flowClean 1.21.0 | Kipper Fletez-Brant | OK | OK | WARNINGS |  |  | 
| flowClust 3.21.3 | Greg Finak , Mike Jiang | OK | OK | OK |  |  | 
| flowCore 1.49.10 | Mike Jiang | OK | OK | OK |  |  | 
| flowCyBar 1.19.1 | Joachim Schumann | OK | OK | OK |  |  | 
| flowDensity 1.17.2 | Mehrnoush Malek | OK | OK | WARNINGS |  |  | 
| flowFit 1.21.1 | Davide Rambaldi | OK | OK | OK |  |  | 
| flowFP 1.41.1 | Herb Holyst | OK | OK | OK |  |  | 
| flowMap 1.21.1 | Chiaowen Joyce Hsiao | OK | OK | WARNINGS |  |  | 
| flowMatch 1.19.1 | Ariful Azad | OK | OK | OK |  |  | 
| flowMeans 1.43.1 | Nima Aghaeepour | OK | OK | OK |  |  | 
| flowMerge 2.31.2 | Greg Finak | OK | OK | OK |  |  | 
| flowPeaks 1.29.1 | Yongchao Ge | OK | OK | OK |  |  | 
| flowPloidy 1.9.0 | Tyler Smith | OK | OK | OK |  |  | 
| flowPlots 1.31.1 | N. Hawkins | OK | OK | OK |  |  | 
| flowQ1.43.2 | Mike Jiang | ERROR | ERROR | skipped |  |  | 
| flowQB 2.11.1 | Josef Spidlen | OK | OK | ERROR |  |  | 
| FlowRepositoryR 1.15.1 | Josef Spidlen | OK | OK | OK |  |  | 
| FlowSOM 1.15.1 | Sofie Van Gassen | OK | OK | OK |  |  | 
| flowStats 3.41.3 | Greg Finak  and Mike Jiang | OK | OK | OK |  |  | 
| flowTime 1.7.0 | R. Clay Wright | OK | OK | OK |  |  | 
| flowTrans 1.35.1 | Greg Finak | OK | OK | OK |  |  | 
| flowType 2.21.1 | Nima Aghaeepour | OK | OK | OK |  |  | 
| flowUtils 1.47.1 | Josef Spidlen | OK | OK | OK |  |  | 
| flowViz 1.47.4 | Mike Jiang | OK | OK | OK |  |  | 
| flowVS 1.15.1 | Ariful Azad | OK | OK | OK |  |  | 
| flowWorkspace 3.31.15 | Greg Finak ,Mike Jiang | OK | OK | OK |  |  | 
| fmcsR 1.25.0 | Thomas Girke | OK | OK | OK |  |  | 
| focalCall 1.17.0 | Oscar Krijgsman | OK | OK | OK |  |  | 
| FoldGO 1.1.1 | Daniil Wiebe | OK | OK | OK |  |  | 
| FourCSeq 1.17.0 | Felix A. Klein | OK | OK | WARNINGS |  |  | 
| FRGEpistasis 1.19.0 | Futao Zhang | OK | OK | OK |  |  | 
| frma 1.35.0 | Matthew N. McCall | OK | OK | OK |  |  | 
| frmaTools 1.35.0 | Matthew N. McCall | OK | OK | OK |  |  | 
| FunChIP 1.9.0 | Alice Parodi | OK | OK | WARNINGS |  |  | 
| FunciSNP 1.27.0 | Simon G. Coetzee | OK | OK | OK |  |  | 
| funtooNorm 1.7.0 | Kathleen Klein | OK | OK | OK |  |  | 
|  | 
|  |  | 
| GA4GHclient 1.7.0 | Welliton Souza | OK | OK | OK |  |  | 
| GA4GHshiny 1.5.0 | Welliton Souza | OK | OK | OK |  |  | 
| gaga 2.29.1 | David Rossell | OK | OK | OK |  |  | 
| gage 2.33.1 | Weijun Luo | OK | OK | WARNINGS |  |  | 
| gaggle 1.51.0 | Christopher Bare | OK | OK | OK |  |  | 
| gaia 2.27.0 | S. Morganella | OK | OK | OK |  |  | 
| GAPGOM 0.99.36 | Casper Peters | OK | ERROR | skipped |  |  | 
| GAprediction 1.9.1 | Jon Bohlin | OK | OK | OK |  |  | 
| garfield 1.11.0 | Valentina Iotchkova | OK | OK | OK |  |  | 
| GARS 1.3.0 | Mattia Chiesa | OK | OK | OK |  |  | 
| GateFinder 1.3.2 | Nima Aghaeepour | OK | OK | OK |  |  | 
| gcapc 1.7.0 | Mingxiang Teng | OK | OK | OK |  |  | 
| gcatest 1.13.0 | Wei Hao , John D. Storey | OK | OK | OK |  |  | 
| gCMAP 1.27.0 | Thomas Sandmann | OK | OK | OK |  |  | 
| gCMAPWeb 1.23.0 | Thomas Sandmann | OK | OK | OK |  |  | 
| gCrisprTools1.11.2 | Peter Haverty | OK | OK | ERROR |  |  | 
| gcrma 2.55.0 | Z. Wu | OK | OK | OK |  |  | 
| GDCRNATools 1.3.2 | Ruidong Li | OK | OK | OK |  |  | 
| GDSArray 1.3.0 | Qian Liu | OK | OK | OK |  |  | 
| gdsfmt 1.19.10 | Xiuwen Zheng | OK | OK | OK |  |  | 
| geecc 1.17.1 | Markus Boenn | OK | OK | OK |  |  | 
| GEM 1.9.0 | Hong Pan | OK | OK | OK |  |  | 
| genArise 1.59.0 | IFC Development Team | OK | OK | WARNINGS |  |  | 
| genbankr 1.11.0 | Gabriel Becker | OK | OK | OK |  |  | 
| GeneAccord 1.1.0 | Ariane L. Moore | OK | OK | OK |  |  | 
| GeneAnswers 2.25.0 | Lei Huang  and Gang Feng | OK | OK | WARNINGS |  |  | 
| geneAttribution 1.9.0 | Arthur Wuster | OK | OK | OK |  |  | 
| GeneBreak 1.13.0 | Evert van den Broek | OK | OK | OK |  |  | 
| geneClassifiers 1.7.0 | R Kuiper | OK | OK | OK |  |  | 
| GeneExpressionSignature 1.29.0 | Yang Cao , Fei Li | OK | OK | OK |  |  | 
| genefilter 1.65.0 | Bioconductor Package Maintainer | OK | OK | WARNINGS |  |  | 
| genefu 2.15.0 | Benjamin Haibe-Kains | OK | OK | OK |  |  | 
| GeneGA 1.33.0 | Zhenpeng Li | OK | OK | OK |  |  | 
| GeneGeneInteR 1.9.0 | Mathieu Emily , Magalie Houee-Bigot | OK | OK | OK |  |  | 
| GeneMeta 1.55.0 | Bioconductor Package Maintainer | OK | OK | OK |  |  | 
| GeneNetworkBuilder 1.25.0 | Jianhong Ou | OK | OK | OK |  |  | 
| GeneOverlap 1.19.0 | Li Shen, Mount Sinai | OK | OK | OK |  |  | 
| geneplast 1.9.0 | Mauro Castro | OK | OK | OK |  |  | 
| geneplotter 1.61.0 | Bioconductor Package Maintainer | OK | OK | OK |  |  | 
| geneRecommender 1.55.0 | Greg Hather | OK | OK | OK |  |  | 
| GeneRegionScan 1.39.0 | Lasse Folkersen | OK | OK | OK |  |  | 
| geneRxCluster 1.19.0 | Charles Berry | OK | OK | OK |  |  | 
| GeneSelectMMD 2.27.0 | Weiliang Qiu | OK | OK | WARNINGS |  |  | 
| GENESIS 2.13.9 | Stephanie M. Gogarten | OK | OK | OK |  |  | 
| GeneStructureTools 1.3.1 | Beth Signal | OK | OK | OK |  |  | 
| geNetClassifier 1.23.0 | Sara Aibar | OK | OK | OK |  |  | 
| GeneticsDesign 1.51.0 | The R Genetics Project | OK | OK | OK |  |  | 
| GeneticsPed 1.45.0 | David Henderson | OK | OK | OK |  |  | 
| geneXtendeR 1.9.0 | Bohdan Khomtchouk | OK | OK | OK |  |  | 
| GENIE3 1.5.4 | Van Anh Huynh-Thu | OK | OK | OK |  |  | 
| genoCN 1.35.0 | Wei Sun | OK | OK | OK |  |  | 
| GenoGAM 2.1.9 | Georg Stricker | OK | OK | WARNINGS |  |  | 
| genomation 1.15.0 | Altuna Akalin , Vedran Franke | OK | OK | OK |  |  | 
| GenomeGraphs 1.43.0 | Steffen Durinck | OK | OK | OK |  |  | 
| GenomeInfoDb 1.19.3 | Bioconductor Package Maintainer | OK | OK | OK |  |  | 
| genomeIntervals 1.39.0 | Julien Gagneur | OK | OK | OK |  |  | 
| genomes 3.13.0 | Chris Stubben | OK | OK | OK |  |  | 
| GenomicAlignments 1.19.1 | Bioconductor Package Maintainer | OK | OK | WARNINGS |  |  | 
| GenomicDataCommons 1.7.3 | Sean Davis | OK | OK | WARNINGS |  |  | 
| GenomicFeatures 1.35.9 | Bioconductor Package Maintainer | OK | OK | ERROR |  |  | 
| GenomicFiles 1.19.0 | Bioconductor Package Maintainer | OK | OK | OK |  |  | 
| GenomicInteractions 1.17.0 | Liz Ing-Simmons | OK | OK | OK |  |  | 
| GenomicRanges 1.35.1 | Bioconductor Package Maintainer | OK | OK | WARNINGS |  |  | 
| GenomicScores 1.7.0 | Robert Castelo | OK | OK | WARNINGS |  |  | 
| GenomicTuples 1.17.0 | Peter Hickey | OK | OK | OK |  |  | 
| Genominator 1.37.0 | James Bullard | OK | OK | OK |  |  | 
| genoset 1.39.0 | Peter M. Haverty | OK | OK | WARNINGS |  |  | 
| genotypeeval 1.15.0 | Jennifer Tom | OK | OK | OK |  |  | 
| genphen 1.11.23 | Simo Kitanovski | OK | OK | OK |  |  | 
| GenRank 1.11.0 | Chakravarthi Kanduri | OK | OK | OK |  |  | 
| GenVisR 1.15.3 | Zachary Skidmore | OK | OK | ERROR |  |  | 
| GEOmetadb 1.45.0 | Jack Zhu | OK | OK | OK |  |  | 
| GEOquery 2.51.5 | Sean Davis | OK | OK | OK |  |  | 
| GEOsubmission 1.35.0 | Alexandre Kuhn | OK | OK | OK |  |  | 
| gep2pep 1.3.1 | Francesco Napolitano | OK | OK | OK |  |  | 
| gespeR 1.15.1 | Fabian Schmich | OK | OK | WARNINGS |  |  | 
| GEWIST 1.27.0 | Wei Q. Deng | OK | OK | OK |  |  | 
| GGBase 3.45.0 | VJ Carey | OK | OK | OK |  |  | 
| ggbio 1.31.2 | Michael Lawrence | OK | OK | WARNINGS |  |  | 
| ggcyto 1.11.4 | Mike Jiang | OK | OK | OK |  |  | 
| GGtools 5.19.0 | VJ Carey | OK | OK | OK |  |  | 
| ggtree 1.15.6 | Guangchuang Yu | OK | OK | OK |  |  | 
| GIGSEA 1.1.0 | Shijia Zhu | OK | OK | OK |  |  | 
| girafe 1.35.0 | J. Toedling | OK | OK | OK |  |  | 
| GISPA 1.7.0 | Bhakti Dwivedi | OK | OK | OK |  |  | 
| GLAD 2.47.0 | Philippe Hupe | OK | OK | OK |  |  | 
| Glimma 1.11.1 | Shian Su | OK | OK | OK |  |  | 
| glmSparseNet 1.1.0 | André Veríssimo | OK | ERROR | skipped |  |  | 
| GlobalAncova 4.1.0 | Manuela Hummel | OK | OK | OK |  |  | 
| globalSeq 1.11.2 | Armin Rauschenberger | OK | OK | OK |  |  | 
| globaltest 5.37.1 | Jelle Goeman | OK | OK | OK |  |  | 
| gmapR 1.25.3 | Michael Lawrence | OK | OK | WARNINGS |  |  | 
| GMRP 1.11.1 | Yuan-De Tan | OK | OK | WARNINGS |  |  | 
| GNET2 0.99.12 | Chen Chen | OK | OK | OK |  |  | 
| GOexpress 1.17.1 | Kevin Rue-Albrecht | OK | OK | OK |  |  | 
| GOfuncR 1.3.3 | Steffi Grote | OK | OK | OK |  |  | 
| GOFunction 1.31.0 | Jing Wang | OK | OK | OK |  |  | 
| GOpro 1.9.0 | Lidia Chrabaszcz | OK | OK | WARNINGS |  |  | 
| goProfiles 1.45.0 | Alex Sanchez | OK | OK | OK |  |  | 
| GOSemSim 2.9.1 | Guangchuang Yu | OK | OK | OK |  |  | 
| goseq 1.35.1 | Nadia Davidson , Anthony Hawkins | OK | OK | OK |  |  | 
| GOSim 1.21.0 | Holger Froehlich | OK | OK | OK |  |  | 
| goSTAG 1.7.1 | Brian D. Bennett | OK | OK | OK |  |  | 
| GOstats 2.49.0 | Bioconductor Package Maintainer | OK | OK | OK |  |  | 
| GOsummaries 2.19.0 | Raivo Kolde | OK | OK | OK |  |  | 
| GOTHiC1.19.2 | Borbala Mifsud | OK | OK | ERROR |  |  | 
| goTools 1.57.0 | Agnes Paquet | OK | OK | OK |  |  | 
| gpart 1.1.3 | Sun Ah Kim | OK | OK | WARNINGS |  |  | 
| gpls 1.55.0 | Bioconductor Package Maintainer | OK | OK | WARNINGS |  |  | 
| gprege 1.27.0 | Alfredo Kalaitzis | OK | OK | OK |  |  | 
| gQTLBase 1.15.0 | VJ Carey | OK | OK | OK |  |  | 
| gQTLstats 1.15.1 | VJ Carey | OK | OK | OK |  |  | 
| graper 0.99.3 | Britta Velten | OK | OK | OK |  |  | 
| graph 1.61.1 | Bioconductor Package Maintainer | OK | OK | OK |  |  | 
| GraphAlignment 1.47.0 | Joern P. Meier | OK | OK | OK |  |  | 
| GraphAT 1.55.0 | Thomas LaFramboise | OK | OK | OK |  |  | 
| graphite 1.29.2 | Gabriele Sales | OK | OK | OK |  |  | 
| GraphPAC 1.25.0 | Gregory Ryslik | OK | OK | OK |  |  | 
| GRENITS 1.35.0 | Edward Morrissey | OK | OK | OK |  |  | 
| GreyListChIP 1.15.0 | Gordon Brown | OK | OK | OK |  |  | 
| GRmetrics 1.9.1 | Nicholas Clark , Mario Medvedovic | OK | OK | OK |  |  | 
| groHMM 1.17.0 | Anusha Nagari , Tulip Nandu , W. Lee Kraus | OK | OK | OK |  |  | 
| GRridge 1.7.4 | Mark A. van de Wiel | OK | OK | WARNINGS |  |  | 
| GSALightning 1.11.0 | Billy Heung Wing Chang | OK | OK | OK |  |  | 
| GSAR 1.17.1 | Yasir Rahmatallah , Galina Glazko | OK | OK | OK |  |  | 
| GSCA 2.13.0 | Zhicheng Ji | OK | OK | OK |  |  | 
| GSEABase 1.45.0 | Bioconductor Package Maintainer | OK | OK | OK |  |  | 
| GSEABenchmarkeR 1.3.2 | Ludwig Geistlinger | OK | OK | OK |  |  | 
| GSEAlm 1.43.0 | Assaf Oron | OK | OK | OK |  |  | 
| gsean 1.3.0 | Dongmin Jung | OK | OK | OK |  |  | 
| GSReg 1.17.0 | Bahman Afsari , Elana J. Fertig | OK | OK | WARNINGS |  |  | 
| GSRI 2.31.0 | Julian Gehring | OK | OK | OK |  |  | 
| GSVA 1.31.0 | Justin Guinney | OK | OK | OK |  |  | 
| gtrellis 1.15.2 | Zuguang Gu | OK | OK | OK |  |  | 
| GUIDEseq 1.13.1 | Lihua Julie Zhu | OK | OK | OK |  |  | 
| Guitar 1.21.1 | Jia Meng | OK | OK | ERROR |  |  | 
| Gviz 1.27.6 | Robert Ivanek | OK | OK | OK |  |  | 
| gwascat 2.15.1 | VJ Carey | OK | OK | OK |  |  | 
| GWASTools 1.29.1 | Stephanie M. Gogarten | OK | OK | OK |  |  | 
| gwasurvivr 1.1.0 | Abbas Rizvi | OK | OK | OK |  |  | 
|  | 
|  |  | 
| h5vc 2.17.1 | Paul Theodor Pyl | OK | OK | OK |  |  | 
| hapFabia 1.25.1 | Andreas Mitterecker | OK | OK | OK |  |  | 
| Harman 1.11.0 | Jason Ross | OK | ERROR | skipped |  |  | 
| Harshlight 1.55.0 | Maurizio Pellegrino | OK | OK | OK |  |  | 
| HDF5Array 1.11.11 | Hervé Pagès | OK | OK | WARNINGS |  |  | 
| HDTD 1.17.0 | Anestis Touloumis | OK | OK | OK |  |  | 
| heatmaps 1.7.0 | Malcolm Perry | OK | OK | OK |  |  | 
| Heatplus 2.29.0 | Alexander Ploner | OK | OK | OK |  |  | 
| HelloRanges 1.9.0 | Michael Lawrence | OK | OK | OK |  |  | 
| HELP 1.41.0 | Reid F. Thompson | OK | OK | OK |  |  | 
| HEM 1.55.0 | HyungJun Cho | OK | OK | OK |  |  | 
| hiAnnotator 1.17.0 | Nirav V Malani | OK | OK | OK |  |  | 
| HIBAG 1.19.2 | Xiuwen Zheng | OK | OK | OK |  |  | 
| HiCBricks 1.1.21 | Koustav Pal | OK | OK | OK |  |  | 
| HiCcompare 1.5.3 | John Stansfield | OK | OK | OK |  |  | 
| hicrep 1.7.0 | Tao Yang | OK | OK | OK |  |  | 
| hierGWAS 1.13.0 | Laura Buzdugan | OK | OK | OK |  |  | 
| hierinf 1.1.1 | Claude Renaux | OK | OK | OK |  |  | 
| HilbertCurve 1.13.2 | Zuguang Gu | OK | OK | OK |  |  | 
| HilbertVis 1.41.0 | Simon Anders | OK | OK | OK |  |  | 
| HilbertVisGUI 1.41.0 | Simon Anders | OK | OK | OK |  |  | 
| hipathia 1.5.0 | Marta R. Hidalgo | OK | OK | OK |  |  | 
| hiReadsProcessor 1.19.0 | Nirav V Malani | OK | OK | OK |  |  | 
| HIREewas 1.1.2 | Xiangyu Luo | OK | OK | OK |  |  | 
| HiTC 1.27.0 | Nicolas Servant | OK | OK | OK |  |  | 
| hmdbQuery 1.3.0 | VJ Carey | OK | OK | OK |  |  | 
| HMMcopy 1.25.0 | Daniel Lai , Sohrab Shah | OK | OK | OK |  |  | 
| hopach 2.43.0 | Katherine S. Pollard | OK | OK | OK |  |  | 
| HPAanalyze 1.1.1 | Anh Nhat Tran | OK | OK | OK |  |  | 
| hpar 1.25.1 | Laurent Gatto | OK | OK | OK |  |  | 
| HTqPCR 1.37.0 | Heidi Dvinge | OK | OK | OK |  |  | 
| HTSanalyzeR 2.35.1 | Xin Wang | OK | OK | WARNINGS |  |  | 
| HTSeqGenie 4.13.0 | Jens Reeder | OK | OK | OK |  |  | 
| htSeqTools1.31.1 | Oscar Reina | OK | ERROR | skipped |  |  | 
| HTSFilter 1.23.1 | Andrea Rau | OK | OK | OK |  |  | 
| HybridMTest 1.27.0 | Demba Fofana | OK | OK | OK |  |  | 
| hypeR 1.00.0 | Anthony Federico | OK | OK | OK |  |  | 
| hyperdraw 1.35.0 | Paul Murrell | OK | OK | OK |  |  | 
| hypergraph 1.55.0 | Bioconductor Package Maintainer | OK | OK | OK |  |  | 
|  | 
|  |  | 
| iASeq 1.27.1 | Yingying Wei | OK | OK | OK |  |  | 
| iasva 1.1.1 | Donghyung Lee , Anthony Cheng | OK | OK | OK |  |  | 
| iBBiG 1.27.0 | Aedin Culhane | OK | OK | OK |  |  | 
| ibh 1.31.0 | Kircicegi Korkmaz | OK | OK | OK |  |  | 
| iBMQ 1.23.0 | Greg Imholte | OK | OK | OK |  |  | 
| iCARE 1.11.6 | Bill Wheeler | OK | OK | WARNINGS |  |  | 
| Icens 1.55.0 | Bioconductor Package Maintainer | OK | OK | OK |  |  | 
| icetea 1.1.1 | Vivek Bhardwaj | OK | OK | ERROR |  |  | 
| iCheck 1.13.0 | Weiliang Qiu | OK | OK | OK |  |  | 
| iChip 1.37.0 | Qianxing Mo | OK | OK | OK |  |  | 
| iClusterPlus 1.19.0 | Qianxing Mo , Ronglai Shen | OK | OK | OK |  |  | 
| iCNV 1.3.1 | Zilu Zhou | OK | OK | WARNINGS |  |  | 
| iCOBRA 1.11.1 | Charlotte Soneson | OK | OK | OK |  |  | 
| ideal 1.7.4 | Federico Marini | OK | OK | OK |  |  | 
| IdeoViz 1.19.0 | Shraddha Pai | OK | OK | WARNINGS |  |  | 
| idiogram 1.59.0 | Karl J. Dykema | OK | OK | OK |  |  | 
| IdMappingAnalysis 1.27.0 | Alex Lisovich , Roger Day | OK | OK | OK |  |  | 
| IdMappingRetrieval 1.31.0 | Alex Lisovich , Roger Day | OK | OK | OK |  |  | 
| iGC 1.13.0 | Liang-Bo Wang | OK | OK | OK |  |  | 
| igvR 1.3.6 | Paul Shannon | OK | OK | OK |  |  | 
| IHW 1.11.1 | Nikos Ignatiadis | OK | OK | OK |  |  | 
| illuminaio 0.25.0 | Kasper Daniel Hansen | OK | OK | OK |  |  | 
| imageHTS 1.33.1 | Joseph Barry | OK | OK | OK |  |  | 
| IMAS 1.7.1 | Seonggyun Han | OK | OK | OK |  |  | 
| Imetagene 1.13.0 | Audrey Lemacon | OK | OK | OK |  |  | 
| IMMAN 1.3.02 | Minoo Ashtiani | OK | OK | OK |  |  | 
| ImmuneSpaceR 1.11.5 | ImmuneSpace Package Maintainer | OK | OK | OK |  |  | 
| immunoClust 1.15.1 | Till Soerensen | OK | OK | OK |  |  | 
| IMPCdata 1.19.0 | Jeremy Mason | OK | OK | OK |  |  | 
| ImpulseDE 1.9.0 | Jil Sander , Nir Yosef | OK | OK | OK |  |  | 
| ImpulseDE2 1.7.1 | David S Fischer | OK | OK | OK |  |  | 
| impute 1.57.0 | Balasubramanian Narasimhan | OK | OK | OK |  |  | 
| INDEED 1.1.1 | Zhenzhi Li | OK | OK | OK |  |  | 
| InPAS 1.15.1 | Jianhong Ou | OK | ERROR | skipped |  |  | 
| INPower 1.19.0 | Bill Wheeler | OK | OK | OK |  |  | 
| INSPEcT 1.13.15 | Stefano de Pretis | OK | OK | OK |  |  | 
| InTAD 1.3.0 | Konstantin Okonechnikov | OK | OK | OK |  |  | 
| intansv 1.23.0 | Wen Yao | OK | OK | OK |  |  | 
| InteractionSet 1.11.2 | Aaron Lun | OK | OK | OK |  |  | 
| interactiveDisplay 1.21.0 | Shawn Balcome | OK | OK | WARNINGS |  |  | 
| interactiveDisplayBase 1.21.0 | Shawn Balcome | OK | OK | WARNINGS |  |  | 
| IntEREst 1.7.3 | Ali Oghabian , Mikko Frilander | OK | OK | OK |  |  | 
| InterMineR 1.5.2 | InterMine Team | OK | OK | OK |  |  | 
| IntramiRExploreR 1.5.0 | Surajit Bhattacharya | OK | OK | OK |  |  | 
| inveRsion 1.31.0 | Alejandro Caceres | OK | OK | WARNINGS |  |  | 
| IONiseR 2.7.0 | Mike Smith | OK | OK | OK |  |  | 
| iPAC 1.27.0 | Gregory Ryslik | OK | OK | OK |  |  | 
| ipdDb 1.1.0 | Steffen Klasberg | OK | OK | OK |  |  | 
| IPO 1.9.1 | Thomas Riebenbauer | OK | OK | OK |  |  | 
| IPPD 1.31.0 | Martin Slawski | OK | OK | OK |  |  | 
| IRanges 2.17.4 | Bioconductor Package Maintainer | OK | OK | WARNINGS |  |  | 
| iSEE 1.3.8 | Charlotte Soneson | OK | OK | ERROR |  |  | 
| iSeq 1.35.0 | Qianxing Mo | OK | OK | OK |  |  | 
| isobar 1.29.1 | Florian P Breitwieser | OK | OK | WARNINGS |  |  | 
| IsoCorrectoR 1.1.4 | Christian Kohler | OK | OK | OK |  |  | 
| IsoCorrectoRGUI 0.99.7 | Christian Kohler | OK | OK | OK |  |  | 
| IsoformSwitchAnalyzeR 1.5.6 | Kristoffer Vitting-Seerup | OK | OK | WARNINGS |  |  | 
| IsoGeneGUI 2.19.0 | Setia Pramana | OK | OK | OK |  |  | 
| ISoLDE 1.11.1 | Christelle Reynès | OK | OK | WARNINGS |  |  | 
| isomiRs 1.11.1 | Lorena Pantano | OK | OK | OK |  |  | 
| ITALICS 2.43.0 | Guillem Rigaill | OK | OK | OK |  |  | 
| iterativeBMA 1.41.0 | Ka Yee Yeung | OK | OK | OK |  |  | 
| iterativeBMAsurv 1.41.0 | Ka Yee Yeung | OK | OK | OK |  |  | 
| iterClust 1.5.0 | Hongxu Ding | OK | OK | OK |  |  | 
| iteremoval 1.3.0 | Jiacheng Chuan | OK | OK | OK |  |  | 
| IVAS 2.3.1 | Seonggyun Han | OK | OK | WARNINGS |  |  | 
| ivygapSE 1.5.1 | VJ Carey | OK | OK | OK |  |  | 
| IWTomics 1.7.0 | Marzia A Cremona | OK | OK | WARNINGS |  |  | 
|  | 
|  |  | 
| joda 1.31.0 | Ewa Szczurek | OK | OK | OK |  |  | 
| JunctionSeq 1.13.1 | Stephen Hartley | OK | OK | OK |  |  | 
|  | 
|  |  | 
| karyoploteR 1.9.15 | Bernat Gel | OK | OK | OK |  |  | 
| KCsmart 2.41.0 | Jorma de Ronde | OK | OK | WARNINGS |  |  | 
| kebabs 1.17.0 | Ulrich Bodenhofer | OK | OK | WARNINGS |  |  | 
| KEGGgraph 1.43.3 | Jitao David Zhang | OK | ERROR | skipped |  |  | 
| KEGGlincs 1.9.1 | Shana White , Mario Medvedovic | OK | OK | OK |  |  | 
| keggorthology 2.35.0 | VJ Carey | OK | OK | OK |  |  | 
| KEGGprofile 1.25.1 | Shilin Zhao | OK | OK | OK |  |  | 
| KEGGREST 1.23.0 | Bioconductor Package Maintainer | OK | OK | OK |  |  | 
| kimod 1.11.0 | M L Zingaretti | OK | OK | OK |  |  | 
| KinSwingR 1.1.3 | Ashley J. Waardenberg | OK | OK | OK |  |  | 
| kissDE 1.3.0 | Aurélie Siberchicot | OK | OK | OK |  |  | 
|  | 
|  |  | 
| lapmix 1.49.0 | Yann Ruffieux | OK | OK | OK |  |  | 
| LBE 1.51.0 | Cyril Dalmasso | OK | OK | OK |  |  | 
| ldblock 1.13.2 | VJ Carey | OK | OK | OK |  |  | 
| LEA 2.5.0 | Eric Frichot , Olivier Francois | OK | OK | OK |  |  | 
| LedPred 1.17.0 | Aitor Gonzalez | OK | OK | OK |  |  | 
| les 1.33.0 | Julian Gehring | OK | OK | OK |  |  | 
| levi 1.1.0 | Jose Luiz Rybarczyk Filho | OK | OK | OK |  |  | 
| lfa 1.13.0 | Wei Hao , John D. Storey | OK | OK | WARNINGS |  |  | 
| limma 3.39.14 | Gordon Smyth | OK | OK | OK |  |  | 
| limmaGUI 1.59.0 | Gordon Smyth | OK | OK | OK |  |  | 
| LINC 1.11.0 | Manuel Goepferich | OK | OK | OK |  |  | 
| LineagePulse 1.3.1 | David S Fischer | OK | OK | WARNINGS |  |  | 
| Linnorm 2.7.2 | Ken Shun Hang Yip | OK | OK | WARNINGS |  |  | 
| LiquidAssociation 1.37.0 | Yen-Yi Ho | OK | OK | OK |  |  | 
| lmdme 1.25.0 | Cristobal Fresno | OK | OK | OK |  |  | 
| LMGene 2.39.0 | Blythe Durbin-Johnson | OK | OK | OK |  |  | 
| LOBSTAHS 1.9.1 | James Collins | OK | OK | WARNINGS |  |  | 
| loci2path 1.3.0 | Tianlei Xu | OK | OK | OK |  |  | 
| logicFS 2.3.0 | Holger Schwender | OK | OK | OK |  |  | 
| logitT 1.41.0 | Tobias Guennel | OK | OK | OK |  |  | 
| Logolas 1.7.0 | Kushal Dey | OK | OK | OK |  |  | 
| lol 1.31.0 | Yinyin Yuan | OK | OK | OK |  |  | 
| LOLA 1.13.0 | Nathan Sheffield | OK | OK | OK |  |  | 
| LoomExperiment 1.1.7 | Bioconductor Package Maintainer | OK | OK | OK |  |  | 
| LowMACA 1.13.1 | Stefano de Pretis , Giorgio Melloni | OK | ERROR | skipped |  |  | 
| LPE 1.57.0 | Nitin Jain | OK | OK | OK |  |  | 
| LPEadj 1.43.0 | Carl Murie | OK | OK | OK |  |  | 
| lpNet 2.15.0 | Lars Kaderali | OK | OK | OK |  |  | 
| lpsymphony 1.11.0 | Vladislav Kim | OK | OK | WARNINGS |  |  | 
| LRBaseDbi 1.1.0 | Koki Tsuyuzaki | OK | OK | OK |  |  | 
| lumi 2.35.0 | Pan Du , Lei Huang , Gang Feng | OK | OK | WARNINGS |  |  | 
| LVSmiRNA 1.33.0 | Stefano Calza | OK | OK | WARNINGS |  |  | 
| LymphoSeq 1.11.0 | David Coffey | OK | OK | OK |  |  | 
|  | 
|  |  | 
| M3C 1.5.85 | Christopher John | OK | OK | OK |  |  | 
| M3D 1.17.0 | Tom Mayo | OK | OK | OK |  |  | 
| M3Drop 1.9.4 | Tallulah Andrews | OK | OK | OK |  |  | 
| maanova 1.53.0 | Keith Sheppard | OK | OK | OK |  |  | 
| macat 1.57.0 | Joern Toedling | OK | OK | WARNINGS |  |  | 
| maCorrPlot 1.53.0 | Alexander Ploner | OK | OK | OK |  |  | 
| MACPET 1.3.3 | Ioannis Vardaxis | OK | OK | OK |  |  | 
| made4 1.57.0 | Aedin Culhane | OK | OK | WARNINGS |  |  | 
| MADSEQ 1.9.0 | Yu Kong | OK | OK | OK |  |  | 
| maftools 1.9.30 | Anand Mayakonda | OK | OK | OK |  |  | 
| MAGeCKFlute 1.3.1 | Wubing Zhang | OK | OK | OK |  |  | 
| maigesPack 1.47.0 | Gustavo H. Esteves | OK | OK | OK |  |  | 
| MAIT 1.17.3 | Pol Sola-Santos | OK | OK | OK |  |  | 
| makecdfenv 1.59.0 | James W. MacDonald | OK | OK | OK |  |  | 
| MANOR 1.55.0 | Pierre Neuvial | OK | OK | OK |  |  | 
| manta 1.29.1 | Chris Berthiaume , Adrian Marchetti | OK | OK | OK |  |  | 
| MantelCorr 1.53.0 | Brian Steinmeyer | OK | OK | OK |  |  | 
| mAPKL 1.13.0 | Argiris Sakellariou | OK | OK | ERROR |  |  | 
| maPredictDSC 1.21.0 | Adi Laurentiu Tarca | OK | OK | OK |  |  | 
| mapscape 1.7.0 | Maia Smith | OK | OK | WARNINGS |  |  | 
| marray 1.61.0 | Yee Hwa (Jean) Yang | OK | OK | OK |  |  | 
| martini 1.3.1 | Hector Climente-Gonzalez | OK | OK | WARNINGS |  |  | 
| maser 1.1.0 | Diogo F.T. Veiga | OK | OK | OK |  |  | 
| maSigPro 1.55.0 | Maria Jose Nueda | OK | OK | OK |  |  | 
| maskBAD 1.27.0 | Michael Dannemann | OK | OK | OK |  |  | 
| MassArray 1.35.1 | Reid F. Thompson | OK | OK | OK |  |  | 
| massiR 1.19.0 | Sam Buckberry | OK | OK | OK |  |  | 
| MassSpecWavelet 1.49.1 | Pan Du | OK | OK | OK |  |  | 
| MAST 1.9.2 | Andrew McDavid | OK | OK | OK |  |  | 
| matchBox 1.25.0 | Luigi Marchionni , Anuj Gupta | OK | OK | OK |  |  | 
| MatrixRider 1.15.0 | Elena Grassi | OK | OK | OK |  |  | 
| matter 1.9.10 | Kylie A. Bemis | OK | OK | OK |  |  | 
| MaxContrastProjection 1.7.1 | Jan Sauer | OK | OK | OK |  |  | 
| MBAmethyl 1.17.0 | Tao Wang | OK | OK | OK |  |  | 
| MBASED 1.17.0 | Oleg Mayba | OK | OK | OK |  |  | 
| MBCB 1.37.0 | Jeff Allen | OK | OK | OK |  |  | 
| mBPCR 1.37.0 | P.M.V. Rancoita | OK | OK | OK |  |  | 
| MBttest 1.11.0 | Yuan-De Tan | OK | OK | OK |  |  | 
| mcaGUI 1.31.0 | Wade K. Copeland | OK | OK | WARNINGS |  |  | 
| MCbiclust 1.7.1 | Robert Bentham | OK | OK | ERROR |  |  | 
| MCRestimate 2.39.0 | Marc Johannes | OK | OK | OK |  |  | 
| mCSEA 1.3.4 | Jordi Martorell-Marugán | OK | OK | OK |  |  | 
| mdgsa 1.15.0 | David Montaner | OK | OK | OK |  |  | 
| mdp 1.3.0 | Helder Nakaya | OK | OK | OK |  |  | 
| mdqc 1.45.0 | Gabriela Cohen-Freue | OK | OK | OK |  |  | 
| MDTS 1.3.0 | Jack M.. Fu | OK | OK | OK |  |  | 
| MEAL 1.13.0 | Carlos Ruiz-Arenas | OK | OK | WARNINGS |  |  | 
| MeasurementError.cor 1.55.0 | Beiying Ding | OK | OK | OK |  |  | 
| MEDIPS 1.35.0 | Lukas Chavez | OK | OK | OK |  |  | 
| MEDME 1.43.0 | Mattia Pelizzola | OK | OK | WARNINGS |  |  | 
| MEIGOR 1.17.0 | Jose Egea | OK | OK | WARNINGS |  |  | 
| Melissa 0.99.9 | C. A. Kapourani | OK | OK | OK |  |  | 
| MergeMaid 2.55.0 | Xiaogang Zhong | OK | OK | WARNINGS |  |  | 
| Mergeomics 1.11.0 | Zeyneb Kurt | OK | OK | OK |  |  | 
| MeSHDbi 1.19.0 | Koki Tsuyuzaki | OK | OK | OK |  |  | 
| meshes 1.9.1 | Guangchuang Yu | OK | OK | OK |  |  | 
| meshr 1.19.0 | Koki Tsuyuzaki | OK | OK | OK |  |  | 
| messina 1.19.0 | Mark Pinese | OK | OK | OK |  |  | 
| metaArray 1.61.0 | Hyungwon Choi | OK | OK | OK |  |  | 
| Metab 1.17.1 | Raphael Aggio | OK | OK | OK |  |  | 
| metabomxtr 1.17.1 | Michael Nodzenski | OK | OK | OK |  |  | 
| MetaboSignal 1.13.0 | Andrea Rodriguez-Martinez | OK | OK | OK |  |  | 
| metaCCA 1.11.0 | Anna Cichonska | OK | OK | OK |  |  | 
| MetaCyto 1.5.1 | Zicheng Hu | OK | OK | OK |  |  | 
| metagene 2.15.1 | Charles Joly Beauparlant | OK | OK | OK |  |  | 
| metagenomeFeatures 2.3.4 | Nathan D. Olson | OK | OK | OK |  |  | 
| metagenomeSeq 1.25.3 | Joseph N. Paulson | OK | ERROR | skipped |  |  | 
| metahdep 1.41.0 | John R. Stevens | OK | OK | WARNINGS |  |  | 
| metaMS 1.19.1 | Ron Wehrens | OK | OK | OK |  |  | 
| MetaNeighbor 1.3.1 | Manthan Shah | ERROR | ERROR | skipped |  |  | 
| metaSeq 1.23.1 | Koki Tsuyuzaki | OK | OK | OK |  |  | 
| metaseqR 1.23.1 | Panagiotis Moulos | OK | OK | ERROR |  |  | 
| metavizr 1.7.1 | Hector Corrada Bravo | OK | OK | OK |  |  | 
| MetCirc 1.13.2 | Thomas Naake | OK | OK | OK |  |  | 
| methimpute 1.5.1 | Aaron Taudt | OK | OK | OK |  |  | 
| methInheritSim 1.5.1 | Pascal Belleau | OK | OK | OK |  |  | 
| MethPed 1.11.1 | Helena Carén | OK | OK | OK |  |  | 
| MethTargetedNGS 1.15.0 | Muhammad Ahmer Jamil | OK | OK | OK |  |  | 
| methVisual 1.35.0 | Arie Zackay | OK | OK | WARNINGS |  |  | 
| methyAnalysis 1.25.0 | Pan Du , Lei Huang , Gang Feng | OK | OK | WARNINGS |  |  | 
| MethylAid 1.17.0 | M. van Iterson | OK | OK | OK |  |  | 
| methylGSA 1.1.4 | Xu Ren | OK | OK | OK |  |  | 
| methylInheritance 1.7.2 | Astrid Deschenes | OK | OK | OK |  |  | 
| methylKit 1.9.3 | Altuna Akalin , Alexander Gosdschan | OK | OK | OK |  |  | 
| MethylMix 2.13.0 | Olivier Gevaert | OK | OK | OK |  |  | 
| methylMnM 1.21.0 | Yan Zhou | OK | OK | OK |  |  | 
| methylPipe 1.17.1 | Kamal Kishore | OK | OK | WARNINGS |  |  | 
| MethylSeekR 1.23.0 | Lukas Burger | OK | OK | OK |  |  | 
| methylumi 2.29.0 | Sean Davis | OK | OK | WARNINGS |  |  | 
| methyvim 1.5.0 | Nima Hejazi | OK | OK | OK |  |  | 
| MetID 1.1.0 | Zhenzhi Li | OK | OK | OK |  |  | 
| MetNet 1.1.1 | Thomas Naake | OK | OK | OK |  |  | 
| mfa 1.5.1 | Kieran Campbell | OK | OK | OK |  |  | 
| Mfuzz 2.43.0 | Matthias Futschik | OK | OK | OK |  |  | 
| MGFM 1.17.0 | Khadija El Amrani | OK | OK | OK |  |  | 
| MGFR 1.9.2 | Khadija El Amrani | OK | ERROR | skipped |  |  | 
| mgsa 1.31.0 | Sebastian Bauer | OK | OK | OK |  |  | 
| MiChip 1.37.0 | Jonathon Blake | OK | OK | OK |  |  | 
| microbiome 1.5.31 | Leo Lahti | OK | OK | WARNINGS |  |  | 
| microRNA 1.41.0 | "James F. Reid" | OK | OK | OK |  |  | 
| MIGSA 1.7.2 | Juan C. Rodriguez | OK | OK | OK |  |  | 
| mimager 1.7.0 | Aaron Wolen | OK | OK | OK |  |  | 
| MIMOSA 1.21.1 | Greg Finak | OK | OK | WARNINGS |  |  | 
| MineICA 1.23.0 | Anne Biton | OK | OK | OK |  |  | 
| minet 3.41.0 | Patrick E. Meyer | OK | OK | OK |  |  | 
| minfi 1.29.4 | Kasper Daniel Hansen | OK | OK | OK |  |  | 
| MinimumDistance 1.27.0 | Robert B Scharpf | ERROR | ERROR | skipped |  |  | 
| MiPP 1.55.0 | Sukwoo Kim | OK | OK | OK |  |  | 
| MIRA 1.5.1 | John Lawson | OK | OK | OK |  |  | 
| MiRaGE 1.25.1 | Y-h. Taguchi | OK | OK | OK |  |  | 
| miRBaseConverter 1.7.0 | Taosheng Xu | OK | OK | OK |  |  | 
| miRcomp 1.13.0 | Matthew N. McCall | OK | OK | WARNINGS |  |  | 
| mirIntegrator 1.13.0 | Diana Diaz | OK | OK | OK |  |  | 
| miRLAB 1.13.0 | Thuc Duy Le | OK | OK | OK |  |  | 
| miRmine 1.5.0 | Dusan Randjelovic | OK | OK | OK |  |  | 
| miRNAmeConverter 1.11.0 | Stefan J. Haunsberger | OK | OK | WARNINGS |  |  | 
| miRNApath 1.43.0 | James M. Ward | OK | OK | OK |  |  | 
| miRNAtap 1.17.0 | T. Ian Simpson | OK | OK | OK |  |  | 
| miRSM 1.1.3 | Junpeng Zhang | OK | OK | OK |  |  | 
| miRsponge 1.9.3 | Junpeng Zhang | OK | OK | OK |  |  | 
| miRspongeR 1.9.3 | Junpeng Zhang | OK | OK | OK |  |  | 
| Mirsynergy 1.19.0 | Yue Li | OK | OK | OK |  |  | 
| missMethyl 1.17.1 | Belinda Phipson | OK | OK | OK |  |  | 
| missRows 1.3.0 | Gonzalez Ignacio | OK | OK | OK |  |  | 
| mitoODE 1.21.1 | Gregoire Pau | OK | OK | OK |  |  | 
| mixOmics 6.7.1 | Kim-Anh Le Cao | OK | ERROR | skipped |  |  | 
| MLInterfaces 1.63.2 | V. Carey | OK | OK | OK |  |  | 
| mlm4omics 1.1.1 | Irene SL Zeng | OK | OK | OK |  |  | 
| MLP 1.31.0 | Tobias Verbeke | OK | OK | OK |  |  | 
| MLSeq 2.1.1 | Gokmen Zararsiz | OK | OK | OK |  |  | 
| MMDiff2 1.11.0 | Gabriele Schweikert | OK | OK | OK |  |  | 
| MmPalateMiRNA 1.33.0 | Guy Brock | OK | OK | OK |  |  | 
| MODA 1.9.0 | Dong Li | OK | OK | OK |  |  | 
| Modstrings 0.99.23 | Felix G.M. Ernst | OK | OK | OK |  |  | 
| MOFA 0.99.14 | Britta Velten | OK | ERROR | skipped |  |  | 
| mogsa 1.17.5 | Chen Meng | OK | OK | OK |  |  | 
| monocle 2.11.1 | Cole Trapnell | OK | OK | OK |  |  | 
| MoonlightR 1.9.0 | Antonio Colaprico | OK | ERROR | skipped |  |  | 
| MoPS 1.17.0 | Philipp Eser | OK | OK | OK |  |  | 
| mosaics 2.21.0 | Dongjun Chung | OK | OK | OK |  |  | 
| motifbreakR 1.13.0 | Simon Gert Coetzee | OK | ERROR | skipped |  |  | 
| motifcounter 1.7.0 | Wolfgang Kopp | OK | OK | OK |  |  | 
| MotifDb 1.25.0 | Paul Shannon | OK | OK | OK |  |  | 
| motifmatchr 1.5.0 | Alicia Schep | OK | OK | OK |  |  | 
| motifRG 1.27.0 | Zizhen Yao | OK | OK | OK |  |  | 
| motifStack 1.27.4 | Jianhong Ou | OK | OK | OK |  |  | 
| MotIV 1.39.0 | Eloi Mercier , Raphael Gottardo | OK | OK | WARNINGS |  |  | 
| MPFE 1.19.0 | Conrad Burden | OK | OK | OK |  |  | 
| mpra 1.5.4 | Leslie Myint | OK | OK | OK |  |  | 
| MPRAnalyze 1.1.1 | Tal Ashuach | OK | OK | OK |  |  | 
| msa 1.15.0 | Ulrich Bodenhofer | OK | OK | WARNINGS |  |  | 
| msgbsR 1.7.1 | Benjamin Mayne | OK | OK | WARNINGS |  |  | 
| MSGFgui 1.17.1 | Thomas Lin Pedersen | OK | OK | OK |  |  | 
| MSGFplus 1.17.1 | Thomas Lin Pedersen | OK | OK | OK |  |  | 
| msmsEDA 1.21.1 | Josep Gregori | OK | OK | OK |  |  | 
| msmsTests 1.21.1 | Josep Gregori i Font | OK | OK | OK |  |  | 
| MSnbase 2.9.3 | Laurent Gatto | OK | OK | OK |  |  | 
| MSnID 1.17.1 | Vlad Petyuk | OK | OK | OK |  |  | 
| msPurity 1.9.8 | Thomas N. Lawson | OK | OK | OK |  |  | 
| MSstats 3.15.1 | Meena Choi | OK | OK | OK |  |  | 
| MSstatsQC 2.1.1 | Eralp Dogu | OK | OK | OK |  |  | 
| MSstatsQCgui 1.3.1 | Eralp Dogu | OK | OK | OK |  |  | 
| MSstatsTMT 1.1.2 | Ting Huang | OK | OK | OK |  |  | 
| MTseeker 1.1.6 | Tim Triche | OK | OK | WARNINGS |  |  | 
| Mulcom 1.33.0 | Claudio Isella | ERROR | ERROR | skipped |  |  | 
| MultiAssayExperiment 1.9.18 | Marcel Ramos | OK | OK | OK |  |  | 
| multiClust 1.13.0 | Nathan Lawlor | OK | OK | OK |  |  | 
| MultiDataSet 1.11.0 | Carlos Ruiz-Arenas | OK | OK | OK |  |  | 
| multiHiCcompare 1.1.3 | John Stansfield | OK | OK | OK |  |  | 
| MultiMed 2.5.0 | Simina M. Boca | OK | OK | OK |  |  | 
| multiMiR 1.5.0 | Matt Mulvahill | OK | OK | OK |  |  | 
| multiOmicsViz 1.7.0 | Jing Wang | OK | OK | OK |  |  | 
| multiscan 1.43.0 | Mizanur Khondoker | OK | OK | OK |  |  | 
| multtest 2.39.0 | Katherine S. Pollard | OK | OK | WARNINGS |  |  | 
| muscle 3.25.0 | Alex T. Kalinka | OK | OK | WARNINGS |  |  | 
| MutationalPatterns 1.9.0 | Roel Janssen | OK | OK | OK |  |  | 
| MVCClass 1.57.0 | Elizabeth Whalen | OK | OK | OK |  |  | 
| MWASTools 1.7.0 | Andrea Rodriguez-Martinez , Rafael Ayala | OK | OK | OK |  |  | 
| mygene 1.19.0 | Adam Mark, Cyrus Afrasiabi, Chunlei Wu | OK | OK | OK |  |  | 
| myvariant 1.13.0 | Adam Mark, Chunlei Wu | OK | OK | OK |  |  | 
| mzID 1.21.1 | Thomas Lin Pedersen | OK | OK | OK |  |  | 
| mzR 2.17.2 | Steffen Neumann | OK | OK | WARNINGS |  |  | 
|  | 
|  |  | 
| NADfinder 1.7.3 | Jianhong Ou | OK | OK | OK |  |  | 
| NanoStringDiff 1.13.0 | tingting zhai ,hong wang | OK | OK | WARNINGS |  |  | 
| NanoStringQCPro 1.15.0 | Robert Ziman | OK | OK | OK |  |  | 
| NarrowPeaks 1.27.0 | Pedro Madrigal | OK | OK | OK |  |  | 
| NBSplice 1.1.7 | Gabriela Merino | OK | OK | OK |  |  | 
| ncdfFlow 2.29.3 | Mike Jiang | OK | OK | OK |  |  | 
| NCIgraph 1.31.0 | Laurent Jacob | OK | OK | OK |  |  | 
| ndexr 1.5.1 | Florian Auer | OK | OK | OK |  |  | 
| NeighborNet 1.1.0 | Sahar Ansari | OK | OK | OK |  |  | 
| nem 2.57.0 | Holger Froehlich | OK | OK | WARNINGS |  |  | 
| netbenchmark 1.15.0 | Pau Bellot | OK | OK | WARNINGS |  |  | 
| netbiov 1.17.0 | Shailesh tripathi | OK | OK | OK |  |  | 
| nethet 1.15.0 | Nicolas Staedler | OK | ERROR | skipped |  |  | 
| NetPathMiner 1.19.5 | Ahmed Mohamed | OK | OK | OK |  |  | 
| netprioR 1.9.1 | Fabian Schmich | OK | OK | OK |  |  | 
| netReg 1.7.1 | Simon Dirmeier | OK | OK | WARNINGS |  |  | 
| netresponse 1.43.0 | Leo Lahti | OK | OK | WARNINGS |  |  | 
| NetSAM 1.23.0 | Bing Zhang | OK | OK | OK |  |  | 
| netSmooth 1.3.0 | Jonathan Ronen | OK | OK | OK |  |  | 
| networkBMA 2.23.0 | Ka Yee Yeung | OK | OK | WARNINGS |  |  | 
| NGScopy1.17.2 | Xiaobei Zhao | ERROR | ERROR | skipped |  |  | 
| nnNorm 2.47.0 | Adi Laurentiu Tarca | OK | OK | OK |  |  | 
| NOISeq 2.27.1 | Sonia Tarazona | OK | OK | OK |  |  | 
| nondetects 2.13.0 | Valeriia Sherina | OK | OK | OK |  |  | 
| normalize450K 1.11.0 | Jonathan Alexander Heiss | OK | OK | OK |  |  | 
| NormalyzerDE 1.1.15 | Jakob Willforss | OK | OK | OK |  |  | 
| NormqPCR 1.29.0 | James Perkins | OK | OK | OK |  |  | 
| normr 1.9.0 | Johannes Helmuth | OK | OK | OK |  |  | 
| npGSEA 1.19.0 | Jessica Larson | OK | OK | OK |  |  | 
| NTW 1.33.0 | Yuanhua Liu | OK | OK | WARNINGS |  |  | 
| nucleoSim 1.11.0 | Astrid Deschenes | OK | OK | ERROR |  |  | 
| nucleR 2.15.0 | Ricard Illa | OK | OK | OK |  |  | 
| nuCpos 1.1.5 | Hiroaki Kato | OK | OK | OK |  |  | 
| NuPoP 1.33.0 | Ji-Ping Wang | OK | OK | OK |  |  | 
|  | 
|  |  | 
| occugene 1.43.0 | Oliver Will | OK | OK | OK |  |  | 
| OCplus 1.57.0 | Alexander Ploner | OK | OK | OK |  |  | 
| odseq 1.11.0 | José Jiménez | OK | OK | OK |  |  | 
| OGSA 1.13.0 | Michael F. Ochs | OK | OK | OK |  |  | 
| oligo 1.47.0 | Benilton Carvalho | OK | OK | WARNINGS |  |  | 
| oligoClasses 1.45.0 | Benilton Carvalho  and Robert Scharpf | OK | OK | ERROR |  |  | 
| OLIN 1.61.0 | Matthias Futschik | OK | OK | OK |  |  | 
| OLINgui 1.57.0 | Matthias Futschik | OK | OK | OK |  |  | 
| OmaDB 1.99.2 | Klara Kaleb , Adrian Altenhoff | OK | OK | ERROR |  |  | 
| omicade4 1.23.0 | Chen Meng | OK | OK | OK |  |  | 
| OmicCircos 1.21.0 | Ying Hu | OK | OK | OK |  |  | 
| omicplotR 1.3.0 | Daniel Giguere | OK | OK | OK |  |  | 
| omicRexposome 1.5.1 | Carles Hernandez-Ferrer | OK | OK | OK |  |  | 
| OmicsMarkeR 1.15.0 | Charles E. Determan Jr. | OK | OK | OK |  |  | 
| OMICsPCA 1.1.1 | Subhadeep Das | OK | OK | OK |  |  | 
| omicsPrint 1.3.1 | Davy Cats | OK | OK | OK |  |  | 
| Onassis 1.5.4 | Eugenia Galeota | OK | OK | OK |  |  | 
| oncomix 1.5.0 | Daniel Pique | OK | OK | OK |  |  | 
| OncoScore 1.11.0 | Luca De Sano | OK | OK | OK |  |  | 
| OncoSimulR 2.13.2 | Ramon Diaz-Uriarte | OK | OK | OK |  |  | 
| oneSENSE 1.5.1 | Yong Kee Tan | OK | OK | WARNINGS |  |  | 
| onlineFDR 1.1.1 | David Robertson | OK | OK | ERROR |  |  | 
| ontoProc 1.5.10 | VJ Carey | OK | OK | OK |  |  | 
| openCyto 1.21.3 | Mike Jiang | OK | OK | OK |  |  | 
| openPrimeR 1.5.1 | Matthias Döring | OK | OK | OK |  |  | 
| openPrimeRui 1.5.1 | Matthias Döring | OK | OK | OK |  |  | 
| oposSOM 2.1.1 | Henry Loeffler-Wirth | OK | OK | WARNINGS |  |  | 
| oppar 1.11.0 | Soroor Hediyeh zadeh | OK | OK | OK |  |  | 
| OPWeight 1.5.1 | Mohamad Hasan | OK | OK | OK |  |  | 
| OrderedList 1.55.0 | Claudio Lottaz | OK | OK | OK |  |  | 
| ORFik 1.3.13 | Kornel Labun | OK | ERROR | skipped |  |  | 
| Organism.dplyr 1.11.2 | Martin Morgan | OK | OK | OK |  |  | 
| OrganismDbi 1.25.0 | Biocore Data Team | OK | OK | WARNINGS |  |  | 
| OSAT 1.31.0 | Li Yan | OK | OK | OK |  |  | 
| Oscope 1.13.1 | Ning Leng | OK | OK | OK |  |  | 
| OTUbase 1.33.0 | Daniel Beck | OK | OK | OK |  |  | 
| OutlierD 1.47.0 | Sukwoo Kim | OK | OK | OK |  |  | 
| OUTRIDER 1.1.4 | Christian Mertes | OK | OK | OK |  |  | 
| OVESEG 0.99.2 | Lulu Chen | OK | OK | OK |  |  | 
|  | 
|  |  | 
| PAA 1.17.0 | Michael Turewicz , Martin Eisenacher | OK | OK | OK |  |  | 
| PADOG 1.25.0 | Adi Laurentiu Tarca | OK | OK | OK |  |  | 
| PAIRADISE 0.99.6 | Qiang Hu , Levon Demirdjian | OK | OK | OK |  |  | 
| paircompviz 1.21.0 | Michal Burda | OK | OK | OK |  |  | 
| pandaR 1.15.0 | Joseph N. Paulson , Dan Schlauch | OK | OK | OK |  |  | 
| panelcn.mops 1.5.0 | Gundula Povysil | OK | OK | OK |  |  | 
| panp 1.53.0 | Peter Warren | OK | OK | OK |  |  | 
| PANR 1.29.1 | Xin Wang | OK | OK | OK |  |  | 
| PanVizGenerator 1.11.0 | Thomas Lin Pedersen | OK | OK | OK |  |  | 
| PAPi 1.23.1 | Raphael Aggio | OK | OK | OK |  |  | 
| parglms 1.15.1 | VJ Carey | OK | OK | OK |  |  | 
| parody 1.41.0 | VJ Carey | OK | OK | OK |  |  | 
| Path2PPI 1.13.0 | Oliver Philipp | OK | OK | OK |  |  | 
| pathifier 1.21.0 | Assif Yitzhaky | OK | OK | OK |  |  | 
| PathNet 1.23.0 | Jason B. Smith | OK | OK | ERROR |  |  | 
| PathoStat 1.9.4 | Solaiappan Manimaran | OK | OK | ERROR |  |  | 
| pathprint 1.13.0 | Sokratis Kariotis | OK | OK | OK |  |  | 
| pathRender 1.51.0 | Vince Carey | OK | OK | OK |  |  | 
| pathVar 1.13.0 | Samuel Zimmerman | OK | OK | OK |  |  | 
| pathview 1.23.3 | Weijun Luo | OK | OK | WARNINGS |  |  | 
| pathwayPCA 0.99.5 | Gabriel Odom | OK | OK | OK |  |  | 
| PathwaySplice 1.7.1 | Aimin Yan | OK | OK | OK |  |  | 
| paxtoolsr 1.17.0 | Augustin Luna | OK | OK | OK |  |  | 
| Pbase 0.23.1 | Sebastian Gibb | OK | OK | OK |  |  | 
| pcaExplorer 2.9.5 | Federico Marini | OK | OK | OK |  |  | 
| pcaGoPromoter 1.27.0 | Morten Hansen | OK | OK | OK |  |  | 
| pcaMethods 1.75.1 | Henning Redestig | OK | OK | OK |  |  | 
| PCAN 1.11.0 | Matthew Page  and Patrice Godard | OK | OK | OK |  |  | 
| PCAtools 0.99.13 | Kevin Blighe , Myles Lewis | OK | OK | OK |  |  | 
| pcot2 1.51.0 | Sarah Song | OK | OK | OK |  |  | 
| PCpheno 1.45.0 | Nolwenn Le Meur | OK | OK | OK |  |  | 
| pcxn 2.5.0 | Sokratis Kariotis | OK | OK | OK |  |  | 
| pdInfoBuilder 1.47.1 | Benilton Carvalho | OK | OK | OK |  |  | 
| PECA 1.19.0 | Tomi Suomi | OK | OK | OK |  |  | 
| PepsNMR 1.1.3 | Manon Martin | OK | OK | OK |  |  | 
| pepStat 1.17.0 | Gregory C Imholte | OK | OK | OK |  |  | 
| pepXMLTab 1.17.1 | Xiaojing Wang | OK | OK | OK |  |  | 
| perturbatr 1.3.1 | Simon Dirmeier | OK | OK | OK |  |  | 
| PGA 1.13.1 | Bo Wen , Shaohang Xu | OK | OK | OK |  |  | 
| pgca 1.7.1 | Gabriela Cohen-Freue | OK | OK | OK |  |  | 
| PGSEA 1.57.0 | Karl Dykema | OK | OK | OK |  |  | 
| phantasus 1.3.4 | Alexey Sergushichev | OK | OK | WARNINGS |  |  | 
| PharmacoGx 1.13.0 | Benjamin Haibe-Kains | ERROR | ERROR | skipped |  |  | 
| phemd 0.99.37 | William S Chen | OK | OK | OK |  |  | 
| phenopath 1.7.2 | Kieran Campbell | OK | OK | OK |  |  | 
| phenoTest 1.31.0 | Evarist Planet | OK | OK | OK |  |  | 
| PhenStat 2.19.0 | Hamed Haselimashhadi | OK | OK | WARNINGS |  |  | 
| philr 1.9.1 | Justin Silverman | OK | OK | OK |  |  | 
| phosphonormalizer 1.7.0 | Sohrab Saraei | OK | OK | OK |  |  | 
| phyloseq 1.27.2 | Paul J. McMurdie | OK | OK | ERROR |  |  | 
| Pi 1.11.0 | Hai Fang | OK | OK | OK |  |  | 
| piano 1.23.0 | Leif Varemo | OK | OK | OK |  |  | 
| pickgene 1.55.0 | Brian S. Yandell | OK | OK | WARNINGS |  |  | 
| PICS 2.27.0 | Renan Sauteraud | OK | OK | WARNINGS |  |  | 
| Pigengene 1.9.18 | Habil Zare | OK | OK | OK |  |  | 
| PING 2.27.0 | Renan Sauteraud | OK | OK | WARNINGS |  |  | 
| pint 1.33.0 | Olli-Pekka Huovilainen | OK | OK | OK |  |  | 
| pkgDepTools 1.49.0 | Bioconductor Package Maintainer | OK | OK | OK |  |  | 
| plateCore 1.41.1 | Errol Strain | ERROR | ERROR | skipped |  |  | 
| plethy 1.21.0 | Daniel Bottomly | OK | OK | OK |  |  | 
| plgem 1.55.1 | Norman Pavelka | OK | OK | OK |  |  | 
| plier 1.53.0 | Crispin Miller | OK | OK | OK |  |  | 
| plotGrouper 1.1.1 | John D. Gagnon | OK | OK | OK |  |  | 
| PLPE 1.43.0 | Soo-heang Eo | OK | OK | OK |  |  | 
| plrs 1.23.0 | Gwenael G.R. Leday to | OK | OK | OK |  |  | 
| plw 1.43.0 | Magnus Astrand | OK | OK | OK |  |  | 
| plyranges 1.3.4 | Stuart Lee | OK | OK | OK |  |  | 
| pmm 1.15.0 | Anna Drewek | OK | OK | OK |  |  | 
| podkat 1.15.1 | Ulrich Bodenhofer | OK | OK | OK |  |  | 
| pogos 1.3.1 | VJ Carey | OK | OK | OK |  |  | 
| polyester 1.19.0 | Jack Fu , Jeff Leek | OK | OK | OK |  |  | 
| Polyfit 1.17.1 | Conrad Burden | OK | OK | OK |  |  | 
| POST 1.7.0 | Xueyuan Cao | OK | OK | WARNINGS |  |  | 
| PoTRA 0.99.83 | Valentin Dinu | OK | OK | WARNINGS |  |  | 
| PowerExplorer 1.3.1 | Xu Qiao | OK | OK | OK |  |  | 
| powerTCR 1.3.0 | Hillary Koch | OK | OK | OK |  |  | 
| PPInfer 1.9.1 | Dongmin Jung | OK | OK | OK |  |  | 
| ppiStats 1.49.0 | Bioconductor Package Maintainer | OK | OK | OK |  |  | 
| pqsfinder 1.99.6 | Jiri Hon | OK | OK | OK |  |  | 
| prada 1.59.1 | Florian Hahne | OK | OK | OK |  |  | 
| pram 0.99.18 | Peng Liu | OK | OK | OK |  |  | 
| prebs 1.23.1 | Karolis Uziela | OK | OK | OK |  |  | 
| PrecisionTrialDrawer 0.99.17 | Giorgio Melloni | OK | OK | OK |  |  | 
| PREDA 1.29.0 | Francesco Ferrari | OK | OK | OK |  |  | 
| predictionet 1.29.0 | Benjamin Haibe-Kains | OK | OK | OK |  |  | 
| preprocessCore 1.45.0 | Ben Bolstad | OK | OK | OK |  |  | 
| primirTSS 1.1.1 | Pumin Li | OK | OK | OK |  |  | 
| PrInCE 0.99.13 | Michael Skinnider | OK | OK | OK |  |  | 
| Prize 1.13.1 | Daryanaz Dargahi | OK | OK | OK |  |  | 
| proBAMr 1.17.1 | Xiaojing Wang | OK | OK | OK |  |  | 
| proBatch 0.99.25 | Chloe H. Lee | OK | OK | OK |  |  | 
| PROcess 1.59.1 | Xiaochun Li | OK | OK | OK |  |  | 
| procoil 2.11.0 | Ulrich Bodenhofer | OK | OK | OK |  |  | 
| ProCoNA1.21.1 | David L Gibbs | OK | ERROR | skipped |  |  | 
| proFIA 1.9.1 | Alexis Delabriere | OK | OK | WARNINGS |  |  | 
| profileScoreDist 1.11.0 | Paal O. Westermark | OK | OK | OK |  |  | 
| progeny 1.5.1 | Michael Schubert | OK | ERROR | skipped |  |  | 
| projectR 0.99.628 | Genevieve Stein-O'Brien | OK | OK | OK |  |  | 
| pRoloc 1.23.2 | Laurent Gatto | OK | ERROR | skipped |  |  | 
| pRolocGUI 1.17.0 | Laurent Gatto | OK | OK | OK |  |  | 
| PROMISE 1.35.0 | Stan Pounds , Xueyuan Cao | OK | OK | OK |  |  | 
| PROPER 1.15.1 | Hao Wu | OK | OK | WARNINGS |  |  | 
| PROPS 1.5.0 | Lichy Han | OK | OK | OK |  |  | 
| Prostar 1.15.17 | Samuel Wieczorek | OK | OK | OK |  |  | 
| proteinProfiles 1.23.0 | Julian Gehring | OK | OK | OK |  |  | 
| ProteomicsAnnotationHubData 1.13.0 | Laurent Gatto | OK | OK | OK |  |  | 
| ProteoMM 1.1.1 | Yuliya V Karpievitch | OK | OK | OK |  |  | 
| proteoQC 1.19.1 | Bo Wen | OK | OK | OK |  |  | 
| ProtGenerics 1.15.0 | Laurent Gatto | OK | OK | OK |  |  | 
| PSEA 1.17.0 | Alexandre Kuhn | OK | OK | OK |  |  | 
| psichomics 1.9.2 | Nuno Saraiva-Agostinho | OK | OK | OK |  |  | 
| PSICQUIC 1.21.0 | Paul Shannon | OK | ERROR | skipped |  |  | 
| psygenet2r 1.15.0 | Alba Gutierrez-Sacristan | OK | OK | WARNINGS |  |  | 
| puma 3.25.0 | Xuejun Liu | ERROR | ERROR | skipped |  |  | 
| PureCN 1.13.22 | Markus Riester | OK | OK | OK |  |  | 
| pvac 1.31.0 | Jun Lu , Pierre R. Bushel | OK | OK | OK |  |  | 
| pvca 1.23.0 | Jianying LI | OK | OK | OK |  |  | 
| Pviz 1.17.0 | Renan Sauteraud | OK | OK | OK |  |  | 
| PWMEnrich 4.19.0 | Robert Stojnic | OK | OK | OK |  |  | 
| pwOmics 1.15.0 | Maren Sitte | OK | OK | OK |  |  | 
|  | 
|  |  | 
| qckitfastq 0.99.22 | August Guang | OK | OK | OK |  |  | 
| qcmetrics 1.21.1 | Laurent Gatto | OK | OK | OK |  |  | 
| QDNAseq 1.19.0 | Daoud Sie | OK | OK | WARNINGS |  |  | 
| qpcrNorm 1.41.0 | Jessica Mar | OK | OK | OK |  |  | 
| qpgraph 2.17.0 | Robert Castelo | OK | OK | OK |  |  | 
| qPLEXanalyzer 1.1.3 | Ashley Sawle | OK | OK | OK |  |  | 
| qrqc 1.37.1 | Vince Buffalo | OK | OK | WARNINGS |  |  | 
| qsea 1.9.1 | Matthias Lienhard | OK | OK | OK |  |  | 
| qsmooth 0.99.10 | Stephanie C. Hicks | OK | ERROR | skipped |  |  | 
| QSutils 1.1.0 | Mercedes Guerrero-Murillo | OK | OK | OK |  |  | 
| QUALIFIER 1.27.1 | Mike Jiang | OK | OK | WARNINGS |  |  | 
| quantro 1.17.5 | Stephanie Hicks | OK | OK | OK |  |  | 
| quantsmooth 1.49.0 | Jan Oosting | OK | OK | OK |  |  | 
| QuartPAC 1.15.0 | Gregory Ryslik | OK | OK | OK |  |  | 
| QuasR 1.23.18 | Michael Stadler | OK | OK | OK |  |  | 
| QuaternaryProd 1.17.0 | Carl Tony Fakhry | OK | OK | OK |  |  | 
| QUBIC 1.11.0 | Yu Zhang | OK | OK | OK |  |  | 
| qusage 2.17.0 | Christopher Bolen | OK | OK | OK |  |  | 
| qvalue 2.15.0 | John D. Storey , Andrew J. Bass | OK | OK | OK |  |  | 
|  | 
|  |  | 
| R3CPET 1.15.0 | Mohamed Nadhir Djekidel | OK | OK | OK |  |  | 
| r3Cseq 1.29.1 | Supat Thongjuea  or | OK | OK | OK |  |  | 
| R453Plus1Toolbox 1.33.0 | Hans-Ulrich Klein | OK | OK | OK |  |  | 
| R4RNA 1.11.0 | Daniel Lai | OK | OK | OK |  |  | 
| RaggedExperiment 1.7.5 | Martin Morgan | OK | OK | OK |  |  | 
| rain 1.17.0 | Paul F. Thaben | OK | OK | OK |  |  | 
| rama 1.57.0 | Raphael Gottardo | OK | OK | WARNINGS |  |  | 
| ramwas 1.7.2 | Andrey A Shabalin | OK | OK | OK |  |  | 
| RandomWalkRestartMH 1.3.0 | Alberto Valdeolivas Urbelz | OK | OK | OK |  |  | 
| randPack 1.29.0 | Robert Gentleman | OK | OK | OK |  |  | 
| RankProd 3.9.0 | Francesco Del Carratore | OK | OK | OK |  |  | 
| RareVariantVis 2.11.0 | Tomasz Stokowy | OK | OK | OK |  |  | 
| Rariant 1.19.0 | Julian Gehring | OK | OK | WARNINGS |  |  | 
| RbcBook1 1.51.0 | Vince Carey | OK | OK | OK |  |  | 
| RBGL 1.59.5 | Bioconductor Package Maintainer | OK | OK | OK |  |  | 
| RBioinf 1.43.0 | Robert Gentleman | OK | OK | OK |  |  | 
| rBiopaxParser 2.23.0 | Frank Kramer | OK | OK | OK |  |  | 
| RBM 1.15.0 | Dongmei Li | OK | OK | OK |  |  | 
| Rbowtie 1.23.3 | Michael Stadler | OK | OK | OK |  |  | 
| Rbowtie2 1.5.0 | Zheng Wei | OK | OK | OK |  |  | 
| rbsurv 2.41.0 | Soo-heang Eo | OK | OK | OK |  |  | 
| Rcade 1.25.0 | Jonathan Cairns | OK | OK | OK |  |  | 
| RCAS 1.9.0 | Bora Uyar | OK | OK | OK |  |  | 
| RCASPAR 1.29.0 | Douaa Mugahid , Lars Kaderali | OK | OK | OK |  |  | 
| rcellminer 2.5.0 | Augustin Luna , Vinodh Rajapakse | OK | OK | OK |  |  | 
| rCGH 1.13.0 | Frederic Commo | OK | OK | OK |  |  | 
| Rchemcpp 2.21.1 | Guenter Klambauer | ERROR | ERROR | skipped |  |  | 
| RchyOptimyx 2.23.0 | Adrin Jalali , Nima Aghaeepour | OK | OK | OK |  |  | 
| RcisTarget 1.3.5 | Sara Aibar | OK | OK | OK |  |  | 
| RCM 0.99.1 | Joris Meys | OK | OK | OK |  |  | 
| Rcpi 1.19.2 | Nan Xiao | OK | OK | OK |  |  | 
| Rcwl 0.99.17 | Qiang Hu | OK | OK | OK |  |  | 
| RcwlPipelines 0.99.11 | Qiang Hu | OK | OK | OK |  |  | 
| RCy3 2.3.12 | Alexander Pico , Tanja Muetze , Paul Shannon | OK | OK | OK |  |  | 
| RCyjs 2.5.12 | Paul Shannon | OK | OK | WARNINGS |  |  | 
| RDAVIDWebService 1.21.0 | Cristobal Fresno | OK | OK | WARNINGS |  |  | 
| rDGIdb 1.9.0 | Thomas Thurnherr | OK | OK | OK |  |  | 
| Rdisop 1.43.3 | Steffen Neumann | OK | OK | OK |  |  | 
| RDRToolbox 1.33.1 | Christoph Bartenhagen | OK | OK | OK |  |  | 
| ReactomePA 1.27.0 | Guangchuang Yu | OK | OK | OK |  |  | 
| readat 1.9.0 | Richard Cotton | OK | OK | OK |  |  | 
| ReadqPCR 1.29.0 | James Perkins | OK | OK | OK |  |  | 
| reb 1.61.0 | Karl J. Dykema | OK | OK | OK |  |  | 
| REBET 1.1.0 | Bill Wheeler | OK | OK | OK |  |  | 
| recount 1.9.2 | Leonardo Collado-Torres | OK | OK | ERROR |  |  | 
| recoup 1.11.1 | Panagiotis Moulos | OK | OK | OK |  |  | 
| RedeR 1.31.0 | Mauro Castro | OK | OK | OK |  |  | 
| REDseq 1.29.0 | Lihua Julie Zhu | OK | OK | OK |  |  | 
| RefNet 1.19.0 | Paul Shannon | OK | ERROR | skipped |  |  | 
| RefPlus 1.53.0 | Kai-Ming Chang | OK | OK | OK |  |  | 
| regioneR 1.15.2 | Bernat Gel | OK | OK | OK |  |  | 
| regionReport 1.17.1 | Leonardo Collado-Torres | OK | OK | OK |  |  | 
| regsplice 1.9.1 | Lukas M. Weber | OK | OK | OK |  |  | 
| REMP 1.7.1 | Yinan Zheng | OK | ERROR | skipped |  |  | 
| Repitools 1.29.0 | Mark Robinson | OK | OK | OK |  |  | 
| ReportingTools 2.23.1 | Jason A. Hackney , Gabriel Becker | OK | OK | OK |  |  | 
| ReQON 1.29.0 | Christopher Cabanski | OK | OK | OK |  |  | 
| restfulSE 1.5.1 | Shweta Gopaulakrishnan | OK | OK | OK |  |  | 
| rexposome 1.5.0 | Carles Hernandez-Ferrer | OK | OK | OK |  |  | 
| rfPred 1.21.0 | Hugo Varet | OK | OK | OK |  |  | 
| rGADEM 2.31.0 | Arnaud Droit | OK | OK | OK |  |  | 
| RGalaxy 1.27.0 | Bioconductor Package Maintainer | OK | OK | OK |  |  | 
| Rgin 1.3.1 | Hector Climente-Gonzalez | OK | OK | WARNINGS |  |  | 
| RGMQL 1.3.0 | Simone Pallotta | OK | OK | OK |  |  | 
| RGraph2js 1.11.0 | Stephane Cano | OK | OK | OK |  |  | 
| Rgraphviz 2.27.0 | Kasper Daniel Hansen | OK | OK | WARNINGS |  |  | 
| rGREAT 1.15.1 | Zuguang Gu | OK | OK | OK |  |  | 
| RGSEA 1.17.0 | Chengcheng Ma | OK | OK | OK |  |  | 
| rgsepd 1.15.16 | Karl Stamm | OK | ERROR | skipped |  |  | 
| rhdf5 2.27.15 | Mike Smith | OK | OK | OK |  |  | 
| rhdf5client 1.5.1 | Samuela Pollack | OK | OK | WARNINGS |  |  | 
| Rhdf5lib 1.5.4 | Mike Smith | OK | OK | OK |  |  | 
| Rhisat2 0.99.6 | Charlotte Soneson | OK | OK | OK |  |  | 
| Rhtslib 1.15.5 | Bioconductor Package Maintainer | OK | OK | WARNINGS |  |  | 
| rHVDM 1.49.0 | Martino Barenco | OK | OK | ERROR |  |  | 
| RiboProfiling 1.13.0 | A. Popa | OK | OK | WARNINGS |  |  | 
| riboSeqR 1.17.0 | Thomas J. Hardcastle | OK | OK | OK |  |  | 
| RImmPort 1.11.0 | Zicheng Hu , Ravi Shankar | OK | OK | OK |  |  | 
| Ringo 1.47.0 | J. Toedling | OK | OK | OK |  |  | 
| RIPSeeker 1.23.0 | Yue Li | OK | OK | OK |  |  | 
| Risa 1.25.0 | Alejandra Gonzalez-Beltran | OK | OK | OK |  |  | 
| RITAN 1.7.0 | Michael Zimmermann | OK | OK | WARNINGS |  |  | 
| RIVER 1.7.0 | Yungil Kim | OK | OK | OK |  |  | 
| RJMCMCNucleosomes 1.7.0 | Astrid Deschênes | OK | OK | OK |  |  | 
| RLMM 1.45.0 | Nusrat Rabbee | OK | OK | OK |  |  | 
| Rmagpie 1.39.0 | Camille Maumet | OK | OK | OK |  |  | 
| RMassBank 2.11.2 | RMassBank at Eawag | OK | ERROR | skipped |  |  | 
| rMAT3.33.1 | Arnaud Droit  and Raphael Gottardo | OK | ERROR | skipped |  |  | 
| rmelting 0.99.7 | J. Aravind | OK | OK | OK |  |  | 
| RmiR 1.39.0 | Francesco Favero | OK | OK | OK |  |  | 
| Rmmquant 1.1.2 | Zytnicki Matthias | OK | OK | OK |  |  | 
| RNAdecay 1.3.1 | Reed Sorenson | OK | OK | WARNINGS |  |  | 
| RNAinteract 1.31.1 | Bernd Fischer | OK | OK | OK |  |  | 
| RNAither 2.31.1 | Lars Kaderali | OK | OK | OK |  |  | 
| RNAprobR 1.15.0 | Nikos Sidiropoulos | OK | OK | OK |  |  | 
| rnaseqcomp 1.13.0 | Mingxiang Teng | OK | OK | OK |  |  | 
| rnaSeqMap 2.41.1 | Michal Okoniewski | OK | OK | OK |  |  | 
| RNASeqPower 1.23.1 | Terry M Therneau | OK | OK | OK |  |  | 
| RNASeqR 1.1.3 | Kuan-Hao Chao | OK | OK | OK |  |  | 
| RnaSeqSampleSize 1.15.2 | Shilin Zhao | OK | OK | OK |  |  | 
| RnBeads 2.1.0 | Fabian Mueller | OK | OK | OK |  |  | 
| Rnits 1.17.2 | Dipen P. Sangurdekar | OK | OK | OK |  |  | 
| roar 1.19.0 | Elena Grassi | OK | OK | OK |  |  | 
| ROC 1.59.0 | Vince Carey | OK | OK | OK |  |  | 
| Roleswitch 1.21.0 | Yue Li | OK | ERROR | skipped |  |  | 
| rols 2.11.1 | Laurent Gatto | OK | OK | ERROR |  |  | 
| ROntoTools 2.11.0 | Calin Voichita | OK | OK | OK |  |  | 
| ropls 1.15.26 | Etienne A. Thevenot | OK | OK | OK |  |  | 
| ROTS 1.11.2 | Tomi Suomi | OK | OK | OK |  |  | 
| RPA 1.39.0 | Leo Lahti | OK | OK | OK |  |  | 
| RProtoBufLib 1.5.0 | Mike Jiang | OK | OK | WARNINGS |  |  | 
| RpsiXML 2.25.0 | Jitao David Zhang | OK | OK | OK |  |  | 
| rpx 1.19.1 | Laurent Gatto | OK | OK | OK |  |  | 
| Rqc 1.17.3 | Welliton Souza | OK | OK | OK |  |  | 
| rqt 1.9.0 | Ilya Y. Zhbannikov | OK | OK | OK |  |  | 
| rqubic 1.29.0 | Jitao David Zhang | OK | OK | WARNINGS |  |  | 
| rRDP 1.17.0 | Michael Hahsler | OK | OK | OK |  |  | 
| RRHO 1.23.0 | Jonathan Rosenblatt | OK | OK | OK |  |  | 
| Rsamtools 1.99.5 | Bioconductor Package Maintainer | OK | OK | OK |  |  | 
| rsbml 2.41.1 | Michael Lawrence | OK | OK | WARNINGS |  |  | 
| rScudo 0.99.6 | Matteo Ciciani | OK | OK | OK |  |  | 
| RSeqAn 1.3.2 | August Guang | OK | OK | OK |  |  | 
| rSFFreader 0.31.0 | Matt Settles | OK | OK | WARNINGS |  |  | 
| Rsubread 1.33.33 | Wei Shi , Yang Liao  and Gordon K Smyth | OK | OK | OK |  |  | 
| RSVSim 1.23.1 | Christoph Bartenhagen | OK | OK | OK |  |  | 
| rTANDEM 1.23.1 | Frederic Fournier | OK | OK | OK |  |  | 
| RTCA 1.35.1 | Jitao David Zhang | OK | OK | OK |  |  | 
| RTCGA 1.13.1 | Marcin Kosinski | OK | OK | OK |  |  | 
| RTCGAToolbox 2.13.9 | Marcel Ramos | OK | OK | OK |  |  | 
| RTN 2.7.3 | Mauro Castro | OK | OK | OK |  |  | 
| RTNduals 1.7.2 | Mauro Castro , Clarice Groeneveld | OK | OK | OK |  |  | 
| RTNsurvival 1.7.4 | Clarice Groeneveld , Mauro A. A. Castro | OK | OK | OK |  |  | 
| RTopper 1.29.0 | Luigi Marchionni | OK | OK | OK |  |  | 
| rtracklayer 1.43.3 | Michael Lawrence | OK | OK | WARNINGS |  |  | 
| Rtreemix 1.45.0 | Jasmina Bogojeska | OK | OK | OK |  |  | 
| rTRM 1.21.0 | Diego Diez | OK | OK | OK |  |  | 
| rTRMui 1.21.0 | Diego Diez | OK | OK | OK |  |  | 
| runibic 1.5.0 | Patryk Orzechowski | OK | OK | OK |  |  | 
| RUVcorr 1.15.0 | Saskia Freytag | OK | OK | OK |  |  | 
| RUVnormalize 1.17.0 | Laurent Jacob | OK | OK | OK |  |  | 
| RUVSeq 1.17.1 | Davide Risso | OK | OK | OK |  |  | 
| RVS 1.5.4 | Thomas Sherman | OK | OK | OK |  |  | 
| rWikiPathways 1.3.4 | Egon Willighagen , Alexander Pico | OK | OK | OK |  |  | 
|  | 
|  |  | 
| S4Vectors 0.21.22 | Bioconductor Package Maintainer | OK | OK | WARNINGS |  |  | 
| safe 3.23.0 | William T. Barry | OK | OK | OK |  |  | 
| sagenhaft 1.53.0 | Tim Beissbarth | OK | OK | OK |  |  | 
| SAGx 1.57.0 | Per Broberg, | OK | OK | OK |  |  | 
| samExploreR 1.7.1 | shailesh tripathi | OK | OK | OK |  |  | 
| sampleClassifier 1.7.1 | Khadija El Amrani | OK | OK | OK |  |  | 
| SamSPECTRAL 1.37.4 | Habil | OK | OK | WARNINGS |  |  | 
| sangerseqR 1.19.0 | Jonathon Hill | OK | OK | OK |  |  | 
| SANTA 2.21.0 | Alex J. Cornish | OK | OK | WARNINGS |  |  | 
| sapFinder 1.21.1 | Shaohang Xu , Bo Wen | OK | OK | OK |  |  | 
| savR 1.21.0 | R. Brent Calder | OK | OK | OK |  |  | 
| SBMLR 1.79.0 | Tomas Radivoyevitch | OK | OK | OK |  |  | 
| SC3 1.11.1 | Vladimir Kiselev | OK | OK | OK |  |  | 
| Scale4C 1.5.0 | Carolin Walter | OK | OK | OK |  |  | 
| SCAN.UPC 2.25.1 | Stephen R. Piccolo | OK | OK | OK |  |  | 
| scater 1.11.15 | Davis McCarthy | OK | OK | OK |  |  | 
| SCBN 1.1.1 | Yan Zhou | OK | OK | WARNINGS |  |  | 
| scDD 1.7.3 | Keegan Korthauer | OK | OK | OK |  |  | 
| scde 2.11.1 | Jean Fan | OK | OK | WARNINGS |  |  | 
| scds 0.99.4 | Dennis Kostka | OK | OK | OK |  |  | 
| scFeatureFilter 1.3.1 | Guillaume Devailly | OK | OK | OK |  |  | 
| scfind 1.5.1 | Vladimir Kiselev | OK | OK | OK |  |  | 
| ScISI 1.55.0 | Tony Chiang | OK | OK | OK |  |  | 
| scmap 1.5.1 | Vladimir Kiselev | OK | OK | OK |  |  | 
| scmeth 1.3.3 | Divy Kangeyan | OK | OK | OK |  |  | 
| SCnorm 1.5.7 | Rhonda Bacher | OK | OK | OK |  |  | 
| scone 1.7.1 | Michael Cole | OK | OK | OK |  |  | 
| Sconify 1.3.1 | Tyler J Burns | OK | OK | WARNINGS |  |  | 
| scoreInvHap 1.5.0 | Carlos Ruiz | OK | OK | WARNINGS |  |  | 
| scPipe 1.5.1 | Luyi Tian | OK | OK | OK |  |  | 
| scran 1.11.25 | Aaron Lun | OK | OK | OK |  |  | 
| scruff 1.1.6 | Zhe Wang | OK | ERROR | skipped |  |  | 
| scsR 1.19.0 | Andrea Franceschini , Roger Meier , Christian von Mering | OK | OK | OK |  |  | 
| scTensor 0.99.22 | Koki Tsuyuzaki | OK | OK | WARNINGS |  |  | 
| SDAMS 1.3.1 | Yuntong Li | OK | OK | OK |  |  | 
| segmentSeq 2.17.0 | Thomas J. Hardcastle | OK | OK | OK |  |  | 
| SELEX 1.15.0 | Harmen Bussemaker | OK | OK | OK |  |  | 
| SemDist 1.17.0 | Ian Gonzalez | OK | OK | OK |  |  | 
| semisup 1.7.1 | Armin Rauschenberger | OK | OK | OK |  |  | 
| SEPA 1.13.0 | Zhicheng Ji | OK | ERROR | skipped |  |  | 
| SEPIRA 1.3.0 | Yuting Chen | OK | OK | OK |  |  | 
| seq2pathway 1.15.0 | Xinan Yang  with contribution from Zhezhen Wang | OK | OK | ERROR |  |  | 
| SeqArray 1.23.9 | Xiuwen Zheng | OK | OK | OK |  |  | 
| seqbias 1.31.1 | Daniel Jones | OK | OK | OK |  |  | 
| seqCAT 1.5.3 | Erik Fasterius | OK | OK | OK |  |  | 
| seqCNA 1.29.0 | David Mosen-Ansorena | OK | OK | OK |  |  | 
| seqcombo 1.5.1 | Guangchuang Yu | OK | OK | OK |  |  | 
| SeqGSEA 1.23.4 | Xi Wang | OK | ERROR | skipped |  |  | 
| seqLogo 1.49.0 | Oliver Bembom | OK | OK | OK |  |  | 
| seqPattern 1.15.0 | Vanja Haberle | OK | OK | OK |  |  | 
| seqplots 1.21.1 | Przemyslaw Stempor | OK | ERROR | skipped |  |  | 
| seqsetvis 1.3.6 | Joseph R Boyd | OK | OK | OK |  |  | 
| SeqSQC 1.5.0 | Qian Liu | OK | OK | OK |  |  | 
| seqTools 1.17.0 | Wolfgang Kaisers | OK | OK | WARNINGS |  |  | 
| SeqVarTools 1.21.3 | Stephanie M. Gogarten | OK | OK | OK |  |  | 
| sesame 1.1.15 | Wanding Zhou | OK | OK | OK |  |  | 
| sevenbridges 1.13.5 | Nan Xiao | OK | OK | OK |  |  | 
| sevenC 1.3.0 | Jonas Ibn-Salem | OK | OK | OK |  |  | 
| SGSeq 1.17.2 | Leonard Goldstein | OK | OK | OK |  |  | 
| shinyMethyl 1.19.0 | Jean-Philippe Fortin | OK | OK | OK |  |  | 
| shinyTANDEM 1.21.1 | Frederic Fournier | OK | OK | OK |  |  | 
| ShortRead 1.41.0 | Bioconductor Package Maintainer | OK | OK | OK |  |  | 
| SIAMCAT 1.3.1 | Konrad Zych | OK | OK | OK |  |  | 
| SICtools 1.13.0 | Xiaobin Xing | OK | OK | WARNINGS |  |  | 
| sigaR 1.31.0 | Wessel N. van Wieringen | OK | OK | OK |  |  | 
| SigCheck 2.15.0 | Rory Stark | OK | OK | OK |  |  | 
| sigFeature 1.1.0 | Pijush Das Developer | OK | OK | OK |  |  | 
| SigFuge 1.21.0 | Patrick Kimes | OK | OK | OK |  |  | 
| siggenes 1.57.4 | Holger Schwender | OK | OK | OK |  |  | 
| sights 1.9.1 | Elika Garg | OK | OK | OK |  |  | 
| signeR 1.9.2 | Renan Valieris | OK | OK | OK |  |  | 
| signet 1.3.1 | Alexandre Gouy | OK | OK | OK |  |  | 
| sigPathway 1.51.0 | Weil Lai | OK | OK | OK |  |  | 
| sigsquared 1.15.0 | UnJin Lee | OK | OK | OK |  |  | 
| SIM 1.53.0 | Renee X. de Menezes | OK | OK | OK |  |  | 
| SIMAT 1.15.1 | M. R. Nezami Ranjbar | OK | OK | OK |  |  | 
| SimBindProfiles 1.21.0 | Bettina Fischer | OK | OK | OK |  |  | 
| SIMD 1.1.1 | Jiadi Zhu | OK | OK | WARNINGS |  |  | 
| similaRpeak 1.15.0 | Astrid Deschenes | OK | OK | OK |  |  | 
| SIMLR 1.9.1 | Luca De Sano | OK | OK | OK |  |  | 
| simpleaffy 2.59.0 | Crispin Miller | OK | OK | WARNINGS |  |  | 
| simulatorZ 1.17.0 | Yuqing Zhang | OK | OK | OK |  |  | 
| sincell 1.15.1 | Miguel Julia , Antonio Rausell | OK | OK | OK |  |  | 
| SingleCellExperiment 1.5.2 | Davide Risso | OK | OK | OK |  |  | 
| singleCellTK 1.3.7 | David Jenkins | OK | OK | OK |  |  | 
| singscore 1.3.4 | Dharmesh D. Bhuva | OK | OK | OK |  |  | 
| SISPA 1.13.0 | Bhakti Dwivedi | OK | OK | WARNINGS |  |  | 
| sitePath 0.99.24 | Chengyang Ji | OK | OK | OK |  |  | 
| sizepower 1.53.0 | Weiliang Qiu | OK | OK | OK |  |  | 
| skewr 1.15.0 | Ryan Putney | OK | OK | OK |  |  | 
| slalom 1.5.1 | Davis McCarthy | OK | OK | OK |  |  | 
| SLGI 1.43.0 | Nolwenn Le Meur | OK | OK | OK |  |  | 
| slingshot 1.1.2 | Kelly Street | OK | OK | OK |  |  | 
| slinky 1.1.1 | Eric J. Kort | OK | OK | OK |  |  | 
| SLqPCR 1.49.0 | Matthias Kohl | OK | OK | OK |  |  | 
| SMAD 0.99.8 | Qingzhou Zhang | OK | OK | OK |  |  | 
| SMAP 1.47.0 | Robin Andersson | OK | OK | OK |  |  | 
| SMITE 1.11.1 | Neil Ari Wijetunga | OK | OK | OK |  |  | 
| SNAGEE 1.23.0 | David Venet | OK | OK | OK |  |  | 
| snapCGH 1.53.0 | John Marioni | OK | OK | OK |  |  | 
| snm 1.31.0 | John D. Storey | OK | OK | OK |  |  | 
| SNPchip 2.29.0 | Robert Scharpf | OK | OK | ERROR |  |  | 
| SNPediaR 1.9.0 | David Montaner | OK | OK | OK |  |  | 
| SNPhood 1.13.0 | Christian Arnold | OK | OK | OK |  |  | 
| SNPRelate 1.17.2 | Xiuwen Zheng | OK | OK | OK |  |  | 
| snpStats 1.33.0 | David Clayton | OK | OK | OK |  |  | 
| soGGi 1.15.1 | Tom Carroll | OK | OK | WARNINGS |  |  | 
| SomaticSignatures 2.19.1 | Julian Gehring | OK | OK | OK |  |  | 
| SpacePAC 1.21.0 | Gregory Ryslik | OK | OK | OK |  |  | 
| sparseDOSSA 1.7.1 | Boyu Ren, Emma Schwager | OK | OK | OK |  |  | 
| sparsenetgls 1.1.1 | Irene Zeng | OK | OK | OK |  |  | 
| SparseSignatures 1.3.0 | Luca De Sano | OK | OK | OK |  |  | 
| SpatialCPie 0.99.101 | Joseph Bergenstraahle | OK | OK | OK |  |  | 
| specL 1.17.3 | Christian Panse | OK | OK | OK |  |  | 
| SpeCond 1.37.0 | Florence Cavalli | OK | OK | OK |  |  | 
| SpectralTAD 0.99.14 | Kellen Cresswell | OK | OK | OK |  |  | 
| SPEM 1.23.0 | Xinyi YANG | OK | OK | OK |  |  | 
| SPIA 2.35.0 | Adi Laurentiu Tarca | OK | OK | OK |  |  | 
| SpidermiR 1.13.3 | Claudia Cava | OK | OK | WARNINGS |  |  | 
| spikeLI 2.43.0 | Enrico Carlon | OK | OK | OK |  |  | 
| spkTools 1.39.0 | Matthew N McCall | OK | OK | OK |  |  | 
| splatter 1.7.2 | Luke Zappia | OK | OK | OK |  |  | 
| splicegear 1.55.0 | Laurent Gautier | OK | OK | OK |  |  | 
| spliceSites1.31.1 | Wolfgang Kaisers | ERROR | ERROR | skipped |  |  | 
| SplicingGraphs 1.23.3 | H. Pagès | OK | OK | WARNINGS |  |  | 
| splineTimeR 1.11.0 | Herbert Braselmann | OK | OK | OK |  |  | 
| SPLINTER 1.9.1 | Diana Low | OK | OK | OK |  |  | 
| splots 1.49.0 | Wolfgang Huber | OK | OK | OK |  |  | 
| SPONGE 1.5.0 | Markus List | OK | OK | ERROR |  |  | 
| spotSegmentation 1.57.0 | Chris Fraley | OK | OK | WARNINGS |  |  | 
| SQUADD 1.33.0 | Martial Sankar | OK | OK | OK |  |  | 
| SRAdb 1.45.0 | Jack Zhu | OK | OK | OK |  |  | 
| sRAP 1.23.0 | Charles Warden | OK | OK | WARNINGS |  |  | 
| SRGnet 1.9.0 | Isar Nassiri | OK | OK | OK |  |  | 
| srnadiff 1.3.1 | Matthias Zytnicki | OK | OK | OK |  |  | 
| sscore 1.55.0 | Richard Kennedy | OK | OK | OK |  |  | 
| sscu 2.13.0 | Yu Sun | OK | OK | WARNINGS |  |  | 
| sSeq 1.21.1 | Danni Yu | OK | OK | OK |  |  | 
| ssize 1.57.0 | Gregory R. Warnes | OK | OK | OK |  |  | 
| SSPA 2.23.1 | Maarten van Iterson | OK | OK | OK |  |  | 
| ssviz 1.17.1 | Diana Low | OK | OK | OK |  |  | 
| stageR 1.5.1 | Koen Van den Berge | OK | OK | WARNINGS |  |  | 
| STAN 2.11.0 | Rafael Campos-Martin | OK | OK | OK |  |  | 
| staRank 1.25.1 | Juliane Siebourg | OK | OK | OK |  |  | 
| StarBioTrek 1.9.1 | Claudia Cava | OK | OK | OK |  |  | 
| Starr 1.39.0 | Benedikt Zacher | OK | OK | OK |  |  | 
| STATegRa 1.19.0 | David Gomez-Cabrero , Núria Planell | OK | OK | OK |  |  | 
| statTarget 1.13.7 | Hemi Luan | OK | OK | OK |  |  | 
| stepNorm 1.55.0 | Yuanyuan Xiao | OK | OK | OK |  |  | 
| strandCheckR 1.1.1 | Thu-Hien To | OK | OK | OK |  |  | 
| Streamer 1.29.1 | Martin Morgan | OK | OK | OK |  |  | 
| STRINGdb 1.23.0 | Damian Szklarczyk | OK | OK | OK |  |  | 
| STROMA4 1.7.1 | Sadiq Saleh | OK | OK | OK |  |  | 
| Structstrings 0.99.9 | Felix GM Ernst | OK | OK | OK |  |  | 
| subSeq 1.13.1 | Andrew J. Bass , John D. Storey | OK | OK | OK |  |  | 
| SummarizedBenchmark 2.1.1 | Alejandro Reyes , Patrick Kimes | OK | OK | OK |  |  | 
| SummarizedExperiment 1.13.0 | Bioconductor Package Maintainer | OK | OK | OK |  |  | 
| supraHex 1.21.1 | Hai Fang | OK | OK | OK |  |  | 
| survcomp 1.33.0 | Benjamin Haibe-Kains , Markus Schroeder , Catharina Olsen | OK | OK | WARNINGS |  |  | 
| survtype 0.99.10 | Dongmin Jung | OK | OK | OK |  |  | 
| Sushi 1.21.0 | Douglas H Phanstiel | OK | OK | WARNINGS |  |  | 
| sva 3.31.1 | Jeffrey T. Leek , John D. Storey | OK | OK | OK |  |  | 
| SVAPLSseq 1.9.1 | Sutirtha Chakraborty | OK | OK | OK |  |  | 
| SVM2CRM 1.15.0 | Guidantonio Malagoli Tagliazucchi | OK | OK | WARNINGS |  |  | 
| SWATH2stats 1.13.5 | Peter Blattmann | OK | OK | OK |  |  | 
| SwathXtend 2.5.0 | Jemma Wu | OK | OK | WARNINGS |  |  | 
| swfdr 1.9.0 | Simina M. Boca , Jeffrey T. Leek | OK | OK | OK |  |  | 
| SwimR 1.21.0 | Randy Blakely | OK | OK | OK |  |  | 
| switchBox 1.19.0 | Bahman Afsari , Luigi Marchionni | OK | OK | WARNINGS |  |  | 
| switchde 1.9.1 | Kieran Campbell | OK | OK | OK |  |  | 
| synapter 2.7.1 | Laurent Gatto | OK | OK | OK |  |  | 
| synergyfinder 1.9.0 | Liye He | OK | OK | OK |  |  | 
| synlet 1.13.1 | Chunxuan Shao | OK | OK | OK |  |  | 
| systemPipeR 1.17.6 | Thomas Girke | OK | OK | OK |  |  | 
|  | 
|  |  | 
| TargetScore 1.21.0 | Yue Li | OK | OK | OK |  |  | 
| TargetSearch 1.39.2 | Alvaro Cuadros-Inostroza | OK | OK | OK |  |  | 
| TarSeqQC 1.13.1 | Gabriela Merino | OK | OK | OK |  |  | 
| TCC 1.23.2 | Jianqiang Sun | OK | OK | OK |  |  | 
| TCGAbiolinks 2.11.5 | Antonio Colaprico | OK | OK | WARNINGS |  |  | 
| TCGAbiolinksGUI 1.9.2 | Tiago C. Silva | OK | OK | OK |  |  | 
| TCGAutils 1.3.33 | Marcel Ramos | OK | OK | OK |  |  | 
| TCseq 1.7.1 | Mengjun Wu | ERROR | ERROR | skipped |  |  | 
| TDARACNE 1.33.0 | Zoppoli Pietro | OK | OK | OK |  |  | 
| tenXplore 1.5.1 | VJ Carey | OK | OK | OK |  |  | 
| TEQC 4.5.0 | Manuela Hummel | OK | OK | OK |  |  | 
| ternarynet 1.27.0 | Matthew N. McCall | OK | OK | OK |  |  | 
| TFARM 1.5.0 | Liuba Nausicaa Martino | OK | OK | OK |  |  | 
| TFBSTools 1.21.2 | Ge Tan | OK | OK | OK |  |  | 
| TFEA.ChIP 1.3.5 | Laura Puente Santamaría | OK | OK | ERROR |  |  | 
| TFHAZ 1.5.0 | Alberto Marchesi | OK | OK | OK |  |  | 
| TFutils 1.3.4 | Shweta Gopaulakrishnan | OK | OK | WARNINGS |  |  | 
| tigre 1.37.0 | Antti Honkela | OK | OK | ERROR |  |  | 
| tilingArray 1.61.0 | Zhenyu Xu | OK | OK | OK |  |  | 
| timecourse 1.55.0 | Yu Chuan Tai | OK | OK | OK |  |  | 
| timescape 1.7.0 | Maia Smith | OK | OK | WARNINGS |  |  | 
| TimeSeriesExperiment 1.1.4 | Lan Huong Nguyen | OK | OK | OK |  |  | 
| TIN 1.15.0 | Bjarne Johannessen | OK | OK | OK |  |  | 
| TissueEnrich 1.3.1 | Ashish Jain | OK | OK | OK |  |  | 
| TitanCNA 1.21.2 | Gavin Ha | OK | OK | WARNINGS |  |  | 
| tkWidgets 1.61.0 | J. Zhang | OK | OK | OK |  |  | 
| TMixClust 1.5.0 | Monica Golumbeanu | OK | OK | OK |  |  | 
| TNBC.CMS 0.99.10 | Doyeong Yu | OK | OK | OK |  |  | 
| TnT 1.5.0 | Jialin Ma | OK | OK | OK |  |  | 
| tofsims 1.11.1 | Lorenz Gerber | OK | OK | OK |  |  | 
| ToPASeq 1.17.1 | Ludwig Geistlinger | OK | OK | OK |  |  | 
| topconfects 0.99.5 | Paul Harrison | OK | OK | OK |  |  | 
| topdownr 1.5.6 | Sebastian Gibb | OK | OK | OK |  |  | 
| topGO 2.35.0 | Adrian Alexa | OK | OK | OK |  |  | 
| TPP 3.11.1 | Dorothee Childs | OK | OK | OK |  |  | 
| tracktables 1.17.0 | Tom Carroll | OK | OK | WARNINGS |  |  | 
| trackViewer 1.19.28 | Jianhong Ou | OK | OK | OK |  |  | 
| transcriptogramer 1.5.6 | Diego Morais | OK | OK | OK |  |  | 
| transcriptR 1.11.1 | Armen R. Karapetyan | OK | OK | OK |  |  | 
| transite 1.1.2 | Konstantin Krismer | OK | OK | OK |  |  | 
| tRanslatome 1.21.0 | Toma Tebaldi , Erik Dassi | OK | OK | OK |  |  | 
| TransView 1.27.2 | Julius Muller | OK | OK | OK |  |  | 
| traseR 1.13.0 | li chen | OK | OK | OK |  |  | 
| treeio 1.7.5 | Guangchuang Yu | OK | OK | OK |  |  | 
| trena 1.5.8 | Paul Shannon | OK | OK | ERROR |  |  | 
| Trendy 1.5.6 | Rhonda Bacher | OK | OK | WARNINGS |  |  | 
| triform 1.25.1 | Thomas Carroll | OK | OK | OK |  |  | 
| trigger 1.29.0 | John D. Storey | OK | OK | OK |  |  | 
| trio 3.21.9 | Holger Schwender | OK | OK | OK |  |  | 
| triplex 1.23.0 | Jiri Hon | OK | ERROR | skipped |  |  | 
| tRNA 1.1.2 | Felix GM Ernst | OK | OK | OK |  |  | 
| tRNAdbImport 1.1.1 | Felix GM Ernst | OK | OK | OK |  |  | 
| tRNAscanImport 1.3.2 | Felix GM Ernst | OK | OK | OK |  |  | 
| TRONCO 2.15.2 | Luca De Sano | OK | OK | OK |  |  | 
| TSCAN 1.21.0 | Zhicheng Ji | OK | OK | OK |  |  | 
| tspair 1.41.0 | Jeffrey T. Leek | OK | OK | OK |  |  | 
| TSRchitect 1.9.0 | R. Taylor Raborn | OK | OK | OK |  |  | 
| TSSi1.29.1 | Julian Gehring | OK | ERROR | skipped |  |  | 
| TTMap 1.5.0 | Rachel Jeitziner | OK | OK | OK |  |  | 
| TurboNorm 1.31.0 | Maarten van Iterson | OK | OK | OK |  |  | 
| TVTB 1.9.2 | Kevin Rue-Albrecht | OK | OK | OK |  |  | 
| tweeDEseq 1.29.1 | Juan R Gonzalez | OK | OK | OK |  |  | 
| twilight 1.59.0 | Stefanie Scheid | OK | OK | OK |  |  | 
| twoddpcr 1.7.0 | Anthony Chiu | OK | OK | OK |  |  | 
| tximeta 1.1.18 | Michael Love | OK | OK | OK |  |  | 
| tximport 1.11.7 | Michael Love | OK | OK | OK |  |  | 
| TxRegInfra 1.3.6 | VJ Carey | OK | OK | OK |  |  | 
| TypeInfo 1.49.0 | Duncan Temple Lang | OK | OK | OK |  |  | 
|  | 
|  |  | 
| Ularcirc 1.1.2 | David Humphreys | OK | OK | WARNINGS |  |  | 
| UNDO 1.25.0 | Niya Wang | OK | OK | OK |  |  | 
| unifiedWMWqPCR 1.19.0 | Joris Meys | OK | OK | OK |  |  | 
| UniProt.ws 2.23.0 | Marc Carlson | OK | OK | OK |  |  | 
| Uniquorn 2.3.5 | 'Raik Otto' | OK | OK | OK |  |  | 
| universalmotif 1.1.66 | Benjamin Jean-Marie Tremblay | OK | OK | OK |  |  | 
| uSORT 1.9.1 | Hao Chen | OK | OK | WARNINGS |  |  | 
|  | 
|  |  | 
| VanillaICE 1.45.0 | Robert Scharpf | ERROR | ERROR | skipped |  |  | 
| variancePartition 1.13.6 | Gabriel E. Hoffman | OK | OK | OK |  |  | 
| VariantAnnotation 1.29.25 | Valerie Obenchain | OK | OK | OK |  |  | 
| VariantFiltering 1.19.0 | Robert Castelo | OK | OK | OK |  |  | 
| VariantTools 1.25.1 | Michael Lawrence | OK | OK | WARNINGS |  |  | 
| vbmp 1.51.0 | Nicola Lama | OK | OK | OK |  |  | 
| VCFArray 0.99.18 | Qian Liu | OK | OK | OK |  |  | 
| Vega 1.31.0 | Sandro Morganella | OK | OK | OK |  |  | 
| VegaMC 3.21.0 | Sandro Morganella | OK | OK | OK |  |  | 
| vidger 1.3.1 | Brandon Monier | OK | OK | OK |  |  | 
| viper 1.17.1 | Mariano J Alvarez | OK | ERROR | skipped |  |  | 
| vsn 3.51.0 | Wolfgang Huber | OK | OK | OK |  |  | 
| vtpnet 0.23.0 | VJ Carey | OK | OK | OK |  |  | 
| vulcan 1.5.0 | Federico M. Giorgi | OK | OK | OK |  |  | 
|  | 
|  |  | 
| wateRmelon 1.27.0 | Leo | OK | OK | ERROR |  |  | 
| wavClusteR 2.17.1 | Federico Comoglio | OK | OK | OK |  |  | 
| waveTiling 1.25.0 | Kristof De Beuf | OK | OK | OK |  |  | 
| weaver 1.49.0 | Seth Falcon | OK | OK | WARNINGS |  |  | 
| webbioc 1.55.0 | Colin A. Smith | OK | OK | OK |  |  | 
| widgetTools 1.61.0 | Jianhua Zhang | OK | OK | OK |  |  | 
| wiggleplotr 1.7.1 | Kaur Alasoo | OK | OK | WARNINGS |  |  | 
| Wrench 1.1.0 | Hector Corrada Bravo | OK | OK | OK |  |  | 
|  | 
|  |  | 
| XBSeq 1.15.1 | Yuanhang Liu | OK | OK | OK |  |  | 
| xcms 3.5.1 | Steffen Neumann | OK | OK | OK |  |  | 
| XDE 2.29.0 | Robert Scharpf | OK | OK | WARNINGS |  |  | 
| Xeva 0.99.19 | Benjamin Haibe-Kains | ERROR | ERROR | skipped |  |  | 
| XINA 1.1.1 | Lang Ho Lee  and Sasha A. Singh | OK | OK | OK |  |  | 
| xmapbridge 1.41.0 | Chris Wirth | OK | OK | OK |  |  | 
| xps 1.43.0 | Christian Stratowa | OK | OK | OK |  |  | 
| XVector 0.23.2 | Hervé Pagès | OK | OK | WARNINGS |  |  | 
|  | 
|  |  | 
| yamss 1.9.1 | Leslie Myint | OK | OK | OK |  |  | 
| YAPSA 1.9.1 | Daniel Huebschmann | OK | OK | OK |  |  | 
| yaqcaffy 1.43.0 | Laurent Gatto | OK | OK | OK |  |  | 
| yarn 1.9.0 | Joseph N Paulson | OK | OK | OK |  |  | 
|  | 
|  |  | 
| zFPKM 1.5.1 | Ron Ammar | OK | OK | OK |  |  | 
| zinbwave 1.5.2 | Davide Risso | OK | OK | OK |  |  | 
| zlibbioc 1.29.0 | Bioconductor Package Maintainer | OK | OK | OK |  |  |