| Back to Multiple platform build/check report for BioC 3.9 | 
 | 
This page was generated on 2019-04-09 11:32:40 -0400 (Tue, 09 Apr 2019).
| Package 1130/1703 | Hostname | OS / Arch | INSTALL | BUILD | CHECK | BUILD BIN | ||||||
| OSAT 1.31.0 Li Yan 
 | malbec2 | Linux (Ubuntu 18.04.2 LTS) / x86_64 | OK | OK | [ OK ] |  | ||||||
| tokay2 | Windows Server 2012 R2 Standard / x64 | OK | OK | OK | OK |  | ||||||
| celaya2 | OS X 10.11.6 El Capitan / x86_64 | OK | OK | OK | OK |  | ||||||
| merida2 | OS X 10.11.6 El Capitan / x86_64 | OK | OK | OK | OK | 
| Package: OSAT | 
| Version: 1.31.0 | 
| Command: /home/biocbuild/bbs-3.9-bioc/R/bin/R CMD check --install=check:OSAT.install-out.txt --library=/home/biocbuild/bbs-3.9-bioc/R/library --no-vignettes --timings OSAT_1.31.0.tar.gz | 
| StartedAt: 2019-04-09 02:31:03 -0400 (Tue, 09 Apr 2019) | 
| EndedAt: 2019-04-09 02:31:39 -0400 (Tue, 09 Apr 2019) | 
| EllapsedTime: 35.5 seconds | 
| RetCode: 0 | 
| Status: OK | 
| CheckDir: OSAT.Rcheck | 
| Warnings: 0 | 
##############################################################################
##############################################################################
###
### Running command:
###
###   /home/biocbuild/bbs-3.9-bioc/R/bin/R CMD check --install=check:OSAT.install-out.txt --library=/home/biocbuild/bbs-3.9-bioc/R/library --no-vignettes --timings OSAT_1.31.0.tar.gz
###
##############################################################################
##############################################################################
* using log directory ‘/home/biocbuild/bbs-3.9-bioc/meat/OSAT.Rcheck’
* using R Under development (unstable) (2019-03-18 r76245)
* using platform: x86_64-pc-linux-gnu (64-bit)
* using session charset: UTF-8
* using option ‘--no-vignettes’
* checking for file ‘OSAT/DESCRIPTION’ ... OK
* checking extension type ... Package
* this is package ‘OSAT’ version ‘1.31.0’
* checking package namespace information ... OK
* checking package dependencies ... OK
* checking if this is a source package ... OK
* checking if there is a namespace ... OK
* checking for hidden files and directories ... OK
* checking for portable file names ... OK
* checking for sufficient/correct file permissions ... OK
* checking whether package ‘OSAT’ can be installed ... OK
* checking installed package size ... OK
* checking package directory ... OK
* checking ‘build’ directory ... OK
* checking DESCRIPTION meta-information ... OK
* checking top-level files ... OK
* checking for left-over files ... OK
* checking index information ... OK
* checking package subdirectories ... OK
* checking R files for non-ASCII characters ... OK
* checking R files for syntax errors ... OK
* checking whether the package can be loaded ... OK
* checking whether the package can be loaded with stated dependencies ... OK
* checking whether the package can be unloaded cleanly ... OK
* checking whether the namespace can be loaded with stated dependencies ... OK
* checking whether the namespace can be unloaded cleanly ... OK
* checking dependencies in R code ... OK
* checking S3 generic/method consistency ... OK
* checking replacement functions ... OK
* checking foreign function calls ... OK
* checking R code for possible problems ... NOTE
assign.sample.to.container: no visible global function definition for
  ‘head’
barplot.gExperimentSetup: no visible global function definition for
  ‘layout’
barplot.gExperimentSetup: no visible global function definition for
  ‘barplot’
barplot.gExperimentSetup: no visible global function definition for
  ‘gray’
barplot.gExperimentSetup: no visible global function definition for
  ‘points’
barplot.gExperimentSetup: no visible global function definition for
  ‘mtext’
multi.barplot: no visible global function definition for ‘layout’
multi.barplot: no visible global function definition for ‘barplot’
multi.barplot: no visible global function definition for ‘gray’
multi.barplot: no visible global function definition for ‘mtext’
show,gAssembly: no visible global function definition for ‘head’
show,gAssembly: no visible global function definition for ‘tail’
show,gContainer: no visible global function definition for ‘head’
show,gContainer: no visible global function definition for ‘tail’
show,gExperimentSetup: no visible global function definition for ‘head’
show,gExperimentSetup: no visible global function definition for ‘tail’
show,gPlate: no visible global function definition for ‘head’
show,gPlate: no visible global function definition for ‘tail’
show,gSample: no visible global function definition for ‘head’
show,gSample: no visible global function definition for ‘tail’
Undefined global functions or variables:
  barplot gray head layout mtext points tail
Consider adding
  importFrom("grDevices", "gray")
  importFrom("graphics", "barplot", "layout", "mtext", "points")
  importFrom("utils", "head", "tail")
to your NAMESPACE file.
* checking Rd files ... OK
* checking Rd metadata ... OK
* checking Rd cross-references ... OK
* checking for missing documentation entries ... OK
* checking for code/documentation mismatches ... OK
* checking Rd \usage sections ... OK
* checking Rd contents ... OK
* checking for unstated dependencies in examples ... OK
* checking contents of ‘data’ directory ... OK
* checking data for non-ASCII characters ... OK
* checking data for ASCII and uncompressed saves ... OK
* checking files in ‘vignettes’ ... OK
* checking examples ... OK
* checking for unstated dependencies in vignettes ... OK
* checking package vignettes in ‘inst/doc’ ... OK
* checking running R code from vignettes ... SKIPPED
* checking re-building of vignette outputs ... SKIPPED
* checking PDF version of manual ... OK
* DONE
Status: 1 NOTE
See
  ‘/home/biocbuild/bbs-3.9-bioc/meat/OSAT.Rcheck/00check.log’
for details.
OSAT.Rcheck/00install.out
############################################################################## ############################################################################## ### ### Running command: ### ### /home/biocbuild/bbs-3.9-bioc/R/bin/R CMD INSTALL OSAT ### ############################################################################## ############################################################################## * installing to library ‘/home/biocbuild/bbs-3.9-bioc/R/library’ * installing *source* package ‘OSAT’ ... ** using staged installation ** R ** data ** inst ** byte-compile and prepare package for lazy loading ** help *** installing help indices ** building package indices ** installing vignettes ** testing if installed package can be loaded from temporary location ** testing if installed package can be loaded from final location ** testing if installed package keeps a record of temporary installation path * DONE (OSAT)
OSAT.Rcheck/OSAT-Ex.timings
| name | user | system | elapsed | |
| BeadChip-class | 0.018 | 0.000 | 0.018 | |
| BeadPlate-class | 0.008 | 0.000 | 0.008 | |
| MSAroboticPlate-class | 0.314 | 0.001 | 0.331 | |
| QC | 1.331 | 0.000 | 1.334 | |
| create.optimized.setup | 1.335 | 0.003 | 1.343 | |
| example.setup | 0.043 | 0.004 | 0.048 | |
| gContainer-class | 0.020 | 0.004 | 0.025 | |
| gExperimentSetup-class | 0.072 | 0.000 | 0.072 | |
| gSample-class | 0.017 | 0.000 | 0.017 | |
| gSlide-class | 0.04 | 0.00 | 0.04 | |
| get.experiment.setup | 1.281 | 0.000 | 1.288 | |
| multi.barplot | 0.015 | 0.000 | 0.015 | |
| multi.chisq.test | 0.016 | 0.000 | 0.016 | |
| optimal.block | 2.252 | 0.000 | 2.269 | |
| optimal.shuffle | 1.180 | 0.008 | 1.204 | |