| Back to Multiple platform build/check report for BioC 3.9 | 
 | 
This page was generated on 2019-04-09 11:37:10 -0400 (Tue, 09 Apr 2019).
| Package 1182/1703 | Hostname | OS / Arch | INSTALL | BUILD | CHECK | BUILD BIN | ||||||
| PhenStat 2.19.0 Hamed Haselimashhadi 
 | malbec2 | Linux (Ubuntu 18.04.2 LTS) / x86_64 | OK | [ OK ] | WARNINGS |  | ||||||
| tokay2 | Windows Server 2012 R2 Standard / x64 | OK | OK | WARNINGS | OK |  | ||||||
| celaya2 | OS X 10.11.6 El Capitan / x86_64 | OK | OK | WARNINGS | OK |  | ||||||
| merida2 | OS X 10.11.6 El Capitan / x86_64 | OK | OK | WARNINGS | OK | 
| Package: PhenStat | 
| Version: 2.19.0 | 
| Command: /home/biocbuild/bbs-3.9-bioc/R/bin/R CMD build --keep-empty-dirs --no-resave-data PhenStat | 
| StartedAt: 2019-04-08 20:09:04 -0400 (Mon, 08 Apr 2019) | 
| EndedAt: 2019-04-08 20:09:35 -0400 (Mon, 08 Apr 2019) | 
| EllapsedTime: 30.5 seconds | 
| RetCode: 0 | 
| Status: OK | 
| PackageFile: PhenStat_2.19.0.tar.gz | 
| PackageFileSize: 727.6 KiB | 
##############################################################################
##############################################################################
###
### Running command:
###
###   /home/biocbuild/bbs-3.9-bioc/R/bin/R CMD build --keep-empty-dirs --no-resave-data PhenStat
###
##############################################################################
##############################################################################
* checking for file ‘PhenStat/DESCRIPTION’ ... OK
* preparing ‘PhenStat’:
* checking DESCRIPTION meta-information ... OK
* installing the package to build vignettes
* creating vignettes ... OK
Warning: ‘inst/doc’ files
    ‘PhenStat.Rnw’, ‘PhenStat.pdf’, ‘PhenStat.R’
  ignored as vignettes have been rebuilt.
  Run R CMD build with --no-build-vignettes to prevent rebuilding.
* checking for LF line-endings in source and make files and shell scripts
* checking for empty or unneeded directories
* building ‘PhenStat_2.19.0.tar.gz’