| Back to Multiple platform build/check report for BioC 3.9 | 
 | 
This page was generated on 2019-04-09 11:42:30 -0400 (Tue, 09 Apr 2019).
| Package 1524/1703 | Hostname | OS / Arch | INSTALL | BUILD | CHECK | BUILD BIN | ||||||
| soGGi 1.15.1 Tom Carroll 
 | malbec2 | Linux (Ubuntu 18.04.2 LTS) / x86_64 | OK | [ OK ] | WARNINGS |  | ||||||
| tokay2 | Windows Server 2012 R2 Standard / x64 | OK | OK | WARNINGS | OK |  | ||||||
| celaya2 | OS X 10.11.6 El Capitan / x86_64 | OK | OK | WARNINGS | OK |  | ||||||
| merida2 | OS X 10.11.6 El Capitan / x86_64 | OK | OK | WARNINGS | OK | 
| Package: soGGi | 
| Version: 1.15.1 | 
| Command: /home/biocbuild/bbs-3.9-bioc/R/bin/R CMD build --keep-empty-dirs --no-resave-data soGGi | 
| StartedAt: 2019-04-08 20:39:51 -0400 (Mon, 08 Apr 2019) | 
| EndedAt: 2019-04-08 20:41:27 -0400 (Mon, 08 Apr 2019) | 
| EllapsedTime: 95.7 seconds | 
| RetCode: 0 | 
| Status: OK | 
| PackageFile: soGGi_1.15.1.tar.gz | 
| PackageFileSize: 3.277 MiB | 
##############################################################################
##############################################################################
###
### Running command:
###
###   /home/biocbuild/bbs-3.9-bioc/R/bin/R CMD build --keep-empty-dirs --no-resave-data soGGi
###
##############################################################################
##############################################################################
* checking for file ‘soGGi/DESCRIPTION’ ... OK
* preparing ‘soGGi’:
* checking DESCRIPTION meta-information ... OK
* installing the package to build vignettes
* creating vignettes ... OK
Warning: ‘inst/doc’ files
    ‘soggi.Rnw’, ‘soggi.pdf’
  ignored as vignettes have been rebuilt.
  Run R CMD build with --no-build-vignettes to prevent rebuilding.
* checking for LF line-endings in source and make files and shell scripts
* checking for empty or unneeded directories
* looking to see if a ‘data/datalist’ file should be added
* building ‘soGGi_1.15.1.tar.gz’