| Back to Multiple platform build/check report for BioC 3.9 |
|
This page was generated on 2019-04-09 11:36:32 -0400 (Tue, 09 Apr 2019).
| Package 1040/1703 | Hostname | OS / Arch | INSTALL | BUILD | CHECK | BUILD BIN | ||||||
| MSstats 3.15.1 Meena Choi
| malbec2 | Linux (Ubuntu 18.04.2 LTS) / x86_64 | OK | OK | [ OK ] | |||||||
| tokay2 | Windows Server 2012 R2 Standard / x64 | OK | OK | OK | OK | |||||||
| celaya2 | OS X 10.11.6 El Capitan / x86_64 | OK | OK | OK | OK | |||||||
| merida2 | OS X 10.11.6 El Capitan / x86_64 | OK | OK | OK | OK |
| Package: MSstats |
| Version: 3.15.1 |
| Command: /home/biocbuild/bbs-3.9-bioc/R/bin/R CMD check --install=check:MSstats.install-out.txt --library=/home/biocbuild/bbs-3.9-bioc/R/library --no-vignettes --timings MSstats_3.15.1.tar.gz |
| StartedAt: 2019-04-09 02:13:33 -0400 (Tue, 09 Apr 2019) |
| EndedAt: 2019-04-09 02:24:34 -0400 (Tue, 09 Apr 2019) |
| EllapsedTime: 661.0 seconds |
| RetCode: 0 |
| Status: OK |
| CheckDir: MSstats.Rcheck |
| Warnings: 0 |
##############################################################################
##############################################################################
###
### Running command:
###
### /home/biocbuild/bbs-3.9-bioc/R/bin/R CMD check --install=check:MSstats.install-out.txt --library=/home/biocbuild/bbs-3.9-bioc/R/library --no-vignettes --timings MSstats_3.15.1.tar.gz
###
##############################################################################
##############################################################################
* using log directory ‘/home/biocbuild/bbs-3.9-bioc/meat/MSstats.Rcheck’
* using R Under development (unstable) (2019-03-18 r76245)
* using platform: x86_64-pc-linux-gnu (64-bit)
* using session charset: UTF-8
* using option ‘--no-vignettes’
* checking for file ‘MSstats/DESCRIPTION’ ... OK
* this is package ‘MSstats’ version ‘3.15.1’
* checking package namespace information ... OK
* checking package dependencies ... OK
* checking if this is a source package ... OK
* checking if there is a namespace ... OK
* checking for hidden files and directories ... OK
* checking for portable file names ... OK
* checking for sufficient/correct file permissions ... OK
* checking whether package ‘MSstats’ can be installed ... OK
* checking installed package size ... OK
* checking package directory ... OK
* checking ‘build’ directory ... OK
* checking DESCRIPTION meta-information ... OK
* checking top-level files ... OK
* checking for left-over files ... OK
* checking index information ... OK
* checking package subdirectories ... OK
* checking R files for non-ASCII characters ... OK
* checking R files for syntax errors ... OK
* checking whether the package can be loaded ... OK
* checking whether the package can be loaded with stated dependencies ... OK
* checking whether the package can be unloaded cleanly ... OK
* checking whether the namespace can be loaded with stated dependencies ... OK
* checking whether the namespace can be unloaded cleanly ... OK
* checking dependencies in R code ... OK
* checking S3 generic/method consistency ... OK
* checking replacement functions ... OK
* checking foreign function calls ... OK
* checking R code for possible problems ... NOTE
.iter.wls.fit.model: no visible binding for global variable ‘weight’
.runQuantification: no visible binding for global variable
‘datafeature’
.runQuantification: no visible binding for global variable ‘ount’
DIAUmpiretoMSstatsFormat: no visible binding for global variable
‘Selected_fragments’
DIAUmpiretoMSstatsFormat: no visible binding for global variable
‘Selected_peptides’
DIAUmpiretoMSstatsFormat: no visible binding for global variable ‘fea’
DIAUmpiretoMSstatsFormat: no visible binding for global variable
‘Intensity’
OpenMStoMSstatsFormat: no visible binding for global variable
‘missing.col’
OpenMStoMSstatsFormat: no visible binding for global variable ‘fea’
OpenMStoMSstatsFormat: no visible binding for global variable
‘Intensity’
OpenMStoMSstatsFormat: no visible binding for global variable
‘PeptideSequence’
OpenMStoMSstatsFormat: no visible binding for global variable
‘ProteinName’
OpenSWATHtoMSstatsFormat: no visible binding for global variable
‘missing.col’
OpenSWATHtoMSstatsFormat: no visible binding for global variable
‘aggr_Fragment_Annotation’
OpenSWATHtoMSstatsFormat: no visible binding for global variable
‘aggr_Peak_Area’
OpenSWATHtoMSstatsFormat: no visible binding for global variable ‘fea’
OpenSWATHtoMSstatsFormat: no visible binding for global variable
‘Intensity’
OpenSWATHtoMSstatsFormat: no visible binding for global variable
‘PeptideSequence’
OpenSWATHtoMSstatsFormat: no visible binding for global variable
‘ProteinName’
PDtoMSstatsFormat: no visible binding for global variable ‘fea’
PDtoMSstatsFormat: no visible binding for global variable ‘Intensity’
SkylinetoMSstatsFormat: no visible binding for global variable
‘PeptideSequence’
SkylinetoMSstatsFormat: no visible binding for global variable
‘ProteinName’
SkylinetoMSstatsFormat: no visible binding for global variable ‘fea’
SkylinetoMSstatsFormat: no visible binding for global variable
‘Intensity’
SpectronauttoMSstatsFormat: no visible binding for global variable
‘missing.col’
SpectronauttoMSstatsFormat: no visible binding for global variable
‘fea’
SpectronauttoMSstatsFormat: no visible binding for global variable
‘Intensity’
SpectronauttoMSstatsFormat: no visible binding for global variable
‘PeptideSequence’
SpectronauttoMSstatsFormat: no visible binding for global variable
‘ProteinName’
dataProcess: no visible binding for global variable ‘FEATURE’
dataProcess: no visible binding for global variable ‘ncount’
dataProcess: no visible binding for global variable ‘ABUNDANCE’
dataProcess: no visible binding for global variable ‘RUN’
dataProcess: no visible binding for global variable ‘FRACTION’
dataProcess: no visible binding for global variable ‘LABEL’
dataProcessPlots: no visible binding for global variable ‘RUN’
dataProcessPlots: no visible binding for global variable ‘ABUNDANCE’
dataProcessPlots: no visible binding for global variable ‘Name’
dataProcessPlots: no visible binding for global variable ‘analysis’
dataProcessPlots: no visible binding for global variable ‘Mean’
dataProcessPlots: no visible binding for global variable ‘ciw’
designSampleSizeClassificationPlots: no visible binding for global
variable ‘Train_size’
designSampleSizeClassificationPlots: no visible binding for global
variable ‘Protein_number’
groupComparisonPlots: no visible binding for global variable ‘Protein’
groupComparisonPlots: no visible binding for global variable ‘logFC’
groupComparisonPlots: no visible binding for global variable ‘ciw’
linear_quantlim: no visible binding for global variable ‘label’
modelBasedQCPlots: no visible binding for global variable ‘residual’
nonlinear_quantlim: no visible binding for global variable ‘label’
plot_quantlim: no visible binding for global variable ‘x’
plot_quantlim: no visible binding for global variable ‘y’
plot_quantlim: no visible binding for global variable ‘ymin’
plot_quantlim: no visible binding for global variable ‘ymax’
plot_quantlim: no visible binding for global variable ‘shape’
Undefined global functions or variables:
ABUNDANCE FEATURE FRACTION Intensity LABEL Mean Name PeptideSequence
Protein ProteinName Protein_number RUN Selected_fragments
Selected_peptides Train_size aggr_Fragment_Annotation aggr_Peak_Area
analysis ciw datafeature fea label logFC missing.col ncount ount
residual shape weight x y ymax ymin
* checking Rd files ... OK
* checking Rd metadata ... OK
* checking Rd cross-references ... OK
* checking for missing documentation entries ... OK
* checking for code/documentation mismatches ... OK
* checking Rd \usage sections ... OK
* checking Rd contents ... OK
* checking for unstated dependencies in examples ... OK
* checking contents of ‘data’ directory ... OK
* checking data for non-ASCII characters ... OK
* checking data for ASCII and uncompressed saves ... OK
* checking files in ‘vignettes’ ... OK
* checking examples ... OK
Examples with CPU or elapsed time > 5s
user system elapsed
designSampleSizeClassification 274.692 0.103 276.365
designSampleSizeClassificationPlots 268.500 0.056 270.005
dataProcessPlots 5.803 0.057 5.860
* checking for unstated dependencies in vignettes ... OK
* checking package vignettes in ‘inst/doc’ ... OK
* checking running R code from vignettes ... SKIPPED
* checking re-building of vignette outputs ... SKIPPED
* checking PDF version of manual ... OK
* DONE
Status: 1 NOTE
See
‘/home/biocbuild/bbs-3.9-bioc/meat/MSstats.Rcheck/00check.log’
for details.
MSstats.Rcheck/00install.out
############################################################################## ############################################################################## ### ### Running command: ### ### /home/biocbuild/bbs-3.9-bioc/R/bin/R CMD INSTALL MSstats ### ############################################################################## ############################################################################## * installing to library ‘/home/biocbuild/bbs-3.9-bioc/R/library’ * installing *source* package ‘MSstats’ ... ** using staged installation ** R ** data *** moving datasets to lazyload DB ** inst ** byte-compile and prepare package for lazy loading ** help *** installing help indices ** building package indices ** installing vignettes ** testing if installed package can be loaded from temporary location ** testing if installed package can be loaded from final location ** testing if installed package keeps a record of temporary installation path * DONE (MSstats)
MSstats.Rcheck/MSstats-Ex.timings
| name | user | system | elapsed | |
| DDARawData | 0.010 | 0.000 | 0.009 | |
| DDARawData.Skyline | 0.003 | 0.003 | 0.008 | |
| DIARawData | 0.004 | 0.000 | 0.004 | |
| DIAUmpiretoMSstatsFormat | 0.003 | 0.000 | 0.003 | |
| MaxQtoMSstatsFormat | 0.003 | 0.000 | 0.004 | |
| OpenMStoMSstatsFormat | 0 | 0 | 0 | |
| OpenSWATHtoMSstatsFormat | 0 | 0 | 0 | |
| PDtoMSstatsFormat | 0.000 | 0.004 | 0.004 | |
| ProgenesistoMSstatsFormat | 0.004 | 0.000 | 0.004 | |
| SRMRawData | 0.004 | 0.000 | 0.004 | |
| SkylinetoMSstatsFormat | 0.004 | 0.000 | 0.003 | |
| SpectronauttoMSstatsFormat | 0.003 | 0.000 | 0.003 | |
| SpikeInDataLinear | 0.412 | 0.000 | 0.412 | |
| SpikeInDataNonLinear | 0.052 | 0.000 | 0.052 | |
| dataProcess | 0.714 | 0.015 | 0.731 | |
| dataProcessPlots | 5.803 | 0.057 | 5.860 | |
| designSampleSize | 1.301 | 0.020 | 0.729 | |
| designSampleSizeClassification | 274.692 | 0.103 | 276.365 | |
| designSampleSizeClassificationPlots | 268.500 | 0.056 | 270.005 | |
| designSampleSizePlots | 1.153 | 0.020 | 0.582 | |
| groupComparison | 0.654 | 0.000 | 0.446 | |
| groupComparisonPlots | 4.370 | 0.020 | 3.819 | |
| linear_quantlim | 0.055 | 0.000 | 0.055 | |
| modelBasedQCPlots | 1.211 | 0.000 | 1.193 | |
| nonlinear_quantlim | 0.052 | 0.000 | 0.052 | |
| plot_quantlim | 0.053 | 0.000 | 0.053 | |
| quantification | 0.292 | 0.008 | 0.300 | |