| Back to Multiple platform build/check report for BioC 3.9 |
|
This page was generated on 2019-04-09 11:43:42 -0400 (Tue, 09 Apr 2019).
| Package 429/1703 | Hostname | OS / Arch | INSTALL | BUILD | CHECK | BUILD BIN | ||||||
| DiffLogo 2.7.0 Hendrik Treutler
| malbec2 | Linux (Ubuntu 18.04.2 LTS) / x86_64 | OK | OK | [ OK ] | |||||||
| tokay2 | Windows Server 2012 R2 Standard / x64 | OK | OK | OK | OK | |||||||
| celaya2 | OS X 10.11.6 El Capitan / x86_64 | OK | OK | OK | OK | |||||||
| merida2 | OS X 10.11.6 El Capitan / x86_64 | OK | OK | OK | OK |
| Package: DiffLogo |
| Version: 2.7.0 |
| Command: /home/biocbuild/bbs-3.9-bioc/R/bin/R CMD check --install=check:DiffLogo.install-out.txt --library=/home/biocbuild/bbs-3.9-bioc/R/library --no-vignettes --timings DiffLogo_2.7.0.tar.gz |
| StartedAt: 2019-04-09 00:05:21 -0400 (Tue, 09 Apr 2019) |
| EndedAt: 2019-04-09 00:06:10 -0400 (Tue, 09 Apr 2019) |
| EllapsedTime: 49.2 seconds |
| RetCode: 0 |
| Status: OK |
| CheckDir: DiffLogo.Rcheck |
| Warnings: 0 |
############################################################################## ############################################################################## ### ### Running command: ### ### /home/biocbuild/bbs-3.9-bioc/R/bin/R CMD check --install=check:DiffLogo.install-out.txt --library=/home/biocbuild/bbs-3.9-bioc/R/library --no-vignettes --timings DiffLogo_2.7.0.tar.gz ### ############################################################################## ############################################################################## * using log directory ‘/home/biocbuild/bbs-3.9-bioc/meat/DiffLogo.Rcheck’ * using R Under development (unstable) (2019-03-18 r76245) * using platform: x86_64-pc-linux-gnu (64-bit) * using session charset: UTF-8 * using option ‘--no-vignettes’ * checking for file ‘DiffLogo/DESCRIPTION’ ... OK * checking extension type ... Package * this is package ‘DiffLogo’ version ‘2.7.0’ * checking package namespace information ... OK * checking package dependencies ... OK * checking if this is a source package ... OK * checking if there is a namespace ... OK * checking for hidden files and directories ... OK * checking for portable file names ... OK * checking for sufficient/correct file permissions ... OK * checking whether package ‘DiffLogo’ can be installed ... OK * checking installed package size ... OK * checking package directory ... OK * checking ‘build’ directory ... OK * checking DESCRIPTION meta-information ... OK * checking top-level files ... OK * checking for left-over files ... OK * checking index information ... OK * checking package subdirectories ... OK * checking R files for non-ASCII characters ... OK * checking R files for syntax errors ... OK * checking whether the package can be loaded ... OK * checking whether the package can be loaded with stated dependencies ... OK * checking whether the package can be unloaded cleanly ... OK * checking whether the namespace can be loaded with stated dependencies ... OK * checking whether the namespace can be unloaded cleanly ... OK * checking dependencies in R code ... OK * checking S3 generic/method consistency ... OK * checking replacement functions ... OK * checking foreign function calls ... OK * checking R code for possible problems ... OK * checking Rd files ... OK * checking Rd metadata ... OK * checking Rd cross-references ... OK * checking for missing documentation entries ... OK * checking for code/documentation mismatches ... OK * checking Rd \usage sections ... OK * checking Rd contents ... OK * checking for unstated dependencies in examples ... OK * checking files in ‘vignettes’ ... OK * checking examples ... OK * checking for unstated dependencies in ‘tests’ ... OK * checking tests ... Running ‘testthat.R’ OK * checking for unstated dependencies in vignettes ... OK * checking package vignettes in ‘inst/doc’ ... OK * checking running R code from vignettes ... SKIPPED * checking re-building of vignette outputs ... SKIPPED * checking PDF version of manual ... OK * DONE Status: OK
DiffLogo.Rcheck/00install.out
############################################################################## ############################################################################## ### ### Running command: ### ### /home/biocbuild/bbs-3.9-bioc/R/bin/R CMD INSTALL DiffLogo ### ############################################################################## ############################################################################## * installing to library ‘/home/biocbuild/bbs-3.9-bioc/R/library’ * installing *source* package ‘DiffLogo’ ... ** using staged installation ** R ** inst ** byte-compile and prepare package for lazy loading ** help *** installing help indices ** building package indices ** installing vignettes ** testing if installed package can be loaded from temporary location ** testing if installed package can be loaded from final location ** testing if installed package keeps a record of temporary installation path * DONE (DiffLogo)
DiffLogo.Rcheck/tests/testthat.Rout
R Under development (unstable) (2019-03-18 r76245) -- "Unsuffered Consequences" Copyright (C) 2019 The R Foundation for Statistical Computing Platform: x86_64-pc-linux-gnu (64-bit) R is free software and comes with ABSOLUTELY NO WARRANTY. You are welcome to redistribute it under certain conditions. Type 'license()' or 'licence()' for distribution details. R is a collaborative project with many contributors. Type 'contributors()' for more information and 'citation()' on how to cite R or R packages in publications. Type 'demo()' for some demos, 'help()' for on-line help, or 'help.start()' for an HTML browser interface to help. Type 'q()' to quit R. > > proc.time() user system elapsed 0.192 0.034 0.213
DiffLogo.Rcheck/DiffLogo-Ex.timings
| name | user | system | elapsed | |
| ASN | 0.001 | 0.000 | 0.001 | |
| Alphabet | 0 | 0 | 0 | |
| DNA | 0.001 | 0.000 | 0.001 | |
| FULL_ALPHABET | 0.000 | 0.001 | 0.001 | |
| RNA | 0 | 0 | 0 | |
| calculatePvalue | 0.041 | 0.001 | 0.043 | |
| createDiffLogoObject | 0.099 | 0.004 | 0.130 | |
| diffLogo | 0.089 | 0.000 | 0.089 | |
| diffLogoFromPwm | 0.074 | 0.012 | 0.086 | |
| diffLogoTable | 1.926 | 0.024 | 1.950 | |
| diffLogoTableConfiguration | 0.001 | 0.000 | 0.001 | |
| differenceOfICs | 0.391 | 0.000 | 0.391 | |
| drawDiffLogoTable | 1.304 | 0.000 | 1.303 | |
| enrichDiffLogoObjectWithPvalues | 0.195 | 0.000 | 0.196 | |
| enrichDiffLogoTableWithPvalues | 3.283 | 0.000 | 3.283 | |
| extendPwmsFromAlignmentVector | 0.035 | 0.000 | 0.095 | |
| getAlphabetFromCharacters | 0 | 0 | 0 | |
| getAlphabetFromSequences | 0 | 0 | 0 | |
| getPwmFromAlignment | 0.512 | 0.008 | 0.558 | |
| getPwmFromAlignmentFile | 0.009 | 0.000 | 0.009 | |
| getPwmFromFastaFile | 0.019 | 0.000 | 0.030 | |
| getPwmFromFile | 0.003 | 0.000 | 0.004 | |
| getPwmFromHomerFile | 0.003 | 0.000 | 0.004 | |
| getPwmFromPfmOrJasparFile | 0.003 | 0.000 | 0.003 | |
| getPwmFromPwmFile | 0.001 | 0.003 | 0.004 | |
| getSequencesFromAlignmentFile | 0.001 | 0.000 | 0.001 | |
| getSequencesFromFastaFile | 0.002 | 0.000 | 0.002 | |
| informationContent | 0.099 | 0.005 | 0.103 | |
| lossOfAbsICDifferences | 0.083 | 0.003 | 0.088 | |
| multipleLocalPwmsAlignment | 0.100 | 0.000 | 0.099 | |
| normalizePWM | 0 | 0 | 0 | |
| normalizedDifferenceOfProbabilities | 0.08 | 0.00 | 0.08 | |
| prepareDiffLogoTable | 1.368 | 0.007 | 1.376 | |
| probabilities | 0.055 | 0.008 | 0.063 | |
| seqLogo | 0.065 | 0.000 | 0.065 | |
| shannonDivergence | 0.08 | 0.00 | 0.08 | |
| sumOfAbsICDifferences | 0.079 | 0.003 | 0.083 | |
| sumOfAbsProbabilityDifferences | 0.083 | 0.000 | 0.083 | |
| sumProbabilities | 0.063 | 0.000 | 0.063 | |