| Back to Multiple platform build/check report for BioC 3.9 |
|
This page was generated on 2019-04-09 11:51:15 -0400 (Tue, 09 Apr 2019).
| Package 1473/1703 | Hostname | OS / Arch | INSTALL | BUILD | CHECK | BUILD BIN | ||||||
| sesame 1.1.15 Wanding Zhou
| malbec2 | Linux (Ubuntu 18.04.2 LTS) / x86_64 | OK | [ OK ] | OK | |||||||
| tokay2 | Windows Server 2012 R2 Standard / x64 | OK | OK | OK | OK | |||||||
| celaya2 | OS X 10.11.6 El Capitan / x86_64 | OK | OK | OK | OK | |||||||
| merida2 | OS X 10.11.6 El Capitan / x86_64 | OK | ERROR | skipped | skipped |
| Package: sesame |
| Version: 1.1.15 |
| Command: /home/biocbuild/bbs-3.9-bioc/R/bin/R CMD build --keep-empty-dirs --no-resave-data sesame |
| StartedAt: 2019-04-08 22:09:55 -0400 (Mon, 08 Apr 2019) |
| EndedAt: 2019-04-08 22:16:46 -0400 (Mon, 08 Apr 2019) |
| EllapsedTime: 410.1 seconds |
| RetCode: 0 |
| Status: OK |
| PackageFile: sesame_1.1.15.tar.gz |
| PackageFileSize: 1.908 MiB |
############################################################################## ############################################################################## ### ### Running command: ### ### /home/biocbuild/bbs-3.9-bioc/R/bin/R CMD build --keep-empty-dirs --no-resave-data sesame ### ############################################################################## ############################################################################## * checking for file ‘sesame/DESCRIPTION’ ... OK * preparing ‘sesame’: * checking DESCRIPTION meta-information ... OK * installing the package to build vignettes * creating vignettes ... OK * checking for LF line-endings in source and make files and shell scripts * checking for empty or unneeded directories * building ‘sesame_1.1.15.tar.gz’