| Back to Multiple platform build/check report for BioC 3.9 |
|
This page was generated on 2019-04-09 11:22:35 -0400 (Tue, 09 Apr 2019).
| Package 894/1703 | Hostname | OS / Arch | INSTALL | BUILD | CHECK | BUILD BIN | ||||||
| makecdfenv 1.59.0 James W. MacDonald
| malbec2 | Linux (Ubuntu 18.04.2 LTS) / x86_64 | [ OK ] | OK | OK | |||||||
| tokay2 | Windows Server 2012 R2 Standard / x64 | OK | OK | OK | OK | |||||||
| celaya2 | OS X 10.11.6 El Capitan / x86_64 | OK | OK | OK | OK | |||||||
| merida2 | OS X 10.11.6 El Capitan / x86_64 | OK | OK | OK | OK |
| Package: makecdfenv |
| Version: 1.59.0 |
| Command: /home/biocbuild/bbs-3.9-bioc/R/bin/R CMD INSTALL makecdfenv |
| StartedAt: 2019-04-08 18:11:35 -0400 (Mon, 08 Apr 2019) |
| EndedAt: 2019-04-08 18:11:41 -0400 (Mon, 08 Apr 2019) |
| EllapsedTime: 5.4 seconds |
| RetCode: 0 |
| Status: OK |
##############################################################################
##############################################################################
###
### Running command:
###
### /home/biocbuild/bbs-3.9-bioc/R/bin/R CMD INSTALL makecdfenv
###
##############################################################################
##############################################################################
* installing to library ‘/home/biocbuild/bbs-3.9-bioc/R/library’
* installing *source* package ‘makecdfenv’ ...
** using staged installation
creating cache ./config.cache
checking how to run the C preprocessor... cc -E
checking for main in -lz... yes
checking for zlib.h... yes
checking if zlib version >= 1.1.3... yes
updating cache ./config.cache
creating ./config.status
creating src/Makevars
** libs
gcc -I"/home/biocbuild/bbs-3.9-bioc/R/include" -DNDEBUG -DHAVE_ZLIB=1 -I/usr/local/include -fpic -g -O2 -Wall -c read_cdffile.c -o read_cdffile.o
read_cdffile.c: In function ‘readQC’:
read_cdffile.c:576:7: warning: variable ‘typeQC’ set but not used [-Wunused-but-set-variable]
int typeQC;
^˜˜˜˜˜
read_cdffile.c: In function ‘openCDFfile’:
read_cdffile.c:340:7: warning: ignoring return value of ‘fgets’, declared with attribute warn_unused_result [-Wunused-result]
fgets(buffy, SIZE_LINE, affyFile->stream);
^˜˜˜˜˜˜˜˜˜˜˜˜˜˜˜˜˜˜˜˜˜˜˜˜˜˜˜˜˜˜˜˜˜˜˜˜˜˜˜˜
gcc -shared -L/home/biocbuild/bbs-3.9-bioc/R/lib -L/usr/local/lib -o makecdfenv.so read_cdffile.o -lz -L/home/biocbuild/bbs-3.9-bioc/R/lib -lR
installing to /home/biocbuild/bbs-3.9-bioc/R/library/00LOCK-makecdfenv/00new/makecdfenv/libs
** R
** inst
** byte-compile and prepare package for lazy loading
** help
*** installing help indices
** building package indices
** installing vignettes
** testing if installed package can be loaded from temporary location
** checking absolute paths in shared objects and dynamic libraries
** testing if installed package can be loaded from final location
** testing if installed package keeps a record of temporary installation path
* DONE (makecdfenv)