| Back to Multiple platform build/check report for BioC 3.9 | 
  | 
This page was generated on 2019-04-09 11:44:04 -0400 (Tue, 09 Apr 2019).
| Package 992/1703 | Hostname | OS / Arch | INSTALL | BUILD | CHECK | BUILD BIN | ||||||
| miRcomp 1.13.0 Matthew N. McCall 
  | malbec2 | Linux (Ubuntu 18.04.2 LTS) / x86_64 | OK | [ OK ] | WARNINGS | |||||||
| tokay2 | Windows Server 2012 R2 Standard / x64 | OK | OK | WARNINGS | OK | |||||||
| celaya2 | OS X 10.11.6 El Capitan / x86_64 | OK | OK | WARNINGS | OK | |||||||
| merida2 | OS X 10.11.6 El Capitan / x86_64 | OK | OK | WARNINGS | OK | 
| Package: miRcomp | 
| Version: 1.13.0 | 
| Command: /home/biocbuild/bbs-3.9-bioc/R/bin/R CMD build --keep-empty-dirs --no-resave-data miRcomp | 
| StartedAt: 2019-04-08 20:53:55 -0400 (Mon, 08 Apr 2019) | 
| EndedAt: 2019-04-08 20:54:53 -0400 (Mon, 08 Apr 2019) | 
| EllapsedTime: 57.3 seconds | 
| RetCode: 0 | 
| Status: OK | 
| PackageFile: miRcomp_1.13.0.tar.gz | 
| PackageFileSize: 3.215 MiB | 
############################################################################## ############################################################################## ### ### Running command: ### ### /home/biocbuild/bbs-3.9-bioc/R/bin/R CMD build --keep-empty-dirs --no-resave-data miRcomp ### ############################################################################## ############################################################################## * checking for file ‘miRcomp/DESCRIPTION’ ... OK * preparing ‘miRcomp’: * checking DESCRIPTION meta-information ... OK * installing the package to build vignettes * creating vignettes ... OK * checking for LF line-endings in source and make files and shell scripts * checking for empty or unneeded directories * looking to see if a ‘data/datalist’ file should be added * building ‘miRcomp_1.13.0.tar.gz’